Workbook

Sheet New Prices
A1: # | B1: First Name | C1: Second Name | D1: Original Price | E1: New Price | F1: Games Played | G1: Batting Points | J1: Bowling Points | L1: Fielding Points | N1: Total Points | O1: Points per Million | P1: Points per Game | Q1: Season Estimate
G2: Not Out | H2: Runs | I2: Ducks | J2: Maidens | K2: Wickets | L2: Catches | M2: Run Outs
A3: 1 | B3: James | C3: Ashby | D3: 7 | E3: =SUM(Q3)/100 -> 9.81 | F3: 4 | G3: 0 | H3: 79 | I3: 0 | J3: 0 | K3: 0 | L3: 1 | M3: 0 | N3: 218 | O3: 31.142857 | P3: 54.5 | Q3: =SUM(P3)*18 -> 981
A4: 2 | B4: Josh | C4: Bastow | E4: 6
A5: 3 | B5: Mark | C5: Bird | D5: 7.23 | E5: =SUM(Q5)/100 -> 12.6225 | F5: 8 | G5: 1 | H5: 143 | I5: 1 | J5: 1 | K5: 5 | L5: 3 | M5: 0 | N5: 561 | O5: 77.593361 | P5: 70.125 | Q5: =SUM(P5)*18 -> 1262.25
A6: 4 | B6: Tony | C6: Bird | D6: 15.32 | E6: =SUM(Q6)/100 -> 19.04 | F6: 9 | G6: 2 | H6: 6 | I6: 2 | J6: 25 | K6: 27 | L6: 2 | M6: 0 | N6: 952 | O6: 62.140992 | P6: 105.77778 | Q6: =SUM(P6)*18 -> 1904
A7: 5 | B7: Paul | C7: Browning | D7: 6.81 | E7: =SUM(Q7)/100 -> 7.32 | F7: 9 | G7: 1 | H7: 58 | I7: 2 | J7: 0 | K7: 0 | L7: 4 | M7: 4 | N7: 366 | O7: 53.744493 | P7: 40.666667 | Q7: =SUM(P7)*18 -> 732
A8: 6 | B8: Charlie | C8: Bryant | D8: 4 | E8: 4 | F8: 0 | G8: 0 | H8: 0 | I8: 0 | J8: 0 | K8: 0 | L8: 0 | M8: 0 | N8: 0 | O8: 0
A9: 7 | B9: Fletcher | C9: Callaghan | E9: 6 | Q9: =SUM(P9)*18 -> 0
A10: 8 | B10: Thomas | C10: Caunce | E10: 6 | Q10: =SUM(P10)*18 -> 0
A11: 9 | B11: Russ | C11: Coleman | D11: 6 | E11: =SUM(Q11)/100 -> 5.7 | F11: 9 | G11: 0 | H11: 95 | I11: 3 | J11: 0 | K11: 0 | L11: 0 | M11: 1 | N11: 285 | O11: 47.5 | P11: 31.666667 | Q11: =SUM(P11)*18 -> 570
A12: 10 | B12: Ash | C12: Davis | D12: 4 | E12: 4 | F12: 0 | G12: 0 | H12: 0 | I12: 0 | J12: 0 | K12: 0 | L12: 0 | M12: 0 | N12: 0 | O12: 0
A13: 11 | B13: Ben | C13: Garratt | E13: 6 | Q13: =SUM(P13)*18 -> 0
A14: 12 | B14: Gareth | C14: Goddard | D14: 8.36 | E14: =SUM(Q14)/100 -> 13.2 | F14: 9 | G14: 0 | H14: 205 | I14: 0 | J14: 0 | K14: 0 | L14: 6 | M14: 2 | N14: 660 | O14: 78.947368 | P14: 73.333333 | Q14: =SUM(P14)*18 -> 1320
A15: 13 | B15: Matt | C15: Golby | D15: 6.2 | E15: 4 | F15: 0 | G15: 0 | H15: 0 | I15: 0 | J15: 0 | K15: 0 | L15: 0 | M15: 0 | N15: 0 | O15: 0
A16: 14 | B16: James | C16: Goodwin | D16: 6.23 | E16: =SUM(Q16)/100 -> 5.88 | F16: 3 | G16: 0 | H16: 34 | I16: 0 | J16: 0 | K16: 0 | L16: 0 | M16: 0 | N16: 98 | O16: 15.730337 | P16: 32.666667 | Q16: =SUM(P16)*18 -> 588
A17: 15 | B17: Dan | C17: Harris | D17: 6 | E17: =SUM(Q17)/100 -> 8.25 | F17: 6 | G17: 0 | H17: 70 | I17: 1 | J17: 0 | K17: 0 | L17: 4 | M17: 0 | N17: 275 | O17: 45.833333 | P17: 45.833333 | Q17: =SUM(P17)*18 -> 825
A18: 16 | B18: Alex | C18: Harvey-Jones | D18: 12.51 | E18: =SUM(Q18)/100 -> 14.79 | F18: 6 | G18: 1 | H18: 44 | I18: 1 | J18: 9 | K18: 11 | L18: 1 | M18: 0 | N18: 493 | O18: 39.408473 | P18: 82.166667 | Q18: =SUM(P18)*18 -> 1479
A19: 17 | B19: Will | C19: Hodgson | D19: 6 | E19: =SUM(Q19)/100 -> 11.43 | F19: 6 | G19: 1 | H19: 118 | I19: 2 | J19: 0 | K19: 1 | L19: 2 | M19: 1 | N19: 381 | O19: 63.5 | P19: 63.5 | Q19: =SUM(P19)*18 -> 1143
A20: 18 | B20: Matt | C20: Irons | D20: 8.85 | E20: =SUM(Q20)/100 -> 10.152 | F20: 5 | G20: 0 | H20: 31 | I20: 0 | J20: 2 | K20: 4 | L20: 3 | M20: 0 | N20: 282 | O20: 31.864407 | P20: 56.4 | Q20: =SUM(P20)*18 -> 1015.2
A21: 19 | B21: Liam | C21: Knight | D21: 6 | E21: =SUM(Q21)/100 -> 9.072 | F21: 5 | G21: 0 | H21: 101 | I21: 0 | J21: 0 | K21: 0 | L21: 0 | M21: 0 | N21: 252 | O21: 42 | P21: 50.4 | Q21: =SUM(P21)*18 -> 907.2
A22: 20 | B22: Ryan | C22: Knight | D22: 12.4 | E22: =SUM(Q22)/100 -> 10.92 | F22: 9 | G22: 0 | H22: 153 | I22: 2 | J22: 0 | K22: 0 | L22: 7 | M22: 1 | N22: 546 | O22: 44.032258 | P22: 60.666667 | Q22: =SUM(P22)*18 -> 1092
A23: 21 | B23: Jason | C23: Kruger | D23: 12.96 | E23: =SUM(Q23)/100 -> 8.67 | F23: 6 | G23: 0 | H23: 22 | I23: 2 | J23: 11 | K23: 4 | L23: 1 | M23: 1 | N23: 289 | O23: 22.299383 | P23: 48.166667 | Q23: =SUM(P23)*18 -> 867
A24: 22 | B24: Nick | C24: Lester | D24: 10.34 | E24: =SUM(Q24)/100 -> 14.32 | F24: 9 | G24: 2 | H24: 13 | I24: 0 | J24: 10 | K24: 18 | L24: 4 | M24: 0 | N24: 716 | O24: 69.245648 | P24: 79.555556 | Q24: =SUM(P24)*18 -> 1432
A25: 23 | B25: Adam | C25: Longley | D25: 6 | E25: =SUM(Q25)/100 -> 4.64 | F25: 9 | G25: 0 | H25: 51 | I25: 4 | J25: 0 | K25: 0 | L25: 3 | M25: 0 | N25: 232 | O25: 38.666667 | P25: 25.777778 | Q25: =SUM(P25)*18 -> 464
A26: 24 | B26: Chris | C26: Mason | D26: 5 | E26: =SUM(Q26)/100 -> 16.0875 | F26: 8 | G26: 2 | H26: 15 | I26: 0 | J26: 15 | K26: 18 | L26: 3 | M26: 0 | N26: 715 | O26: 143 | P26: 89.375 | Q26: =SUM(P26)*18 -> 1608.75
A27: 25 | B27: Dan | C27: McLaughlin | D27: 13.48 | E27: =SUM(Q27)/100 -> 22.7 | F27: 9 | G27: 2 | H27: 250 | I27: 1 | J27: 1 | K27: 13 | L27: 10 | M27: 0 | N27: 1135 | O27: 84.198813 | P27: 126.11111 | Q27: =SUM(P27)*18 -> 2270
A28: 26 | B28: Matt | C28: Morrissey | D28: 7.2 | E28: =SUM(Q28)/100 -> 7.3575 | F28: 8 | G28: 0 | H28: 106 | I28: 1 | J28: 0 | K28: 0 | L28: 2 | M28: 0 | N28: 327 | O28: 45.416667 | P28: 40.875 | Q28: =SUM(P28)*18 -> 735.75
A29: 27 | B29: Keith | C29: Parsons | E29: 4
A30: 28 | B30: Dave | C30: Patrick | D30: 4 | E30: =SUM(Q30)/100 -> 9.48 | F30: 3 | G30: 1 | H30: 59 | I30: 0 | J30: 0 | K30: 0 | L30: 0 | M30: 0 | N30: 158 | O30: 39.5 | P30: 52.666667 | Q30: =SUM(P30)*18 -> 948
A31: 29 | B31: Frankie | C31: Perkin | D31: 6 | E31: =SUM(Q31)/100 -> 14.112 | F31: 5 | G31: 1 | H31: 51 | I31: 1 | J31: 6 | K31: 5 | L31: 4 | M31: 0 | N31: 392 | O31: 65.333333 | P31: 78.4 | Q31: =SUM(P31)*18 -> 1411.2
A32: 30 | B32: Connor | C32: Price | D32: 4 | E32: 4 | F32: 0 | G32: 0 | H32: 0 | I32: 0 | J32: 0 | K32: 0 | L32: 0 | M32: 0 | N32: 0 | O32: 0
A33: 31 | B33: Jack | C33: Quennell | D33: 6 | E33: =SUM(Q33)/100 -> 8.72 | F33: 9 | G33: 0 | H33: 103 | I33: 0 | J33: 0 | K33: 0 | L33: 7 | M33: 0 | N33: 436 | O33: 72.666667 | P33: 48.444444 | Q33: =SUM(P33)*18 -> 872
A34: 32 | B34: Roy | C34: Quennell | D34: 6 | E34: =SUM(Q34)/100 -> 4.68 | F34: 2 | G34: 0 | H34: 6 | I34: 0 | J34: 0 | K34: 0 | L34: 0 | M34: 1 | N34: 52 | O34: 8.6666667 | P34: 26 | Q34: =SUM(P34)*18 -> 468
A35: 33 | B35: Jason | C35: Roberts | D35: 6 | E35: =SUM(Q35)/100 -> 17.28 | F35: 1 | G35: 0 | H35: 43 | I35: 0 | J35: 0 | K35: 0 | L35: 0 | M35: 0 | N35: 96 | O35: 16 | P35: 96 | Q35: =SUM(P35)*18 -> 1728
A36: 34 | B36: Tom | C36: Robinson | D36: 6 | E36: =SUM(Q36)/100 -> 6.14 | F36: 9 | G36: 4 | H36: 46 | I36: 0 | J36: 2 | K36: 3 | L36: 0 | M36: 0 | N36: 307 | O36: 51.166667 | P36: 34.111111 | Q36: =SUM(P36)*18 -> 614
A37: 35 | B37: Paul | C37: Smith | E37: 6 | Q37: =SUM(P37)*18 -> 0
A38: 36 | B38: Tom | C38: Smyth | D38: 13.51 | E38: =SUM(Q38)/100 -> 12.735 | F38: 8 | G38: 2 | H38: 33 | I38: 2 | J38: 13 | K38: 13 | L38: 1 | M38: 0 | N38: 566 | O38: 41.894893 | P38: 70.75 | Q38: =SUM(P38)*18 -> 1273.5
A39: 37 | B39: Henry | C39: Swallow | D39: 8.35 | E39: =SUM(Q39)/100 -> 15.36 | F39: 6 | G39: 1 | H39: 211 | I39: 0 | J39: 0 | K39: 0 | L39: 1 | M39: 0 | N39: 512 | O39: 61.317365 | P39: 85.333333 | Q39: =SUM(P39)*18 -> 1536
A40: 38 | B40: Gareth | C40: Tompkins | D40: 11.02 | E40: 4 | F40: 0 | G40: 0 | H40: 0 | I40: 0 | J40: 0 | K40: 0 | L40: 0 | M40: 0 | N40: 0 | O40: 0
A41: 39 | B41: Phil | C41: Whiteman | D41: 4 | E41: 4 | F41: 0 | G41: 0 | H41: 0 | I41: 0 | J41: 0 | K41: 0 | L41: 0 | M41: 0 | N41: 0 | O41: 0

Sheet Table
B2: Pos. | C2: Team | D2: Manager | E2: Pts.
B3: 1 | C3: Highway to the Grooner Zone | D3: Dan McLaughlin | E3: =SUM(DM!L38) -> 7210
B4: 2 | C4: Erics Eleven | D4: Nick Lester | E4: =SUM(NL!L38) -> 7187
B5: 3 | C5: Ali & Will Macs Best XI | D5: Ali & Will McLaughlin | E5: =SUM(AWM!L38) -> 7090
B6: 4 | C6: Carpe Globulum | D6: Paul Browning | E6: =SUM(PB!L38) -> 7053
B7: 5 | C7: Gooders Goodie Bags | D7: James Goodwin | E7: =SUM(JG!L38) -> 7043
B8: 6 | C8: No Pants XI | D8: Sam McLaughlin | E8: =SUM(SM!L38) -> 6842
B9: 7 | C9: Strathcarnage XI | D9: Gareth Goddard | E9: =SUM(GG!L38) -> 6806
B10: 8 | C10: Batty Boys | D10: Matt Morrissey | E10: =SUM(MM!L38) -> 6632
B11: 9 | C11: Pints Make Prizes | D11: Phil Whiteman #1 | E11: =SUM('PW1'!L38) -> 6488
B12: 10 | C12: Victorious Secrets | D12: Adam Longley | E12: =SUM(AL!L38) -> 6238
B13: 11 | C13: NFR | D13: Tony Bird | E13: =SUM(TB!L38) -> 6066
B14: 12 | C14: Cogenhoe Catastrophes | D14: Ellen Bird | E14: =SUM(EB!L38) -> 5939
B15: 13 | C15: Football Bingo | D15: Phil Whiteman #2 | E15: =SUM('PW2'!L38) -> 5517
B16: 14 | C16: Denton Aware of Yardley Inbreds (DAYI) | D16: Russ Coleman | E16: =SUM('RC'!L38) -> 5249
B17: 15 | C17: Hard Terra Firma | D17: Matt Irons | E17: =SUM(MI!L38) -> 5065
B18: 16 | C18: Smokies XI | D18: Tom Robinson | E18: =SUM(TR!L38) -> 5014
B19: 17 | C19: Frankfields | D19: Frankie Perkins | E19: =SUM(FP!L38) -> 4976

Sheet Master
A1: First Name | B1: Second Name | C1: Price | D1: Games | E1: Batting Points | H1: Bowling Points | J1: Fielding Points | L1: Points | M1: Points per Million | N1: Points per Game
E2: Not Out | F2: Runs | G2: Ducks | H2: Maidens | I2: Wickets | J2: Catches | K2: Run Outs
A3: James | B3: Ashby | C3: 7 | D3: =SUM(D41,D79,D117,D155,D193,D231,D269,D307,D345,D383,D421,D459,D497,D535,D573,D611,D649,D687) -> 4 | E3: =SUM(E41,E79,E117,E155,E193,E231,E269,E307,E345,E383,E421,E459,E497,E535,E573,E611,E649,E687) -> 0 | F3: =SUM(F41,F79,F117,F155,F193,F231,F269,F307,F345,F383,F421,F459,F497,F535,F573,F611,F649,F687) -> 79 | G3: =SUM(G41,G79,G117,G155,G193,G231,G269,G307,G345,G383,G421,G459,G497,G535,G573,G611,G649,G687) -> 0 | H3: =SUM(H41,H79,H117,H155,H193,H231,H269,H307,H345,H383,H421,H459,H497,H535,H573,H611,H649,H687) -> 0 | I3: =SUM(I41,I79,I117,I155,I193,I231,I269,I307,I345,I383,I421,I459,I497,I535,I573,I611,I649,I687) -> 0 | J3: =SUM(J41,J79,J117,J155,J193,J231,J269,J307,J345,J383,J421,J459,J497,J535,J573,J611,J649,J687) -> 1 | K3: =SUM(K41,K79,K117,K155,K193,K231,K269,K307,K345,K383,K421,K459,K497,K535,K573,K611,K649,K687) -> 0 | L3: =(D3*10)+(E3*10)+(F3*2)+(H3*5)+(I3*25)+(J3*20)+(K3*20)-(G3*5) -> 218 | M3: =L3/C3 -> 31.142857 | N3: =L3/D3 -> 54.5
A4: Mark | B4: Bird | C4: 7.23 | D4: =SUM(D42,D80,D118,D156,D194,D232,D270,D308,D346,D384,D422,D460,D498,D536,D574,D612,D650,D688) -> 8 | E4: =SUM(E42,E80,E118,E156,E194,E232,E270,E308,E346,E384,E422,E460,E498,E536,E574,E612,E650,E688) -> 1 | F4: =SUM(F42,F80,F118,F156,F194,F232,F270,F308,F346,F384,F422,F460,F498,F536,F574,F612,F650,F688) -> 143 | G4: =SUM(G42,G80,G118,G156,G194,G232,G270,G308,G346,G384,G422,G460,G498,G536,G574,G612,G650,G688) -> 1 | H4: =SUM(H42,H80,H118,H156,H194,H232,H270,H308,H346,H384,H422,H460,H498,H536,H574,H612,H650,H688) -> 1 | I4: =SUM(I42,I80,I118,I156,I194,I232,I270,I308,I346,I384,I422,I460,I498,I536,I574,I612,I650,I688) -> 5 | J4: =SUM(J42,J80,J118,J156,J194,J232,J270,J308,J346,J384,J422,J460,J498,J536,J574,J612,J650,J688) -> 3 | K4: =SUM(K42,K80,K118,K156,K194,K232,K270,K308,K346,K384,K422,K460,K498,K536,K574,K612,K650,K688) -> 0 | L4: =(D4*10)+(E4*10)+(F4*2)+(H4*5)+(I4*25)+(J4*20)+(K4*20)-(G4*5) -> 561 | M4: =L4/C4 -> 77.593361 | N4: =L4/D4 -> 70.125
A5: Tony | B5: Bird | C5: 15.32 | D5: =SUM(D43,D81,D119,D157,D195,D233,D271,D309,D347,D385,D423,D461,D499,D537,D575,D613,D651,D689) -> 9 | E5: =SUM(E43,E81,E119,E157,E195,E233,E271,E309,E347,E385,E423,E461,E499,E537,E575,E613,E651,E689) -> 2 | F5: =SUM(F43,F81,F119,F157,F195,F233,F271,F309,F347,F385,F423,F461,F499,F537,F575,F613,F651,F689) -> 6 | G5: =SUM(G43,G81,G119,G157,G195,G233,G271,G309,G347,G385,G423,G461,G499,G537,G575,G613,G651,G689) -> 2 | H5: =SUM(H43,H81,H119,H157,H195,H233,H271,H309,H347,H385,H423,H461,H499,H537,H575,H613,H651,H689) -> 25 | I5: =SUM(I43,I81,I119,I157,I195,I233,I271,I309,I347,I385,I423,I461,I499,I537,I575,I613,I651,I689) -> 27 | J5: =SUM(J43,J81,J119,J157,J195,J233,J271,J309,J347,J385,J423,J461,J499,J537,J575,J613,J651,J689) -> 2 | K5: =SUM(K43,K81,K119,K157,K195,K233,K271,K309,K347,K385,K423,K461,K499,K537,K575,K613,K651,K689) -> 0 | L5: =(D5*10)+(E5*10)+(F5*2)+(H5*5)+(I5*25)+(J5*20)+(K5*20)-(G5*5) -> 952 | M5: =L5/C5 -> 62.140992 | N5: =L5/D5 -> 105.77778
A6: Paul | B6: Browning | C6: 6.81 | D6: =SUM(D44,D82,D120,D158,D196,D234,D272,D310,D348,D386,D424,D462,D500,D538,D576,D614,D652,D690) -> 9 | E6: =SUM(E44,E82,E120,E158,E196,E234,E272,E310,E348,E386,E424,E462,E500,E538,E576,E614,E652,E690) -> 1 | F6: =SUM(F44,F82,F120,F158,F196,F234,F272,F310,F348,F386,F424,F462,F500,F538,F576,F614,F652,F690) -> 58 | G6: =SUM(G44,G82,G120,G158,G196,G234,G272,G310,G348,G386,G424,G462,G500,G538,G576,G614,G652,G690) -> 2 | H6: =SUM(H44,H82,H120,H158,H196,H234,H272,H310,H348,H386,H424,H462,H500,H538,H576,H614,H652,H690) -> 0 | I6: =SUM(I44,I82,I120,I158,I196,I234,I272,I310,I348,I386,I424,I462,I500,I538,I576,I614,I652,I690) -> 0 | J6: =SUM(J44,J82,J120,J158,J196,J234,J272,J310,J348,J386,J424,J462,J500,J538,J576,J614,J652,J690) -> 4 | K6: =SUM(K44,K82,K120,K158,K196,K234,K272,K310,K348,K386,K424,K462,K500,K538,K576,K614,K652,K690) -> 4 | L6: =(D6*10)+(E6*10)+(F6*2)+(H6*5)+(I6*25)+(J6*20)+(K6*20)-(G6*5) -> 366 | M6: =L6/C6 -> 53.744493 | N6: =L6/D6 -> 40.666667
A7: Charlie | B7: Bryant | C7: 4 | D7: =SUM(D45,D83,D121,D159,D197,D235,D273,D311,D349,D387,D425,D463,D501,D539,D577,D615,D653,D691) -> 0 | E7: =SUM(E45,E83,E121,E159,E197,E235,E273,E311,E349,E387,E425,E463,E501,E539,E577,E615,E653,E691) -> 0 | F7: =SUM(F45,F83,F121,F159,F197,F235,F273,F311,F349,F387,F425,F463,F501,F539,F577,F615,F653,F691) -> 0 | G7: =SUM(G45,G83,G121,G159,G197,G235,G273,G311,G349,G387,G425,G463,G501,G539,G577,G615,G653,G691) -> 0 | H7: =SUM(H45,H83,H121,H159,H197,H235,H273,H311,H349,H387,H425,H463,H501,H539,H577,H615,H653,H691) -> 0 | I7: =SUM(I45,I83,I121,I159,I197,I235,I273,I311,I349,I387,I425,I463,I501,I539,I577,I615,I653,I691) -> 0 | J7: =SUM(J45,J83,J121,J159,J197,J235,J273,J311,J349,J387,J425,J463,J501,J539,J577,J615,J653,J691) -> 0 | K7: =SUM(K45,K83,K121,K159,K197,K235,K273,K311,K349,K387,K425,K463,K501,K539,K577,K615,K653,K691) -> 0 | L7: =(D7*10)+(E7*10)+(F7*2)+(H7*5)+(I7*25)+(J7*20)+(K7*20)-(G7*5) -> 0 | M7: =L7/C7 -> 0 | N7: =L7/D7 -> #DIV/0!
A8: Russ | B8: Coleman | C8: 6 | D8: =SUM(D46,D84,D122,D160,D198,D236,D274,D312,D350,D388,D426,D464,D502,D540,D578,D616,D654,D692) -> 9 | E8: =SUM(E46,E84,E122,E160,E198,E236,E274,E312,E350,E388,E426,E464,E502,E540,E578,E616,E654,E692) -> 0 | F8: =SUM(F46,F84,F122,F160,F198,F236,F274,F312,F350,F388,F426,F464,F502,F540,F578,F616,F654,F692) -> 95 | G8: =SUM(G46,G84,G122,G160,G198,G236,G274,G312,G350,G388,G426,G464,G502,G540,G578,G616,G654,G692) -> 3 | H8: =SUM(H46,H84,H122,H160,H198,H236,H274,H312,H350,H388,H426,H464,H502,H540,H578,H616,H654,H692) -> 0 | I8: =SUM(I46,I84,I122,I160,I198,I236,I274,I312,I350,I388,I426,I464,I502,I540,I578,I616,I654,I692) -> 0 | J8: =SUM(J46,J84,J122,J160,J198,J236,J274,J312,J350,J388,J426,J464,J502,J540,J578,J616,J654,J692) -> 0 | K8: =SUM(K46,K84,K122,K160,K198,K236,K274,K312,K350,K388,K426,K464,K502,K540,K578,K616,K654,K692) -> 1 | L8: =(D8*10)+(E8*10)+(F8*2)+(H8*5)+(I8*25)+(J8*20)+(K8*20)-(G8*5) -> 285 | M8: =L8/C8 -> 47.5 | N8: =L8/D8 -> 31.666667
A9: Ash | B9: Davis | C9: 4 | D9: =SUM(D47,D85,D123,D161,D199,D237,D275,D313,D351,D389,D427,D465,D503,D541,D579,D617,D655,D693) -> 0 | E9: =SUM(E47,E85,E123,E161,E199,E237,E275,E313,E351,E389,E427,E465,E503,E541,E579,E617,E655,E693) -> 0 | F9: =SUM(F47,F85,F123,F161,F199,F237,F275,F313,F351,F389,F427,F465,F503,F541,F579,F617,F655,F693) -> 0 | G9: =SUM(G47,G85,G123,G161,G199,G237,G275,G313,G351,G389,G427,G465,G503,G541,G579,G617,G655,G693) -> 0 | H9: =SUM(H47,H85,H123,H161,H199,H237,H275,H313,H351,H389,H427,H465,H503,H541,H579,H617,H655,H693) -> 0 | I9: =SUM(I47,I85,I123,I161,I199,I237,I275,I313,I351,I389,I427,I465,I503,I541,I579,I617,I655,I693) -> 0 | J9: =SUM(J47,J85,J123,J161,J199,J237,J275,J313,J351,J389,J427,J465,J503,J541,J579,J617,J655,J693) -> 0 | K9: =SUM(K47,K85,K123,K161,K199,K237,K275,K313,K351,K389,K427,K465,K503,K541,K579,K617,K655,K693) -> 0 | L9: =(D9*10)+(E9*10)+(F9*2)+(H9*5)+(I9*25)+(J9*20)+(K9*20)-(G9*5) -> 0 | M9: =L9/C9 -> 0 | N9: =L9/D9 -> #DIV/0!
A10: Gareth | B10: Goddard | C10: 8.36 | D10: =SUM(D48,D86,D124,D162,D200,D238,D276,D314,D352,D390,D428,D466,D504,D542,D580,D618,D656,D694) -> 9 | E10: =SUM(E48,E86,E124,E162,E200,E238,E276,E314,E352,E390,E428,E466,E504,E542,E580,E618,E656,E694) -> 0 | F10: =SUM(F48,F86,F124,F162,F200,F238,F276,F314,F352,F390,F428,F466,F504,F542,F580,F618,F656,F694) -> 205 | G10: =SUM(G48,G86,G124,G162,G200,G238,G276,G314,G352,G390,G428,G466,G504,G542,G580,G618,G656,G694) -> 0 | H10: =SUM(H48,H86,H124,H162,H200,H238,H276,H314,H352,H390,H428,H466,H504,H542,H580,H618,H656,H694) -> 0 | I10: =SUM(I48,I86,I124,I162,I200,I238,I276,I314,I352,I390,I428,I466,I504,I542,I580,I618,I656,I694) -> 0 | J10: =SUM(J48,J86,J124,J162,J200,J238,J276,J314,J352,J390,J428,J466,J504,J542,J580,J618,J656,J694) -> 6 | K10: =SUM(K48,K86,K124,K162,K200,K238,K276,K314,K352,K390,K428,K466,K504,K542,K580,K618,K656,K694) -> 2 | L10: =(D10*10)+(E10*10)+(F10*2)+(H10*5)+(I10*25)+(J10*20)+(K10*20)-(G10*5) -> 660 | M10: =L10/C10 -> 78.947368 | N10: =L10/D10 -> 73.333333
A11: Matt | B11: Golby | C11: 6.2 | D11: =SUM(D49,D87,D125,D163,D201,D239,D277,D315,D353,D391,D429,D467,D505,D543,D581,D619,D657,D695) -> 0 | E11: =SUM(E49,E87,E125,E163,E201,E239,E277,E315,E353,E391,E429,E467,E505,E543,E581,E619,E657,E695) -> 0 | F11: =SUM(F49,F87,F125,F163,F201,F239,F277,F315,F353,F391,F429,F467,F505,F543,F581,F619,F657,F695) -> 0 | G11: =SUM(G49,G87,G125,G163,G201,G239,G277,G315,G353,G391,G429,G467,G505,G543,G581,G619,G657,G695) -> 0 | H11: =SUM(H49,H87,H125,H163,H201,H239,H277,H315,H353,H391,H429,H467,H505,H543,H581,H619,H657,H695) -> 0 | I11: =SUM(I49,I87,I125,I163,I201,I239,I277,I315,I353,I391,I429,I467,I505,I543,I581,I619,I657,I695) -> 0 | J11: =SUM(J49,J87,J125,J163,J201,J239,J277,J315,J353,J391,J429,J467,J505,J543,J581,J619,J657,J695) -> 0 | K11: =SUM(K49,K87,K125,K163,K201,K239,K277,K315,K353,K391,K429,K467,K505,K543,K581,K619,K657,K695) -> 0 | L11: =(D11*10)+(E11*10)+(F11*2)+(H11*5)+(I11*25)+(J11*20)+(K11*20)-(G11*5) -> 0 | M11: =L11/C11 -> 0 | N11: =L11/D11 -> #DIV/0!
A12: James | B12: Goodwin | C12: 6.23 | D12: =SUM(D50,D88,D126,D164,D202,D240,D278,D316,D354,D392,D430,D468,D506,D544,D582,D620,D658,D696) -> 3 | E12: =SUM(E50,E88,E126,E164,E202,E240,E278,E316,E354,E392,E430,E468,E506,E544,E582,E620,E658,E696) -> 0 | F12: =SUM(F50,F88,F126,F164,F202,F240,F278,F316,F354,F392,F430,F468,F506,F544,F582,F620,F658,F696) -> 34 | G12: =SUM(G50,G88,G126,G164,G202,G240,G278,G316,G354,G392,G430,G468,G506,G544,G582,G620,G658,G696) -> 0 | H12: =SUM(H50,H88,H126,H164,H202,H240,H278,H316,H354,H392,H430,H468,H506,H544,H582,H620,H658,H696) -> 0 | I12: =SUM(I50,I88,I126,I164,I202,I240,I278,I316,I354,I392,I430,I468,I506,I544,I582,I620,I658,I696) -> 0 | J12: =SUM(J50,J88,J126,J164,J202,J240,J278,J316,J354,J392,J430,J468,J506,J544,J582,J620,J658,J696) -> 0 | K12: =SUM(K50,K88,K126,K164,K202,K240,K278,K316,K354,K392,K430,K468,K506,K544,K582,K620,K658,K696) -> 0 | L12: =(D12*10)+(E12*10)+(F12*2)+(H12*5)+(I12*25)+(J12*20)+(K12*20)-(G12*5) -> 98 | M12: =L12/C12 -> 15.730337 | N12: =L12/D12 -> 32.666667
A13: Dan | B13: Harris | C13: 6 | D13: =SUM(D51,D89,D127,D165,D203,D241,D279,D317,D355,D393,D431,D469,D507,D545,D583,D621,D659,D697) -> 6 | E13: =SUM(E51,E89,E127,E165,E203,E241,E279,E317,E355,E393,E431,E469,E507,E545,E583,E621,E659,E697) -> 0 | F13: =SUM(F51,F89,F127,F165,F203,F241,F279,F317,F355,F393,F431,F469,F507,F545,F583,F621,F659,F697) -> 70 | G13: =SUM(G51,G89,G127,G165,G203,G241,G279,G317,G355,G393,G431,G469,G507,G545,G583,G621,G659,G697) -> 1 | H13: =SUM(H51,H89,H127,H165,H203,H241,H279,H317,H355,H393,H431,H469,H507,H545,H583,H621,H659,H697) -> 0 | I13: =SUM(I51,I89,I127,I165,I203,I241,I279,I317,I355,I393,I431,I469,I507,I545,I583,I621,I659,I697) -> 0 | J13: =SUM(J51,J89,J127,J165,J203,J241,J279,J317,J355,J393,J431,J469,J507,J545,J583,J621,J659,J697) -> 4 | K13: =SUM(K51,K89,K127,K165,K203,K241,K279,K317,K355,K393,K431,K469,K507,K545,K583,K621,K659,K697) -> 0 | L13: =(D13*10)+(E13*10)+(F13*2)+(H13*5)+(I13*25)+(J13*20)+(K13*20)-(G13*5) -> 275 | M13: =L13/C13 -> 45.833333 | N13: =L13/D13 -> 45.833333
A14: Alex | B14: Harvey-Jones | C14: 12.51 | D14: =SUM(D52,D90,D128,D166,D204,D242,D280,D318,D356,D394,D432,D470,D508,D546,D584,D622,D660,D698) -> 6 | E14: =SUM(E52,E90,E128,E166,E204,E242,E280,E318,E356,E394,E432,E470,E508,E546,E584,E622,E660,E698) -> 1 | F14: =SUM(F52,F90,F128,F166,F204,F242,F280,F318,F356,F394,F432,F470,F508,F546,F584,F622,F660,F698) -> 44 | G14: =SUM(G52,G90,G128,G166,G204,G242,G280,G318,G356,G394,G432,G470,G508,G546,G584,G622,G660,G698) -> 1 | H14: =SUM(H52,H90,H128,H166,H204,H242,H280,H318,H356,H394,H432,H470,H508,H546,H584,H622,H660,H698) -> 9 | I14: =SUM(I52,I90,I128,I166,I204,I242,I280,I318,I356,I394,I432,I470,I508,I546,I584,I622,I660,I698) -> 11 | J14: =SUM(J52,J90,J128,J166,J204,J242,J280,J318,J356,J394,J432,J470,J508,J546,J584,J622,J660,J698) -> 1 | K14: =SUM(K52,K90,K128,K166,K204,K242,K280,K318,K356,K394,K432,K470,K508,K546,K584,K622,K660,K698) -> 0 | L14: =(D14*10)+(E14*10)+(F14*2)+(H14*5)+(I14*25)+(J14*20)+(K14*20)-(G14*5) -> 493 | M14: =L14/C14 -> 39.408473 | N14: =L14/D14 -> 82.166667
... A35: Phil | B35: Whiteman | C35: 4 | D35: =SUM(D73,D111,D149,D187,D225,D263,D301,D339,D377,D415,D453,D491,D529,D567,D605,D643,D681,D719) -> 0 | E35: =SUM(E73,E111,E149,E187,E225,E263,E301,E339,E377,E415,E453,E491,E529,E567,E605,E643,E681,E719) -> 0 | F35: =SUM(F73,F111,F149,F187,F225,F263,F301,F339,F377,F415,F453,F491,F529,F567,F605,F643,F681,F719) -> 0 | G35: =SUM(G73,G111,G149,G187,G225,G263,G301,G339,G377,G415,G453,G491,G529,G567,G605,G643,G681,G719) -> 0 | H35: =SUM(H73,H111,H149,H187,H225,H263,H301,H339,H377,H415,H453,H491,H529,H567,H605,H643,H681,H719) -> 0 | I35: =SUM(I73,I111,I149,I187,I225,I263,I301,I339,I377,I415,I453,I491,I529,I567,I605,I643,I681,I719) -> 0 | J35: =SUM(J73,J111,J149,J187,J225,J263,J301,J339,J377,J415,J453,J491,J529,J567,J605,J643,J681,J719) -> 0 | K35: =SUM(K73,K111,K149,K187,K225,K263,K301,K339,K377,K415,K453,K491,K529,K567,K605,K643,K681,K719) -> 0 | L35: =(D35*10)+(E35*10)+(F35*2)+(H35*5)+(I35*25)+(J35*20)+(K35*20)-(G35*5) -> 0 | M35: =L35/C35 -> 0 | N35: =L35/D35 -> #DIV/0!
A36: Total Points Per Section | D36: =SUM(D3:D35) -> 180 | E36: =SUM(E3:E35) -> 21 | F36: =SUM(F3:F35) -> 2146 | G36: =SUM(G3:G35) -> 25 | H36: =SUM(H3:H35) -> 95 | I36: =SUM(I3:I35) -> 122 | J36: =SUM(J3:J35) -> 69 | K36: =SUM(K3:K35) -> 11 | L36: =SUM(L3:L35) -> 11302
A37: Average Total Per Section Per Player | D37: =SUM(D36)/26 -> 6.9230769 | E37: =SUM(E36)/26 -> 0.80769231 | F37: =SUM(F36)/26 -> 82.538462 | G37: =SUM(G36)/26 -> 0.96153846 | H37: =SUM(H36)/26 -> 3.6538462 | I37: =SUM(I36)/26 -> 4.6923077 | J37: =SUM(J36)/26 -> 2.6538462 | K37: =SUM(K36)/26 -> 0.42307692 | L37: =SUM(L36)/26 -> 434.69231
A39: First Name | B39: Second Name | C39: Price | D39: Games | E39: Batting Points | H39: Bowling Points | J39: Fielding Points | L39: Points | M39: Gameweek 1 - Team of the Week
E40: Not Out | F40: Runs | G40: Ducks | H40: Maidens | I40: Wickets | J40: Catches | K40: Run Outs
A41: James | B41: Ashby | C41: 7 | D41: 1 | F41: 24 | L41: =(D41*10)+(E41*10)+(F41*2)+(H41*5)+(I41*25)+(J41*20)+(K41*20)-(G41*5) -> 58 | M41: Frankie | N41: Perkin | O41: 157
A42: Mark | B42: Bird | C42: 7.23 | D42: 1 | F42: 1 | H42: 1 | I42: 1 | J42: 1 | L42: =(D42*10)+(E42*10)+(F42*2)+(H42*5)+(I42*25)+(J42*20)+(K42*20)-(G42*5) -> 62 | M42: Dan | N42: McLaughlin | O42: 156
A43: Tony | B43: Bird | C43: 15.32 | D43: 1 | H43: 2 | I43: 3 | L43: =(D43*10)+(E43*10)+(F43*2)+(H43*5)+(I43*25)+(J43*20)+(K43*20)-(G43*5) -> 95 | M43: Liam | N43: Knight | O43: 136
A44: Paul | B44: Browning | C44: 6.81 | D44: 1 | E44: 1 | F44: 18 | J44: 2 | L44: =(D44*10)+(E44*10)+(F44*2)+(H44*5)+(I44*25)+(J44*20)+(K44*20)-(G44*5) -> 96 | M44: Nick | N44: Lester | O44: 130
A45: Charlie | B45: Bryant | C45: 4 | L45: =(D45*10)+(E45*10)+(F45*2)+(H45*5)+(I45*25)+(J45*20)+(K45*20)-(G45*5) -> 0 | M45: Matt | N45: Irons | O45: 119
A46: Russ | B46: Coleman | C46: 6 | D46: 1 | G46: 1 | L46: =(D46*10)+(E46*10)+(F46*2)+(H46*5)+(I46*25)+(J46*20)+(K46*20)-(G46*5) -> 5 | M46: Paul | N46: Browning | O46: 96
A47: Ash | B47: Davis | C47: 4 | L47: =(D47*10)+(E47*10)+(F47*2)+(H47*5)+(I47*25)+(J47*20)+(K47*20)-(G47*5) -> 0 | M47: Tony | N47: Bird | O47: 95
A48: Gareth | B48: Goddard | C48: 8.36 | D48: 1 | F48: 40 | L48: =(D48*10)+(E48*10)+(F48*2)+(H48*5)+(I48*25)+(J48*20)+(K48*20)-(G48*5) -> 90 | M48: Tom | N48: Smyth | O48: 95
A49: Matt | B49: Golby | C49: 6.2 | L49: =(D49*10)+(E49*10)+(F49*2)+(H49*5)+(I49*25)+(J49*20)+(K49*20)-(G49*5) -> 0 | M49: Gareth | N49: Goddard | O49: 90
A50: James | B50: Goodwin | C50: 6.23 | D50: 1 | F50: 17 | L50: =(D50*10)+(E50*10)+(F50*2)+(H50*5)+(I50*25)+(J50*20)+(K50*20)-(G50*5) -> 44 | M50: Alex | N50: Harvey-Jones | O50: 65
A51: Dan | B51: Harris | C51: 6 | D51: 1 | F51: 13 | J51: 1 | L51: =(D51*10)+(E51*10)+(F51*2)+(H51*5)+(I51*25)+(J51*20)+(K51*20)-(G51*5) -> 56 | M51: Mark | N51: Bird | O51: 62
A52: Alex | B52: Harvey-Jones | C52: 12.51 | D52: 1 | H52: 1 | I52: 2 | L52: =(D52*10)+(E52*10)+(F52*2)+(H52*5)+(I52*25)+(J52*20)+(K52*20)-(G52*5) -> 65
A53: Will | B53: Hodgson | C53: 6 | D53: 1 | F53: 3 | L53: =(D53*10)+(E53*10)+(F53*2)+(H53*5)+(I53*25)+(J53*20)+(K53*20)-(G53*5) -> 16
A54: Matt | B54: Irons | C54: 8.85 | D54: 1 | F54: 12 | H54: 2 | I54: 3 | L54: =(D54*10)+(E54*10)+(F54*2)+(H54*5)+(I54*25)+(J54*20)+(K54*20)-(G54*5) -> 119
A55: Liam | B55: Knight | C55: 6 | D55: 1 | F55: 63 | L55: =(D55*10)+(E55*10)+(F55*2)+(H55*5)+(I55*25)+(J55*20)+(K55*20)-(G55*5) -> 136
A56: Ryan | B56: Knight | C56: 12.4 | D56: 1 | G56: 1 | L56: =(D56*10)+(E56*10)+(F56*2)+(H56*5)+(I56*25)+(J56*20)+(K56*20)-(G56*5) -> 5
A57: Jason | B57: Kruger | C57: 12.96 | D57: 1 | H57: 2 | I57: 1 | L57: =(D57*10)+(E57*10)+(F57*2)+(H57*5)+(I57*25)+(J57*20)+(K57*20)-(G57*5) -> 45
A58: Nick | B58: Lester | C58: 10.34 | D58: 1 | H58: 1 | I58: 3 | J58: 2 | L58: =(D58*10)+(E58*10)+(F58*2)+(H58*5)+(I58*25)+(J58*20)+(K58*20)-(G58*5) -> 130
A59: Adam | B59: Longley | C59: 6 | D59: 1 | F59: 24 | L59: =(D59*10)+(E59*10)+(F59*2)+(H59*5)+(I59*25)+(J59*20)+(K59*20)-(G59*5) -> 58
A60: Chris | B60: Mason | C60: 5 | L60: =(D60*10)+(E60*10)+(F60*2)+(H60*5)+(I60*25)+(J60*20)+(K60*20)-(G60*5) -> 0
A61: Dan | B61: McLaughlin | C61: 13.48 | D61: 1 | E61: 1 | F61: 48 | J61: 2 | L61: =(D61*10)+(E61*10)+(F61*2)+(H61*5)+(I61*25)+(J61*20)+(K61*20)-(G61*5) -> 156
A62: Matt | B62: Morrissey | C62: 7.2 | D62: 1 | F62: 4 | L62: =(D62*10)+(E62*10)+(F62*2)+(H62*5)+(I62*25)+(J62*20)+(K62*20)-(G62*5) -> 18
A63: Dave | B63: Patrick | C63: 4 | L63: =(D63*10)+(E63*10)+(F63*2)+(H63*5)+(I63*25)+(J63*20)+(K63*20)-(G63*5) -> 0
A64: Frankie | B64: Perkin | C64: 6 | D64: 1 | F64: 36 | H64: 1 | I64: 2 | J64: 1 | L64: =(D64*10)+(E64*10)+(F64*2)+(H64*5)+(I64*25)+(J64*20)+(K64*20)-(G64*5) -> 157
A65: Connor | B65: Price | C65: 4 | L65: =(D65*10)+(E65*10)+(F65*2)+(H65*5)+(I65*25)+(J65*20)+(K65*20)-(G65*5) -> 0
A66: Jack | B66: Quennell | C66: 6 | D66: 1 | F66: 2 | J66: 1 | L66: =(D66*10)+(E66*10)+(F66*2)+(H66*5)+(I66*25)+(J66*20)+(K66*20)-(G66*5) -> 34
A67: Roy | B67: Quennell | C67: 6 | L67: =(D67*10)+(E67*10)+(F67*2)+(H67*5)+(I67*25)+(J67*20)+(K67*20)-(G67*5) -> 0
A68: Jason | B68: Roberts | C68: 6 | L68: =(D68*10)+(E68*10)+(F68*2)+(H68*5)+(I68*25)+(J68*20)+(K68*20)-(G68*5) -> 0
A69: Tom | B69: Robinson | C69: 6 | D69: 1 | E69: 1 | H69: 2 | L69: =(D69*10)+(E69*10)+(F69*2)+(H69*5)+(I69*25)+(J69*20)+(K69*20)-(G69*5) -> 30
A70: Tom | B70: Smyth | C70: 13.51 | D70: 1 | H70: 2 | I70: 3 | L70: =(D70*10)+(E70*10)+(F70*2)+(H70*5)+(I70*25)+(J70*20)+(K70*20)-(G70*5) -> 95
A71: Henry | B71: Swallow | C71: 8.35 | L71: =(D71*10)+(E71*10)+(F71*2)+(H71*5)+(I71*25)+(J71*20)+(K71*20)-(G71*5) -> 0
A72: Gareth | B72: Tompkins | C72: 11.02 | L72: =(D72*10)+(E72*10)+(F72*2)+(H72*5)+(I72*25)+(J72*20)+(K72*20)-(G72*5) -> 0
A73: Phil | B73: Whiteman | C73: 4 | L73: =(D73*10)+(E73*10)+(F73*2)+(H73*5)+(I73*25)+(J73*20)+(K73*20)-(G73*5) -> 0
A74: Total Points Per Section | D74: =SUM(D41:D73) -> 22 | E74: =SUM(E41:E73) -> 3 | F74: =SUM(F41:F73) -> 305 | G74: =SUM(G41:G73) -> 2 | H74: =SUM(H41:H73) -> 14 | I74: =SUM(I41:I73) -> 18 | J74: =SUM(J41:J73) -> 10 | K74: =SUM(K41:K73) -> 0 | L74: =SUM(L41:L73) -> 1570
A75: Average Total Per Section Per Player | D75: =SUM(D74)/33 -> 0.66666667 | E75: =SUM(E74)/33 -> 0.090909091 | F75: =SUM(F74)/33 -> 9.2424242 | G75: =SUM(G74)/33 -> 0.060606061 | H75: =SUM(H74)/33 -> 0.42424242 | I75: =SUM(I74)/33 -> 0.54545455 | J75: =SUM(J74)/33 -> 0.3030303 | K75: =SUM(K74)/33 -> 0 | L75: =SUM(L74)/33 -> 47.575758
A77: First Name | B77: Second Name | C77: Price | D77: Games | E77: Batting Points | H77: Bowling Points | J77: Fielding Points | L77: Points | M77: Gameweek 2 - Team of the Week
E78: Not Out | F78: Runs | G78: Ducks | H78: Maidens | I78: Wickets | J78: Catches | K78: Run Outs
A79: James | B79: Ashby | C79: 7 | D79: 1 | F79: 23 | J79: 1 | L79: =(D79*10)+(E79*10)+(F79*2)+(H79*5)+(I79*25)+(J79*20)+(K79*20)-(G79*5) -> 76 | M79: Dan | N79: McLaughlin | O79: 268
A80: Mark | B80: Bird | C80: 7.23 | L80: =(D80*10)+(E80*10)+(F80*2)+(H80*5)+(I80*25)+(J80*20)+(K80*20)-(G80*5) -> 0 | M80: Nick | N80: Lester | O80: 140
A81: Tony | B81: Bird | C81: 15.32 | D81: 1 | G81: 1 | H81: 3 | I81: 3 | L81: =(D81*10)+(E81*10)+(F81*2)+(H81*5)+(I81*25)+(J81*20)+(K81*20)-(G81*5) -> 95 | M81: Frankie | N81: Perkin | O81: 118
A82: Paul | B82: Browning | C82: 6.81 | D82: 1 | L82: =(D82*10)+(E82*10)+(F82*2)+(H82*5)+(I82*25)+(J82*20)+(K82*20)-(G82*5) -> 10 | M82: Jason | N82: Roberts | O82: 96
A83: Charlie | B83: Bryant | C83: 4 | L83: =(D83*10)+(E83*10)+(F83*2)+(H83*5)+(I83*25)+(J83*20)+(K83*20)-(G83*5) -> 0 | M83: Tony | N83: Bird | O83: 95
A84: Russ | B84: Coleman | C84: 6 | D84: 1 | F84: 19 | L84: =(D84*10)+(E84*10)+(F84*2)+(H84*5)+(I84*25)+(J84*20)+(K84*20)-(G84*5) -> 48 | M84: Gareth | N84: Goddard | O84: 94
A85: Ash | B85: Davis | C85: 4 | L85: =(D85*10)+(E85*10)+(F85*2)+(H85*5)+(I85*25)+(J85*20)+(K85*20)-(G85*5) -> 0 | M85: Chris | N85: Mason | O85: 90
A86: Gareth | B86: Goddard | C86: 8.36 | D86: 1 | F86: 32 | J86: 1 | L86: =(D86*10)+(E86*10)+(F86*2)+(H86*5)+(I86*25)+(J86*20)+(K86*20)-(G86*5) -> 94 | M86: James | N86: Ashby | O86: 76
A87: Matt | B87: Golby | C87: 6.2 | L87: =(D87*10)+(E87*10)+(F87*2)+(H87*5)+(I87*25)+(J87*20)+(K87*20)-(G87*5) -> 0 | M87: Alex | N87: Harvey-Jones | O87: 65
A88: James | B88: Goodwin | C88: 6.23 | L88: =(D88*10)+(E88*10)+(F88*2)+(H88*5)+(I88*25)+(J88*20)+(K88*20)-(G88*5) -> 0 | M88: Tom | N88: Smyth | O88: 65
A89: Dan | B89: Harris | C89: 6 | L89: =(D89*10)+(E89*10)+(F89*2)+(H89*5)+(I89*25)+(J89*20)+(K89*20)-(G89*5) -> 0 | M89: Henry | N89: Swallow | O89: 60
A90: Alex | B90: Harvey-Jones | C90: 12.51 | D90: 1 | H90: 1 | I90: 2 | L90: =(D90*10)+(E90*10)+(F90*2)+(H90*5)+(I90*25)+(J90*20)+(K90*20)-(G90*5) -> 65
A91: Will | B91: Hodgson | C91: 6 | L91: =(D91*10)+(E91*10)+(F91*2)+(H91*5)+(I91*25)+(J91*20)+(K91*20)-(G91*5) -> 0
A92: Matt | B92: Irons | C92: 8.85 | D92: 1 | L92: =(D92*10)+(E92*10)+(F92*2)+(H92*5)+(I92*25)+(J92*20)+(K92*20)-(G92*5) -> 10
A93: Liam | B93: Knight | C93: 6 | L93: =(D93*10)+(E93*10)+(F93*2)+(H93*5)+(I93*25)+(J93*20)+(K93*20)-(G93*5) -> 0
A94: Ryan | B94: Knight | C94: 12.4 | D94: 1 | F94: 13 | J94: 1 | L94: =(D94*10)+(E94*10)+(F94*2)+(H94*5)+(I94*25)+(J94*20)+(K94*20)-(G94*5) -> 56
A95: Jason | B95: Kruger | C95: 12.96 | D95: 1 | H95: 3 | I95: 1 | L95: =(D95*10)+(E95*10)+(F95*2)+(H95*5)+(I95*25)+(J95*20)+(K95*20)-(G95*5) -> 50
A96: Nick | B96: Lester | C96: 10.34 | D96: 1 | H96: 1 | I96: 5 | L96: =(D96*10)+(E96*10)+(F96*2)+(H96*5)+(I96*25)+(J96*20)+(K96*20)-(G96*5) -> 140
A97: Adam | B97: Longley | C97: 6 | D97: 1 | F97: 2 | L97: =(D97*10)+(E97*10)+(F97*2)+(H97*5)+(I97*25)+(J97*20)+(K97*20)-(G97*5) -> 14
A98: Chris | B98: Mason | C98: 5 | D98: 1 | E98: 1 | I98: 2 | J98: 1 | L98: =(D98*10)+(E98*10)+(F98*2)+(H98*5)+(I98*25)+(J98*20)+(K98*20)-(G98*5) -> 90
A99: Dan | B99: McLaughlin | C99: 13.48 | D99: 1 | E99: 1 | F99: 84 | J99: 4 | L99: =(D99*10)+(E99*10)+(F99*2)+(H99*5)+(I99*25)+(J99*20)+(K99*20)-(G99*5) -> 268
A100: Matt | B100: Morrissey | C100: 7.2 | D100: 1 | G100: 1 | L100: =(D100*10)+(E100*10)+(F100*2)+(H100*5)+(I100*25)+(J100*20)+(K100*20)-(G100*5) -> 5
A101: Dave | B101: Patrick | C101: 4 | L101: =(D101*10)+(E101*10)+(F101*2)+(H101*5)+(I101*25)+(J101*20)+(K101*20)-(G101*5) -> 0
A102: Frankie | B102: Perkin | C102: 6 | D102: 1 | F102: 9 | H102: 5 | I102: 1 | J102: 2 | L102: =(D102*10)+(E102*10)+(F102*2)+(H102*5)+(I102*25)+(J102*20)+(K102*20)-(G102*5) -> 118
A103: Connor | B103: Price | C103: 4 | L103: =(D103*10)+(E103*10)+(F103*2)+(H103*5)+(I103*25)+(J103*20)+(K103*20)-(G103*5) -> 0
A104: Jack | B104: Quennell | C104: 6 | D104: 1 | F104: 15 | L104: =(D104*10)+(E104*10)+(F104*2)+(H104*5)+(I104*25)+(J104*20)+(K104*20)-(G104*5) -> 40
A105: Roy | B105: Quennell | C105: 6 | D105: 1 | L105: =(D105*10)+(E105*10)+(F105*2)+(H105*5)+(I105*25)+(J105*20)+(K105*20)-(G105*5) -> 10
A106: Jason | B106: Roberts | C106: 6 | D106: 1 | F106: 43 | L106: =(D106*10)+(E106*10)+(F106*2)+(H106*5)+(I106*25)+(J106*20)+(K106*20)-(G106*5) -> 96
A107: Tom | B107: Robinson | C107: 6 | D107: 1 | F107: 11 | I107: 1 | L107: =(D107*10)+(E107*10)+(F107*2)+(H107*5)+(I107*25)+(J107*20)+(K107*20)-(G107*5) -> 57
A108: Tom | B108: Smyth | C108: 13.51 | D108: 1 | H108: 1 | I108: 2 | L108: =(D108*10)+(E108*10)+(F108*2)+(H108*5)+(I108*25)+(J108*20)+(K108*20)-(G108*5) -> 65
A109: Henry | B109: Swallow | C109: 8.35 | D109: 1 | E109: 1 | F109: 20 | L109: =(D109*10)+(E109*10)+(F109*2)+(H109*5)+(I109*25)+(J109*20)+(K109*20)-(G109*5) -> 60
A110: Gareth | B110: Tompkins | C110: 11.02 | L110: =(D110*10)+(E110*10)+(F110*2)+(H110*5)+(I110*25)+(J110*20)+(K110*20)-(G110*5) -> 0
A111: Phil | B111: Whiteman | C111: 4 | L111: =(D111*10)+(E111*10)+(F111*2)+(H111*5)+(I111*25)+(J111*20)+(K111*20)-(G111*5) -> 0
A112: Total Points Per Section | D112: =SUM(D79:D111) -> 21 | E112: =SUM(E79:E111) -> 3 | F112: =SUM(F79:F111) -> 271 | G112: =SUM(G79:G111) -> 2 | H112: =SUM(H79:H111) -> 14 | I112: =SUM(I79:I111) -> 17 | J112: =SUM(J79:J111) -> 10 | K112: =SUM(K79:K111) -> 0 | L112: =SUM(L79:L111) -> 1467
A113: Average Total Per Section Per Player | D113: =SUM(D112)/33 -> 0.63636364 | E113: =SUM(E112)/33 -> 0.090909091 | F113: =SUM(F112)/33 -> 8.2121212 | G113: =SUM(G112)/33 -> 0.060606061 | H113: =SUM(H112)/33 -> 0.42424242 | I113: =SUM(I112)/33 -> 0.51515152 | J113: =SUM(J112)/33 -> 0.3030303 | K113: =SUM(K112)/33 -> 0 | L113: =SUM(L112)/33 -> 44.454545
A115: First Name | B115: Second Name | C115: Price | D115: Games | E115: Batting Points | H115: Bowling Points | J115: Fielding Points | L115: Points | M115: Gameweek 3 - Team of the Week
E116: Not Out | F116: Runs | G116: Ducks | H116: Maidens | I116: Wickets | J116: Catches | K116: Run Outs | M116: First Name | N116: Second Name | O116: Pts.
A117: James | B117: Ashby | C117: 7 | L117: =(D117*10)+(E117*10)+(F117*2)+(H117*5)+(I117*25)+(J117*20)+(K117*20)-(G117*5) -> 0 | M117: Mark | N117: Bird | O117: 118
A118: Mark | B118: Bird | C118: 7.23 | D118: 1 | F118: 29 | I118: 2 | L118: =(D118*10)+(E118*10)+(F118*2)+(H118*5)+(I118*25)+(J118*20)+(K118*20)-(G118*5) -> 118 | M118: Tom | N118: Smyth | O118: 115
A119: Tony | B119: Bird | C119: 15.32 | D119: 1 | H119: 4 | I119: 2 | L119: =(D119*10)+(E119*10)+(F119*2)+(H119*5)+(I119*25)+(J119*20)+(K119*20)-(G119*5) -> 80 | M119: Dan | N119: McLaughlin | O119: 110
A120: Paul | B120: Browning | C120: 6.81 | D120: 1 | F120: 5 | K120: 2 | L120: =(D120*10)+(E120*10)+(F120*2)+(H120*5)+(I120*25)+(J120*20)+(K120*20)-(G120*5) -> 60 | M120: Ryan | N120: Knight | O120: 106
A121: Charlie | B121: Bryant | C121: 4 | L121: =(D121*10)+(E121*10)+(F121*2)+(H121*5)+(I121*25)+(J121*20)+(K121*20)-(G121*5) -> 0 | M121: Russ | N121: Coleman | O121: 94
A122: Russ | B122: Coleman | C122: 6 | D122: 1 | F122: 42 | L122: =(D122*10)+(E122*10)+(F122*2)+(H122*5)+(I122*25)+(J122*20)+(K122*20)-(G122*5) -> 94 | M122: Tony | N122: Bird | O122: 80
A123: Ash | B123: Davis | C123: 4 | L123: =(D123*10)+(E123*10)+(F123*2)+(H123*5)+(I123*25)+(J123*20)+(K123*20)-(G123*5) -> 0 | M123: Nick | N123: Lester | O123: 79
...

Sheet RC
A1: First Name | B1: Second Name | C1: Price | D1: Games | E1: Batting Points | H1: Bowling Points | J1: Fielding Points | L1: Points | M1: Denton Aware of Yardley Inbreds (DAYI)
E2: Not Out | F2: Runs | G2: Ducks | H2: Maidens | I2: Wickets | J2: Catches | K2: Run Outs
A3: Mark | B3: Bird | C3: 7.23 | D3: =SUM(Master!D4) -> 8 | E3: =SUM(Master!E4) -> 1 | F3: =SUM(Master!F4) -> 143 | G3: =SUM(Master!G4) -> 1 | H3: =SUM(Master!H4) -> 1 | I3: =SUM(Master!I4) -> 5 | J3: =SUM(Master!J4) -> 3 | K3: =SUM(Master!K4) -> 0 | L3: =(D3*10)+(E3*10)+(F3*2)+(H3*5)+(I3*25)+(J3*20)+(K3*20)-(G3*5) -> 561 | M3: Russ Coleman
A4: Tony | B4: Bird | C4: 15.32 | D4: =SUM(Master!D5) -> 9 | E4: =SUM(Master!E5) -> 2 | F4: =SUM(Master!F5) -> 6 | G4: =SUM(Master!G5) -> 2 | H4: =SUM(Master!H5) -> 25 | I4: =SUM(Master!I5) -> 27 | J4: =SUM(Master!J5) -> 2 | K4: =SUM(Master!K5) -> 0 | L4: =(D4*10)+(E4*10)+(F4*2)+(H4*5)+(I4*25)+(J4*20)+(K4*20)-(G4*5) -> 952
A5: Paul | B5: Browning | C5: 6.81 | D5: =SUM(Master!D6) -> 9 | E5: =SUM(Master!E6) -> 1 | F5: =SUM(Master!F6) -> 58 | G5: =SUM(Master!G6) -> 2 | H5: =SUM(Master!H6) -> 0 | I5: =SUM(Master!I6) -> 0 | J5: =SUM(Master!J6) -> 4 | K5: =SUM(Master!K6) -> 4 | L5: =(D5*10)+(E5*10)+(F5*2)+(H5*5)+(I5*25)+(J5*20)+(K5*20)-(G5*5) -> 366
A6: James | B6: Goodwin | C6: 6.23 | D6: =SUM(Master!D12) -> 3 | E6: =SUM(Master!E12) -> 0 | F6: =SUM(Master!F12) -> 34 | G6: =SUM(Master!G12) -> 0 | H6: =SUM(Master!H12) -> 0 | I6: =SUM(Master!I12) -> 0 | J6: =SUM(Master!J12) -> 0 | K6: =SUM(Master!K12) -> 0 | L6: =(D6*10)+(E6*10)+(F6*2)+(H6*5)+(I6*25)+(J6*20)+(K6*20)-(G6*5) -> 98
A7: Will | B7: Hodgson | C7: 6 | D7: =SUM(Master!D15) -> 6 | E7: =SUM(Master!E15) -> 1 | F7: =SUM(Master!F15) -> 118 | G7: =SUM(Master!G15) -> 2 | H7: =SUM(Master!H15) -> 0 | I7: =SUM(Master!I15) -> 1 | J7: =SUM(Master!J15) -> 2 | K7: =SUM(Master!K15) -> 1 | L7: =(D7*10)+(E7*10)+(F7*2)+(H7*5)+(I7*25)+(J7*20)+(K7*20)-(G7*5) -> 381
A8: Matt | B8: Irons | C8: 8.85 | D8: =SUM(Master!D16) -> 5 | E8: =SUM(Master!E16) -> 0 | F8: =SUM(Master!F16) -> 31 | G8: =SUM(Master!G16) -> 0 | H8: =SUM(Master!H16) -> 2 | I8: =SUM(Master!I16) -> 4 | J8: =SUM(Master!J16) -> 3 | K8: =SUM(Master!K16) -> 0 | L8: =(D8*10)+(E8*10)+(F8*2)+(H8*5)+(I8*25)+(J8*20)+(K8*20)-(G8*5) -> 282
A9: Liam | B9: Knight | C9: 6 | D9: =SUM(Master!D17) -> 5 | E9: =SUM(Master!E17) -> 0 | F9: =SUM(Master!F17) -> 101 | G9: =SUM(Master!G17) -> 0 | H9: =SUM(Master!H17) -> 0 | I9: =SUM(Master!I17) -> 0 | J9: =SUM(Master!J17) -> 0 | K9: =SUM(Master!K17) -> 0 | L9: =(D9*10)+(E9*10)+(F9*2)+(H9*5)+(I9*25)+(J9*20)+(K9*20)-(G9*5) -> 252
A10: Ryan | B10: Knight | C10: 12.4 | D10: =SUM(Master!D18) -> 9 | E10: =SUM(Master!E18) -> 0 | F10: =SUM(Master!F18) -> 153 | G10: =SUM(Master!G18) -> 2 | H10: =SUM(Master!H18) -> 0 | I10: =SUM(Master!I18) -> 0 | J10: =SUM(Master!J18) -> 7 | K10: =SUM(Master!K18) -> 1 | L10: =((D10*10)+(E10*10)+(F10*2)+(H10*5)+(I10*25)+(J10*20)+(K10*20)-(G10*5))*2 -> 1092
A11: Frankie | B11: Perkin | C11: 6 | D11: =SUM(Master!D26) -> 5 | E11: =SUM(Master!E26) -> 1 | F11: =SUM(Master!F26) -> 51 | G11: =SUM(Master!G26) -> 1 | H11: =SUM(Master!H26) -> 6 | I11: =SUM(Master!I26) -> 5 | J11: =SUM(Master!J26) -> 4 | K11: =SUM(Master!K26) -> 0 | L11: =(D11*10)+(E11*10)+(F11*2)+(H11*5)+(I11*25)+(J11*20)+(K11*20)-(G11*5) -> 392
A12: Tom | B12: Robinson | C12: 6 | D12: =SUM(Master!D31) -> 9 | E12: =SUM(Master!E31) -> 4 | F12: =SUM(Master!F31) -> 46 | G12: =SUM(Master!G31) -> 0 | H12: =SUM(Master!H31) -> 2 | I12: =SUM(Master!I31) -> 3 | J12: =SUM(Master!J31) -> 0 | K12: =SUM(Master!K31) -> 0 | L12: =(D12*10)+(E12*10)+(F12*2)+(H12*5)+(I12*25)+(J12*20)+(K12*20)-(G12*5) -> 307
A13: Tom | B13: Smyth | C13: 13.51 | D13: =SUM(Master!D32) -> 8 | E13: =SUM(Master!E32) -> 2 | F13: =SUM(Master!F32) -> 33 | G13: =SUM(Master!G32) -> 2 | H13: =SUM(Master!H32) -> 13 | I13: =SUM(Master!I32) -> 13 | J13: =SUM(Master!J32) -> 1 | K13: =SUM(Master!K32) -> 0 | L13: =(D13*10)+(E13*10)+(F13*2)+(H13*5)+(I13*25)+(J13*20)+(K13*20)-(G13*5) -> 566
L38: =SUM(L3:L37) -> 5249

Sheet FP
A1: First Name | B1: Second Name | C1: Price | D1: Games | E1: Batting Points | H1: Bowling Points | J1: Fielding Points | L1: Points | M1: Frankfields
E2: Not Out | F2: Runs | G2: Ducks | H2: Maidens | I2: Wickets | J2: Catches | K2: Run Outs
A3: James | B3: Ashby | C3: 7 | D3: =SUM(Master!D3) -> 4 | E3: =SUM(Master!E3) -> 0 | F3: =SUM(Master!F3) -> 79 | G3: =SUM(Master!G3) -> 0 | H3: =SUM(Master!H3) -> 0 | I3: =SUM(Master!I3) -> 0 | J3: =SUM(Master!J3) -> 1 | K3: =SUM(Master!K3) -> 0 | L3: =(D3*10)+(E3*10)+(F3*2)+(H3*5)+(I3*25)+(J3*20)+(K3*20)-(G3*5) -> 218 | M3: Frankie Perkins
A4: Mark | B4: Bird | C4: 7.23 | D4: =SUM(Master!D4) -> 8 | E4: =SUM(Master!E4) -> 1 | F4: =SUM(Master!F4) -> 143 | G4: =SUM(Master!G4) -> 1 | H4: =SUM(Master!H4) -> 1 | I4: =SUM(Master!I4) -> 5 | J4: =SUM(Master!J4) -> 3 | K4: =SUM(Master!K4) -> 0 | L4: =(D4*10)+(E4*10)+(F4*2)+(H4*5)+(I4*25)+(J4*20)+(K4*20)-(G4*5) -> 561
A5: Tony | B5: Bird | C5: 15.32 | D5: =SUM(Master!D5) -> 9 | E5: =SUM(Master!E5) -> 2 | F5: =SUM(Master!F5) -> 6 | G5: =SUM(Master!G5) -> 2 | H5: =SUM(Master!H5) -> 25 | I5: =SUM(Master!I5) -> 27 | J5: =SUM(Master!J5) -> 2 | K5: =SUM(Master!K5) -> 0 | L5: =(D5*10)+(E5*10)+(F5*2)+(H5*5)+(I5*25)+(J5*20)+(K5*20)-(G5*5) -> 952
A6: Russ | B6: Coleman | C6: 6 | D6: =SUM(Master!D8) -> 9 | E6: =SUM(Master!E8) -> 0 | F6: =SUM(Master!F8) -> 95 | G6: =SUM(Master!G8) -> 3 | H6: =SUM(Master!H8) -> 0 | I6: =SUM(Master!I8) -> 0 | J6: =SUM(Master!J8) -> 0 | K6: =SUM(Master!K8) -> 1 | L6: =(D6*10)+(E6*10)+(F6*2)+(H6*5)+(I6*25)+(J6*20)+(K6*20)-(G6*5) -> 285
A7: James | B7: Goodwin | C7: 6.23 | D7: =SUM(Master!D12) -> 3 | E7: =SUM(Master!E12) -> 0 | F7: =SUM(Master!F12) -> 34 | G7: =SUM(Master!G12) -> 0 | H7: =SUM(Master!H12) -> 0 | I7: =SUM(Master!I12) -> 0 | J7: =SUM(Master!J12) -> 0 | K7: =SUM(Master!K12) -> 0 | L7: =(D7*10)+(E7*10)+(F7*2)+(H7*5)+(I7*25)+(J7*20)+(K7*20)-(G7*5) -> 98
A8: Alex | B8: Harvey-Jones | C8: 12.51 | D8: =SUM(Master!D14) -> 6 | E8: =SUM(Master!E14) -> 1 | F8: =SUM(Master!F14) -> 44 | G8: =SUM(Master!G14) -> 1 | H8: =SUM(Master!H14) -> 9 | I8: =SUM(Master!I14) -> 11 | J8: =SUM(Master!J14) -> 1 | K8: =SUM(Master!K14) -> 0 | L8: =(D8*10)+(E8*10)+(F8*2)+(H8*5)+(I8*25)+(J8*20)+(K8*20)-(G8*5) -> 493
A9: Matt | B9: Irons | C9: 8.85 | D9: =SUM(Master!D16) -> 5 | E9: =SUM(Master!E16) -> 0 | F9: =SUM(Master!F16) -> 31 | G9: =SUM(Master!G16) -> 0 | H9: =SUM(Master!H16) -> 2 | I9: =SUM(Master!I16) -> 4 | J9: =SUM(Master!J16) -> 3 | K9: =SUM(Master!K16) -> 0 | L9: =(D9*10)+(E9*10)+(F9*2)+(H9*5)+(I9*25)+(J9*20)+(K9*20)-(G9*5) -> 282
A10: Liam | B10: Knight | C10: 6 | D10: =SUM(Master!D17) -> 5 | E10: =SUM(Master!E17) -> 0 | F10: =SUM(Master!F17) -> 101 | G10: =SUM(Master!G17) -> 0 | H10: =SUM(Master!H17) -> 0 | I10: =SUM(Master!I17) -> 0 | J10: =SUM(Master!J17) -> 0 | K10: =SUM(Master!K17) -> 0 | L10: =(D10*10)+(E10*10)+(F10*2)+(H10*5)+(I10*25)+(J10*20)+(K10*20)-(G10*5) -> 252
A11: Ryan | B11: Knight | C11: 12.4 | D11: =SUM(Master!D18) -> 9 | E11: =SUM(Master!E18) -> 0 | F11: =SUM(Master!F18) -> 153 | G11: =SUM(Master!G18) -> 2 | H11: =SUM(Master!H18) -> 0 | I11: =SUM(Master!I18) -> 0 | J11: =SUM(Master!J18) -> 7 | K11: =SUM(Master!K18) -> 1 | L11: =((D11*10)+(E11*10)+(F11*2)+(H11*5)+(I11*25)+(J11*20)+(K11*20)-(G11*5))*2 -> 1092
A12: Jack | B12: Quennell | C12: 6 | D12: =SUM(Master!D28) -> 9 | E12: =SUM(Master!E28) -> 0 | F12: =SUM(Master!F28) -> 103 | G12: =SUM(Master!G28) -> 0 | H12: =SUM(Master!H28) -> 0 | I12: =SUM(Master!I28) -> 0 | J12: =SUM(Master!J28) -> 7 | K12: =SUM(Master!K28) -> 0 | L12: =(D12*10)+(E12*10)+(F12*2)+(H12*5)+(I12*25)+(J12*20)+(K12*20)-(G12*5) -> 436
A13: Tom | B13: Robinson | C13: 6 | D13: =SUM(Master!D31) -> 9 | E13: =SUM(Master!E31) -> 4 | F13: =SUM(Master!F31) -> 46 | G13: =SUM(Master!G31) -> 0 | H13: =SUM(Master!H31) -> 2 | I13: =SUM(Master!I31) -> 3 | J13: =SUM(Master!J31) -> 0 | K13: =SUM(Master!K31) -> 0 | L13: =(D13*10)+(E13*10)+(F13*2)+(H13*5)+(I13*25)+(J13*20)+(K13*20)-(G13*5) -> 307
L38: =SUM(L3:L37) -> 4976

Sheet AL
A1: First Name | B1: Second Name | C1: Price | D1: Games | E1: Batting Points | H1: Bowling Points | J1: Fielding Points | L1: Points | M1: Victorious Secrets
E2: Not Out | F2: Runs | G2: Ducks | H2: Maidens | I2: Wickets | J2: Catches | K2: Run Outs
A3: Paul | B3: Browning | C3: 6.81 | D3: =SUM(Master!D6) -> 9 | E3: =SUM(Master!E6) -> 1 | F3: =SUM(Master!F6) -> 58 | G3: =SUM(Master!G6) -> 2 | H3: =SUM(Master!H6) -> 0 | I3: =SUM(Master!I6) -> 0 | J3: =SUM(Master!J6) -> 4 | K3: =SUM(Master!K6) -> 4 | L3: =(D3*10)+(E3*10)+(F3*2)+(H3*5)+(I3*25)+(J3*20)+(K3*20)-(G3*5) -> 366 | M3: Adam Longley
A4: James | B4: Goodwin | C4: 6.23 | D4: =SUM(Master!D12) -> 3 | E4: =SUM(Master!E12) -> 0 | F4: =SUM(Master!F12) -> 34 | G4: =SUM(Master!G12) -> 0 | H4: =SUM(Master!H12) -> 0 | I4: =SUM(Master!I12) -> 0 | J4: =SUM(Master!J12) -> 0 | K4: =SUM(Master!K12) -> 0 | L4: =(D4*10)+(E4*10)+(F4*2)+(H4*5)+(I4*25)+(J4*20)+(K4*20)-(G4*5) -> 98
A5: Alex | B5: Harvey-Jones | C5: 12.51 | D5: =SUM(Master!D14) -> 6 | E5: =SUM(Master!E14) -> 1 | F5: =SUM(Master!F14) -> 44 | G5: =SUM(Master!G14) -> 1 | H5: =SUM(Master!H14) -> 9 | I5: =SUM(Master!I14) -> 11 | J5: =SUM(Master!J14) -> 1 | K5: =SUM(Master!K14) -> 0 | L5: =(D5*10)+(E5*10)+(F5*2)+(H5*5)+(I5*25)+(J5*20)+(K5*20)-(G5*5) -> 493
A6: Liam | B6: Knight | C6: 6 | D6: =SUM(Master!D17) -> 5 | E6: =SUM(Master!E17) -> 0 | F6: =SUM(Master!F17) -> 101 | G6: =SUM(Master!G17) -> 0 | H6: =SUM(Master!H17) -> 0 | I6: =SUM(Master!I17) -> 0 | J6: =SUM(Master!J17) -> 0 | K6: =SUM(Master!K17) -> 0 | L6: =(D6*10)+(E6*10)+(F6*2)+(H6*5)+(I6*25)+(J6*20)+(K6*20)-(G6*5) -> 252
A7: Ryan | B7: Knight | C7: 12.4 | D7: =SUM(Master!D18) -> 9 | E7: =SUM(Master!E18) -> 0 | F7: =SUM(Master!F18) -> 153 | G7: =SUM(Master!G18) -> 2 | H7: =SUM(Master!H18) -> 0 | I7: =SUM(Master!I18) -> 0 | J7: =SUM(Master!J18) -> 7 | K7: =SUM(Master!K18) -> 1 | L7: =(D7*10)+(E7*10)+(F7*2)+(H7*5)+(I7*25)+(J7*20)+(K7*20)-(G7*5) -> 546
A8: Nick | B8: Lester | C8: 10.34 | D8: =SUM(Master!D20) -> 9 | E8: =SUM(Master!E20) -> 2 | F8: =SUM(Master!F20) -> 13 | G8: =SUM(Master!G20) -> 0 | H8: =SUM(Master!H20) -> 10 | I8: =SUM(Master!I20) -> 18 | J8: =SUM(Master!J20) -> 4 | K8: =SUM(Master!K20) -> 0 | L8: =(D8*10)+(E8*10)+(F8*2)+(H8*5)+(I8*25)+(J8*20)+(K8*20)-(G8*5) -> 716
A9: Adam | B9: Longley | C9: 6 | D9: =SUM(Master!D21) -> 9 | E9: =SUM(Master!E21) -> 0 | F9: =SUM(Master!F21) -> 51 | G9: =SUM(Master!G21) -> 4 | H9: =SUM(Master!H21) -> 0 | I9: =SUM(Master!I21) -> 0 | J9: =SUM(Master!J21) -> 3 | K9: =SUM(Master!K21) -> 0 | L9: =(D9*10)+(E9*10)+(F9*2)+(H9*5)+(I9*25)+(J9*20)+(K9*20)-(G9*5) -> 232
A10: Dan | B10: McLaughlin | C10: 13.48 | D10: =SUM(Master!D23) -> 9 | E10: =SUM(Master!E23) -> 2 | F10: =SUM(Master!F23) -> 250 | G10: =SUM(Master!G23) -> 1 | H10: =SUM(Master!H23) -> 1 | I10: =SUM(Master!I23) -> 13 | J10: =SUM(Master!J23) -> 10 | K10: =SUM(Master!K23) -> 0 | L10: =((D10*10)+(E10*10)+(F10*2)+(H10*5)+(I10*25)+(J10*20)+(K10*20)-(G10*5))*2 -> 2270
A11: Frankie | B11: Perkin | C11: 6 | D11: =SUM(Master!D26) -> 5 | E11: =SUM(Master!E26) -> 1 | F11: =SUM(Master!F26) -> 51 | G11: =SUM(Master!G26) -> 1 | H11: =SUM(Master!H26) -> 6 | I11: =SUM(Master!I26) -> 5 | J11: =SUM(Master!J26) -> 4 | K11: =SUM(Master!K26) -> 0 | L11: =(D11*10)+(E11*10)+(F11*2)+(H11*5)+(I11*25)+(J11*20)+(K11*20)-(G11*5) -> 392
A12: Tom | B12: Robinson | C12: 6 | D12: =SUM(Master!D31) -> 9 | E12: =SUM(Master!E31) -> 4 | F12: =SUM(Master!F31) -> 46 | G12: =SUM(Master!G31) -> 0 | H12: =SUM(Master!H31) -> 2 | I12: =SUM(Master!I31) -> 3 | J12: =SUM(Master!J31) -> 0 | K12: =SUM(Master!K31) -> 0 | L12: =(D12*10)+(E12*10)+(F12*2)+(H12*5)+(I12*25)+(J12*20)+(K12*20)-(G12*5) -> 307
A13: Tom | B13: Smyth | C13: 13.51 | D13: =SUM(Master!D32) -> 8 | E13: =SUM(Master!E32) -> 2 | F13: =SUM(Master!F32) -> 33 | G13: =SUM(Master!G32) -> 2 | H13: =SUM(Master!H32) -> 13 | I13: =SUM(Master!I32) -> 13 | J13: =SUM(Master!J32) -> 1 | K13: =SUM(Master!K32) -> 0 | L13: =(D13*10)+(E13*10)+(F13*2)+(H13*5)+(I13*25)+(J13*20)+(K13*20)-(G13*5) -> 566
L38: =SUM(L3:L37) -> 6238

Sheet MI
A1: First Name | B1: Second Name | C1: Price | D1: Games | E1: Batting Points | H1: Bowling Points | J1: Fielding Points | L1: Points | M1: Hard Terra Firma
E2: Not Out | F2: Runs | G2: Ducks | H2: Maidens | I2: Wickets | J2: Catches | K2: Run Outs
A3: James | B3: Ashby | C3: 7 | D3: =SUM(Master!D3) -> 4 | E3: =SUM(Master!E3) -> 0 | F3: =SUM(Master!F3) -> 79 | G3: =SUM(Master!G3) -> 0 | H3: =SUM(Master!H3) -> 0 | I3: =SUM(Master!I3) -> 0 | J3: =SUM(Master!J3) -> 1 | K3: =SUM(Master!K3) -> 0 | L3: =(D3*10)+(E3*10)+(F3*2)+(H3*5)+(I3*25)+(J3*20)+(K3*20)-(G3*5) -> 218 | M3: Matt Irons
A4: Tony | B4: Bird | C4: 15.32 | D4: =SUM(Master!D5) -> 9 | E4: =SUM(Master!E5) -> 2 | F4: =SUM(Master!F5) -> 6 | G4: =SUM(Master!G5) -> 2 | H4: =SUM(Master!H5) -> 25 | I4: =SUM(Master!I5) -> 27 | J4: =SUM(Master!J5) -> 2 | K4: =SUM(Master!K5) -> 0 | L4: =((D4*10)+(E4*10)+(F4*2)+(H4*5)+(I4*25)+(J4*20)+(K4*20)-(G4*5))*2 -> 1904
A5: James | B5: Goodwin | C5: 6.23 | D5: =SUM(Master!D12) -> 3 | E5: =SUM(Master!E12) -> 0 | F5: =SUM(Master!F12) -> 34 | G5: =SUM(Master!G12) -> 0 | H5: =SUM(Master!H12) -> 0 | I5: =SUM(Master!I12) -> 0 | J5: =SUM(Master!J12) -> 0 | K5: =SUM(Master!K12) -> 0 | L5: =(D5*10)+(E5*10)+(F5*2)+(H5*5)+(I5*25)+(J5*20)+(K5*20)-(G5*5) -> 98
A6: Will | B6: Hodgson | C6: 6 | D6: =SUM(Master!D15) -> 6 | E6: =SUM(Master!E15) -> 1 | F6: =SUM(Master!F15) -> 118 | G6: =SUM(Master!G15) -> 2 | H6: =SUM(Master!H15) -> 0 | I6: =SUM(Master!I15) -> 1 | J6: =SUM(Master!J15) -> 2 | K6: =SUM(Master!K15) -> 1 | L6: =(D6*10)+(E6*10)+(F6*2)+(H6*5)+(I6*25)+(J6*20)+(K6*20)-(G6*5) -> 381
A7: Matt | B7: Irons | C7: 8.85 | D7: =SUM(Master!D16) -> 5 | E7: =SUM(Master!E16) -> 0 | F7: =SUM(Master!F16) -> 31 | G7: =SUM(Master!G16) -> 0 | H7: =SUM(Master!H16) -> 2 | I7: =SUM(Master!I16) -> 4 | J7: =SUM(Master!J16) -> 3 | K7: =SUM(Master!K16) -> 0 | L7: =(D7*10)+(E7*10)+(F7*2)+(H7*5)+(I7*25)+(J7*20)+(K7*20)-(G7*5) -> 282
A8: Liam | B8: Knight | C8: 6 | D8: =SUM(Master!D17) -> 5 | E8: =SUM(Master!E17) -> 0 | F8: =SUM(Master!F17) -> 101 | G8: =SUM(Master!G17) -> 0 | H8: =SUM(Master!H17) -> 0 | I8: =SUM(Master!I17) -> 0 | J8: =SUM(Master!J17) -> 0 | K8: =SUM(Master!K17) -> 0 | L8: =(D8*10)+(E8*10)+(F8*2)+(H8*5)+(I8*25)+(J8*20)+(K8*20)-(G8*5) -> 252
A9: Ryan | B9: Knight | C9: 12.4 | D9: =SUM(Master!D18) -> 9 | E9: =SUM(Master!E18) -> 0 | F9: =SUM(Master!F18) -> 153 | G9: =SUM(Master!G18) -> 2 | H9: =SUM(Master!H18) -> 0 | I9: =SUM(Master!I18) -> 0 | J9: =SUM(Master!J18) -> 7 | K9: =SUM(Master!K18) -> 1 | L9: =(D9*10)+(E9*10)+(F9*2)+(H9*5)+(I9*25)+(J9*20)+(K9*20)-(G9*5) -> 546
A10: Nick | B10: Lester | C10: 10.34 | D10: =SUM(Master!D20) -> 9 | E10: =SUM(Master!E20) -> 2 | F10: =SUM(Master!F20) -> 13 | G10: =SUM(Master!G20) -> 0 | H10: =SUM(Master!H20) -> 10 | I10: =SUM(Master!I20) -> 18 | J10: =SUM(Master!J20) -> 4 | K10: =SUM(Master!K20) -> 0 | L10: =(D10*10)+(E10*10)+(F10*2)+(H10*5)+(I10*25)+(J10*20)+(K10*20)-(G10*5) -> 716
A11: Adam | B11: Longley | C11: 6 | D11: =SUM(Master!D21) -> 9 | E11: =SUM(Master!E21) -> 0 | F11: =SUM(Master!F21) -> 51 | G11: =SUM(Master!G21) -> 4 | H11: =SUM(Master!H21) -> 0 | I11: =SUM(Master!I21) -> 0 | J11: =SUM(Master!J21) -> 3 | K11: =SUM(Master!K21) -> 0 | L11: =(D11*10)+(E11*10)+(F11*2)+(H11*5)+(I11*25)+(J11*20)+(K11*20)-(G11*5) -> 232
A12: Jack | B12: Quennell | C12: 6 | D12: =SUM(Master!D28) -> 9 | E12: =SUM(Master!E28) -> 0 | F12: =SUM(Master!F28) -> 103 | G12: =SUM(Master!G28) -> 0 | H12: =SUM(Master!H28) -> 0 | I12: =SUM(Master!I28) -> 0 | J12: =SUM(Master!J28) -> 7 | K12: =SUM(Master!K28) -> 0 | L12: =(D12*10)+(E12*10)+(F12*2)+(H12*5)+(I12*25)+(J12*20)+(K12*20)-(G12*5) -> 436
A13: Gareth | B13: Tompkins | C13: 11.02 | D13: =SUM(Master!D34) -> 0 | E13: =SUM(Master!E34) -> 0 | F13: =SUM(Master!F34) -> 0 | G13: =SUM(Master!G34) -> 0 | H13: =SUM(Master!H34) -> 0 | I13: =SUM(Master!I34) -> 0 | J13: =SUM(Master!J34) -> 0 | K13: =SUM(Master!K34) -> 0 | L13: =(D13*10)+(E13*10)+(F13*2)+(H13*5)+(I13*25)+(J13*20)+(K13*20)-(G13*5) -> 0
L38: =SUM(L3:L37) -> 5065

Sheet SM
A1: First Name | B1: Second Name | C1: Price | D1: Games | E1: Batting Points | H1: Bowling Points | J1: Fielding Points | L1: Points | M1: No Pants XI
E2: Not Out | F2: Runs | G2: Ducks | H2: Maidens | I2: Wickets | J2: Catches | K2: Run Outs
A3: Paul | B3: Browning | C3: 6.81 | D3: =SUM(Master!D6) -> 9 | E3: =SUM(Master!E6) -> 1 | F3: =SUM(Master!F6) -> 58 | G3: =SUM(Master!G6) -> 2 | H3: =SUM(Master!H6) -> 0 | I3: =SUM(Master!I6) -> 0 | J3: =SUM(Master!J6) -> 4 | K3: =SUM(Master!K6) -> 4 | L3: =(D3*10)+(E3*10)+(F3*2)+(H3*5)+(I3*25)+(J3*20)+(K3*20)-(G3*5) -> 366 | M3: Sam McLaughlin
A4: Gareth | B4: Goddard | C4: 8.36 | D4: =SUM(Master!D10) -> 9 | E4: =SUM(Master!E10) -> 0 | F4: =SUM(Master!F10) -> 205 | G4: =SUM(Master!G10) -> 0 | H4: =SUM(Master!H10) -> 0 | I4: =SUM(Master!I10) -> 0 | J4: =SUM(Master!J10) -> 6 | K4: =SUM(Master!K10) -> 2 | L4: =(D4*10)+(E4*10)+(F4*2)+(H4*5)+(I4*25)+(J4*20)+(K4*20)-(G4*5) -> 660
A5: Alex | B5: Harvey-Jones | C5: 12.51 | D5: =SUM(Master!D14) -> 6 | E5: =SUM(Master!E14) -> 1 | F5: =SUM(Master!F14) -> 44 | G5: =SUM(Master!G14) -> 1 | H5: =SUM(Master!H14) -> 9 | I5: =SUM(Master!I14) -> 11 | J5: =SUM(Master!J14) -> 1 | K5: =SUM(Master!K14) -> 0 | L5: =(D5*10)+(E5*10)+(F5*2)+(H5*5)+(I5*25)+(J5*20)+(K5*20)-(G5*5) -> 493
A6: Will | B6: Hodgson | C6: 6 | D6: =SUM(Master!D15) -> 6 | E6: =SUM(Master!E15) -> 1 | F6: =SUM(Master!F15) -> 118 | G6: =SUM(Master!G15) -> 2 | H6: =SUM(Master!H15) -> 0 | I6: =SUM(Master!I15) -> 1 | J6: =SUM(Master!J15) -> 2 | K6: =SUM(Master!K15) -> 1 | L6: =(D6*10)+(E6*10)+(F6*2)+(H6*5)+(I6*25)+(J6*20)+(K6*20)-(G6*5) -> 381
A7: Jason | B7: Kruger | C7: 12.96 | D7: =SUM(Master!D19) -> 6 | E7: =SUM(Master!E19) -> 0 | F7: =SUM(Master!F19) -> 22 | G7: =SUM(Master!G19) -> 2 | H7: =SUM(Master!H19) -> 11 | I7: =SUM(Master!I19) -> 4 | J7: =SUM(Master!J19) -> 1 | K7: =SUM(Master!K19) -> 1 | L7: =(D7*10)+(E7*10)+(F7*2)+(H7*5)+(I7*25)+(J7*20)+(K7*20)-(G7*5) -> 289
A8: Nick | B8: Lester | C8: 10.34 | D8: =SUM(Master!D20) -> 9 | E8: =SUM(Master!E20) -> 2 | F8: =SUM(Master!F20) -> 13 | G8: =SUM(Master!G20) -> 0 | H8: =SUM(Master!H20) -> 10 | I8: =SUM(Master!I20) -> 18 | J8: =SUM(Master!J20) -> 4 | K8: =SUM(Master!K20) -> 0 | L8: =(D8*10)+(E8*10)+(F8*2)+(H8*5)+(I8*25)+(J8*20)+(K8*20)-(G8*5) -> 716
A9: Dan | B9: McLaughlin | C9: 13.48 | D9: =SUM(Master!D23) -> 9 | E9: =SUM(Master!E23) -> 2 | F9: =SUM(Master!F23) -> 250 | G9: =SUM(Master!G23) -> 1 | H9: =SUM(Master!H23) -> 1 | I9: =SUM(Master!I23) -> 13 | J9: =SUM(Master!J23) -> 10 | K9: =SUM(Master!K23) -> 0 | L9: =((D9*10)+(E9*10)+(F9*2)+(H9*5)+(I9*25)+(J9*20)+(K9*20)-(G9*5))*2 -> 2270
A10: Matt | B10: Morrissey | C10: 7.2 | D10: =SUM(Master!D24) -> 8 | E10: =SUM(Master!E24) -> 0 | F10: =SUM(Master!F24) -> 106 | G10: =SUM(Master!G24) -> 1 | H10: =SUM(Master!H24) -> 0 | I10: =SUM(Master!I24) -> 0 | J10: =SUM(Master!J24) -> 2 | K10: =SUM(Master!K24) -> 0 | L10: =(D10*10)+(E10*10)+(F10*2)+(H10*5)+(I10*25)+(J10*20)+(K10*20)-(G10*5) -> 327
A11: Frankie | B11: Perkin | C11: 6 | D11: =SUM(Master!D26) -> 5 | E11: =SUM(Master!E26) -> 1 | F11: =SUM(Master!F26) -> 51 | G11: =SUM(Master!G26) -> 1 | H11: =SUM(Master!H26) -> 6 | I11: =SUM(Master!I26) -> 5 | J11: =SUM(Master!J26) -> 4 | K11: =SUM(Master!K26) -> 0 | L11: =(D11*10)+(E11*10)+(F11*2)+(H11*5)+(I11*25)+(J11*20)+(K11*20)-(G11*5) -> 392
A12: Jack | B12: Quennell | C12: 6 | D12: =SUM(Master!D28) -> 9 | E12: =SUM(Master!E28) -> 0 | F12: =SUM(Master!F28) -> 103 | G12: =SUM(Master!G28) -> 0 | H12: =SUM(Master!H28) -> 0 | I12: =SUM(Master!I28) -> 0 | J12: =SUM(Master!J28) -> 7 | K12: =SUM(Master!K28) -> 0 | L12: =(D12*10)+(E12*10)+(F12*2)+(H12*5)+(I12*25)+(J12*20)+(K12*20)-(G12*5) -> 436
A13: Henry | B13: Swallow | C13: 8.35 | D13: =SUM(Master!D33) -> 6 | E13: =SUM(Master!E33) -> 1 | F13: =SUM(Master!F33) -> 211 | G13: =SUM(Master!G33) -> 0 | H13: =SUM(Master!H33) -> 0 | I13: =SUM(Master!I33) -> 0 | J13: =SUM(Master!J33) -> 1 | K13: =SUM(Master!K33) -> 0 | L13: =(D13*10)+(E13*10)+(F13*2)+(H13*5)+(I13*25)+(J13*20)+(K13*20)-(G13*5) -> 512
L38: =SUM(L3:L37) -> 6842

Sheet AWM
A1: First Name | B1: Second Name | C1: Price | D1: Games | E1: Batting Points | H1: Bowling Points | J1: Fielding Points | L1: Points | M1: Ali & Will Macs Best XI
E2: Not Out | F2: Runs | G2: Ducks | H2: Maidens | I2: Wickets | J2: Catches | K2: Run Outs
A3: Mark | B3: Bird | C3: 7.23 | D3: =SUM(Master!D4) -> 8 | E3: =SUM(Master!E4) -> 1 | F3: =SUM(Master!F4) -> 143 | G3: =SUM(Master!G4) -> 1 | H3: =SUM(Master!H4) -> 1 | I3: =SUM(Master!I4) -> 5 | J3: =SUM(Master!J4) -> 3 | K3: =SUM(Master!K4) -> 0 | L3: =(D3*10)+(E3*10)+(F3*2)+(H3*5)+(I3*25)+(J3*20)+(K3*20)-(G3*5) -> 561 | M3: Ali & Will McLaughlin
A4: Gareth | B4: Goddard | C4: 8.36 | D4: =SUM(Master!D10) -> 9 | E4: =SUM(Master!E10) -> 0 | F4: =SUM(Master!F10) -> 205 | G4: =SUM(Master!G10) -> 0 | H4: =SUM(Master!H10) -> 0 | I4: =SUM(Master!I10) -> 0 | J4: =SUM(Master!J10) -> 6 | K4: =SUM(Master!K10) -> 2 | L4: =(D4*10)+(E4*10)+(F4*2)+(H4*5)+(I4*25)+(J4*20)+(K4*20)-(G4*5) -> 660
A5: Will | B5: Hodgson | C5: 6 | D5: =SUM(Master!D15) -> 6 | E5: =SUM(Master!E15) -> 1 | F5: =SUM(Master!F15) -> 118 | G5: =SUM(Master!G15) -> 2 | H5: =SUM(Master!H15) -> 0 | I5: =SUM(Master!I15) -> 1 | J5: =SUM(Master!J15) -> 2 | K5: =SUM(Master!K15) -> 1 | L5: =(D5*10)+(E5*10)+(F5*2)+(H5*5)+(I5*25)+(J5*20)+(K5*20)-(G5*5) -> 381
A6: Ryan | B6: Knight | C6: 12.4 | D6: =SUM(Master!D18) -> 9 | E6: =SUM(Master!E18) -> 0 | F6: =SUM(Master!F18) -> 153 | G6: =SUM(Master!G18) -> 2 | H6: =SUM(Master!H18) -> 0 | I6: =SUM(Master!I18) -> 0 | J6: =SUM(Master!J18) -> 7 | K6: =SUM(Master!K18) -> 1 | L6: =(D6*10)+(E6*10)+(F6*2)+(H6*5)+(I6*25)+(J6*20)+(K6*20)-(G6*5) -> 546
A7: Jason | B7: Kruger | C7: 12.96 | D7: =SUM(Master!D19) -> 6 | E7: =SUM(Master!E19) -> 0 | F7: =SUM(Master!F19) -> 22 | G7: =SUM(Master!G19) -> 2 | H7: =SUM(Master!H19) -> 11 | I7: =SUM(Master!I19) -> 4 | J7: =SUM(Master!J19) -> 1 | K7: =SUM(Master!K19) -> 1 | L7: =(D7*10)+(E7*10)+(F7*2)+(H7*5)+(I7*25)+(J7*20)+(K7*20)-(G7*5) -> 289
A8: Nick | B8: Lester | C8: 10.34 | D8: =SUM(Master!D20) -> 9 | E8: =SUM(Master!E20) -> 2 | F8: =SUM(Master!F20) -> 13 | G8: =SUM(Master!G20) -> 0 | H8: =SUM(Master!H20) -> 10 | I8: =SUM(Master!I20) -> 18 | J8: =SUM(Master!J20) -> 4 | K8: =SUM(Master!K20) -> 0 | L8: =(D8*10)+(E8*10)+(F8*2)+(H8*5)+(I8*25)+(J8*20)+(K8*20)-(G8*5) -> 716
A9: Dan | B9: McLaughlin | C9: 13.48 | D9: =SUM(Master!D23) -> 9 | E9: =SUM(Master!E23) -> 2 | F9: =SUM(Master!F23) -> 250 | G9: =SUM(Master!G23) -> 1 | H9: =SUM(Master!H23) -> 1 | I9: =SUM(Master!I23) -> 13 | J9: =SUM(Master!J23) -> 10 | K9: =SUM(Master!K23) -> 0 | L9: =((D9*10)+(E9*10)+(F9*2)+(H9*5)+(I9*25)+(J9*20)+(K9*20)-(G9*5))*2 -> 2270
A10: Matt | B10: Morrissey | C10: 7.2 | D10: =SUM(Master!D24) -> 8 | E10: =SUM(Master!E24) -> 0 | F10: =SUM(Master!F24) -> 106 | G10: =SUM(Master!G24) -> 1 | H10: =SUM(Master!H24) -> 0 | I10: =SUM(Master!I24) -> 0 | J10: =SUM(Master!J24) -> 2 | K10: =SUM(Master!K24) -> 0 | L10: =(D10*10)+(E10*10)+(F10*2)+(H10*5)+(I10*25)+(J10*20)+(K10*20)-(G10*5) -> 327
A11: Frankie | B11: Perkin | C11: 6 | D11: =SUM(Master!D26) -> 5 | E11: =SUM(Master!E26) -> 1 | F11: =SUM(Master!F26) -> 51 | G11: =SUM(Master!G26) -> 1 | H11: =SUM(Master!H26) -> 6 | I11: =SUM(Master!I26) -> 5 | J11: =SUM(Master!J26) -> 4 | K11: =SUM(Master!K26) -> 0 | L11: =(D11*10)+(E11*10)+(F11*2)+(H11*5)+(I11*25)+(J11*20)+(K11*20)-(G11*5) -> 392
A12: Jack | B12: Quennell | C12: 6 | D12: =SUM(Master!D28) -> 9 | E12: =SUM(Master!E28) -> 0 | F12: =SUM(Master!F28) -> 103 | G12: =SUM(Master!G28) -> 0 | H12: =SUM(Master!H28) -> 0 | I12: =SUM(Master!I28) -> 0 | J12: =SUM(Master!J28) -> 7 | K12: =SUM(Master!K28) -> 0 | L12: =(D12*10)+(E12*10)+(F12*2)+(H12*5)+(I12*25)+(J12*20)+(K12*20)-(G12*5) -> 436
A13: Henry | B13: Swallow | C13: 8.35 | D13: =SUM(Master!D33) -> 6 | E13: =SUM(Master!E33) -> 1 | F13: =SUM(Master!F33) -> 211 | G13: =SUM(Master!G33) -> 0 | H13: =SUM(Master!H33) -> 0 | I13: =SUM(Master!I33) -> 0 | J13: =SUM(Master!J33) -> 1 | K13: =SUM(Master!K33) -> 0 | L13: =(D13*10)+(E13*10)+(F13*2)+(H13*5)+(I13*25)+(J13*20)+(K13*20)-(G13*5) -> 512
L38: =SUM(L3:L37) -> 7090

Sheet DM
A1: First Name | B1: Second Name | C1: Price | D1: Games | E1: Batting Points | H1: Bowling Points | J1: Fielding Points | L1: Points | M1: Highway to the Grooner Zone
E2: Not Out | F2: Runs | G2: Ducks | H2: Maidens | I2: Wickets | J2: Catches | K2: Run Outs
A3: Mark | B3: Bird | C3: 7.23 | D3: =SUM(Master!D4) -> 8 | E3: =SUM(Master!E4) -> 1 | F3: =SUM(Master!F4) -> 143 | G3: =SUM(Master!G4) -> 1 | H3: =SUM(Master!H4) -> 1 | I3: =SUM(Master!I4) -> 5 | J3: =SUM(Master!J4) -> 3 | K3: =SUM(Master!K4) -> 0 | L3: =(D3*10)+(E3*10)+(F3*2)+(H3*5)+(I3*25)+(J3*20)+(K3*20)-(G3*5) -> 561 | M3: Dan McLaughlin
A4: Tony | B4: Bird | C4: 15.32 | D4: =SUM(Master!D5) -> 9 | E4: =SUM(Master!E5) -> 2 | F4: =SUM(Master!F5) -> 6 | G4: =SUM(Master!G5) -> 2 | H4: =SUM(Master!H5) -> 25 | I4: =SUM(Master!I5) -> 27 | J4: =SUM(Master!J5) -> 2 | K4: =SUM(Master!K5) -> 0 | L4: =(D4*10)+(E4*10)+(F4*2)+(H4*5)+(I4*25)+(J4*20)+(K4*20)-(G4*5) -> 952
A5: Paul | B5: Browning | C5: 6.81 | D5: =SUM(Master!D6) -> 9 | E5: =SUM(Master!E6) -> 1 | F5: =SUM(Master!F6) -> 58 | G5: =SUM(Master!G6) -> 2 | H5: =SUM(Master!H6) -> 0 | I5: =SUM(Master!I6) -> 0 | J5: =SUM(Master!J6) -> 4 | K5: =SUM(Master!K6) -> 4 | L5: =(D5*10)+(E5*10)+(F5*2)+(H5*5)+(I5*25)+(J5*20)+(K5*20)-(G5*5) -> 366
A6: Gareth | B6: Goddard | C6: 8.36 | D6: =SUM(Master!D10) -> 9 | E6: =SUM(Master!E10) -> 0 | F6: =SUM(Master!F10) -> 205 | G6: =SUM(Master!G10) -> 0 | H6: =SUM(Master!H10) -> 0 | I6: =SUM(Master!I10) -> 0 | J6: =SUM(Master!J10) -> 6 | K6: =SUM(Master!K10) -> 2 | L6: =(D6*10)+(E6*10)+(F6*2)+(H6*5)+(I6*25)+(J6*20)+(K6*20)-(G6*5) -> 660
A7: Alex | B7: Harvey-Jones | C7: 12.51 | D7: =SUM(Master!D14) -> 6 | E7: =SUM(Master!E14) -> 1 | F7: =SUM(Master!F14) -> 44 | G7: =SUM(Master!G14) -> 1 | H7: =SUM(Master!H14) -> 9 | I7: =SUM(Master!I14) -> 11 | J7: =SUM(Master!J14) -> 1 | K7: =SUM(Master!K14) -> 0 | L7: =(D7*10)+(E7*10)+(F7*2)+(H7*5)+(I7*25)+(J7*20)+(K7*20)-(G7*5) -> 493
A8: Will | B8: Hodgson | C8: 6 | D8: =SUM(Master!D15) -> 6 | E8: =SUM(Master!E15) -> 1 | F8: =SUM(Master!F15) -> 118 | G8: =SUM(Master!G15) -> 2 | H8: =SUM(Master!H15) -> 0 | I8: =SUM(Master!I15) -> 1 | J8: =SUM(Master!J15) -> 2 | K8: =SUM(Master!K15) -> 1 | L8: =(D8*10)+(E8*10)+(F8*2)+(H8*5)+(I8*25)+(J8*20)+(K8*20)-(G8*5) -> 381
A9: Liam | B9: Knight | C9: 6 | D9: =SUM(Master!D17) -> 5 | E9: =SUM(Master!E17) -> 0 | F9: =SUM(Master!F17) -> 101 | G9: =SUM(Master!G17) -> 0 | H9: =SUM(Master!H17) -> 0 | I9: =SUM(Master!I17) -> 0 | J9: =SUM(Master!J17) -> 0 | K9: =SUM(Master!K17) -> 0 | L9: =(D9*10)+(E9*10)+(F9*2)+(H9*5)+(I9*25)+(J9*20)+(K9*20)-(G9*5) -> 252
A10: Dan | B10: McLaughlin | C10: 13.48 | D10: =SUM(Master!D23) -> 9 | E10: =SUM(Master!E23) -> 2 | F10: =SUM(Master!F23) -> 250 | G10: =SUM(Master!G23) -> 1 | H10: =SUM(Master!H23) -> 1 | I10: =SUM(Master!I23) -> 13 | J10: =SUM(Master!J23) -> 10 | K10: =SUM(Master!K23) -> 0 | L10: =((D10*10)+(E10*10)+(F10*2)+(H10*5)+(I10*25)+(J10*20)+(K10*20)-(G10*5))*2 -> 2270
A11: Matt | B11: Morrissey | C11: 7.2 | D11: =SUM(Master!D24) -> 8 | E11: =SUM(Master!E24) -> 0 | F11: =SUM(Master!F24) -> 106 | G11: =SUM(Master!G24) -> 1 | H11: =SUM(Master!H24) -> 0 | I11: =SUM(Master!I24) -> 0 | J11: =SUM(Master!J24) -> 2 | K11: =SUM(Master!K24) -> 0 | L11: =(D11*10)+(E11*10)+(F11*2)+(H11*5)+(I11*25)+(J11*20)+(K11*20)-(G11*5) -> 327
A12: Jack | B12: Quennell | C12: 6 | D12: =SUM(Master!D28) -> 9 | E12: =SUM(Master!E28) -> 0 | F12: =SUM(Master!F28) -> 103 | G12: =SUM(Master!G28) -> 0 | H12: =SUM(Master!H28) -> 0 | I12: =SUM(Master!I28) -> 0 | J12: =SUM(Master!J28) -> 7 | K12: =SUM(Master!K28) -> 0 | L12: =(D12*10)+(E12*10)+(F12*2)+(H12*5)+(I12*25)+(J12*20)+(K12*20)-(G12*5) -> 436
A13: Henry | B13: Swallow | C13: 8.35 | D13: =SUM(Master!D33) -> 6 | E13: =SUM(Master!E33) -> 1 | F13: =SUM(Master!F33) -> 211 | G13: =SUM(Master!G33) -> 0 | H13: =SUM(Master!H33) -> 0 | I13: =SUM(Master!I33) -> 0 | J13: =SUM(Master!J33) -> 1 | K13: =SUM(Master!K33) -> 0 | L13: =(D13*10)+(E13*10)+(F13*2)+(H13*5)+(I13*25)+(J13*20)+(K13*20)-(G13*5) -> 512
L38: =SUM(L3:L37) -> 7210

Sheet MM
A1: First Name | B1: Second Name | C1: Price | D1: Games | E1: Batting Points | H1: Bowling Points | J1: Fielding Points | L1: Points | M1: Batty Boys
E2: Not Out | F2: Runs | G2: Ducks | H2: Maidens | I2: Wickets | J2: Catches | K2: Run Outs
A3: James | B3: Ashby | C3: 7 | D3: =SUM(Master!D3) -> 4 | E3: =SUM(Master!E3) -> 0 | F3: =SUM(Master!F3) -> 79 | G3: =SUM(Master!G3) -> 0 | H3: =SUM(Master!H3) -> 0 | I3: =SUM(Master!I3) -> 0 | J3: =SUM(Master!J3) -> 1 | K3: =SUM(Master!K3) -> 0 | L3: =(D3*10)+(E3*10)+(F3*2)+(H3*5)+(I3*25)+(J3*20)+(K3*20)-(G3*5) -> 218 | M3: Matt Morrissey
A4: Mark | B4: Bird | C4: 7.23 | D4: =SUM(Master!D4) -> 8 | E4: =SUM(Master!E4) -> 1 | F4: =SUM(Master!F4) -> 143 | G4: =SUM(Master!G4) -> 1 | H4: =SUM(Master!H4) -> 1 | I4: =SUM(Master!I4) -> 5 | J4: =SUM(Master!J4) -> 3 | K4: =SUM(Master!K4) -> 0 | L4: =(D4*10)+(E4*10)+(F4*2)+(H4*5)+(I4*25)+(J4*20)+(K4*20)-(G4*5) -> 561
A5: Tony | B5: Bird | C5: 15.32 | D5: =SUM(Master!D5) -> 9 | E5: =SUM(Master!E5) -> 2 | F5: =SUM(Master!F5) -> 6 | G5: =SUM(Master!G5) -> 2 | H5: =SUM(Master!H5) -> 25 | I5: =SUM(Master!I5) -> 27 | J5: =SUM(Master!J5) -> 2 | K5: =SUM(Master!K5) -> 0 | L5: =((D5*10)+(E5*10)+(F5*2)+(H5*5)+(I5*25)+(J5*20)+(K5*20)-(G5*5))*2 -> 1904
A6: Paul | B6: Browning | C6: 6.81 | D6: =SUM(Master!D6) -> 9 | E6: =SUM(Master!E6) -> 1 | F6: =SUM(Master!F6) -> 58 | G6: =SUM(Master!G6) -> 2 | H6: =SUM(Master!H6) -> 0 | I6: =SUM(Master!I6) -> 0 | J6: =SUM(Master!J6) -> 4 | K6: =SUM(Master!K6) -> 4 | L6: =(D6*10)+(E6*10)+(F6*2)+(H6*5)+(I6*25)+(J6*20)+(K6*20)-(G6*5) -> 366
A7: Gareth | B7: Goddard | C7: 8.36 | D7: =SUM(Master!D10) -> 9 | E7: =SUM(Master!E10) -> 0 | F7: =SUM(Master!F10) -> 205 | G7: =SUM(Master!G10) -> 0 | H7: =SUM(Master!H10) -> 0 | I7: =SUM(Master!I10) -> 0 | J7: =SUM(Master!J10) -> 6 | K7: =SUM(Master!K10) -> 2 | L7: =(D7*10)+(E7*10)+(F7*2)+(H7*5)+(I7*25)+(J7*20)+(K7*20)-(G7*5) -> 660
A8: Will | B8: Hodgson | C8: 6 | D8: =SUM(Master!D15) -> 6 | E8: =SUM(Master!E15) -> 1 | F8: =SUM(Master!F15) -> 118 | G8: =SUM(Master!G15) -> 2 | H8: =SUM(Master!H15) -> 0 | I8: =SUM(Master!I15) -> 1 | J8: =SUM(Master!J15) -> 2 | K8: =SUM(Master!K15) -> 1 | L8: =(D8*10)+(E8*10)+(F8*2)+(H8*5)+(I8*25)+(J8*20)+(K8*20)-(G8*5) -> 381
A9: Matt | B9: Irons | C9: 8.85 | D9: =SUM(Master!D16) -> 5 | E9: =SUM(Master!E16) -> 0 | F9: =SUM(Master!F16) -> 31 | G9: =SUM(Master!G16) -> 0 | H9: =SUM(Master!H16) -> 2 | I9: =SUM(Master!I16) -> 4 | J9: =SUM(Master!J16) -> 3 | K9: =SUM(Master!K16) -> 0 | L9: =(D9*10)+(E9*10)+(F9*2)+(H9*5)+(I9*25)+(J9*20)+(K9*20)-(G9*5) -> 282
A10: Liam | B10: Knight | C10: 6 | D10: =SUM(Master!D17) -> 5 | E10: =SUM(Master!E17) -> 0 | F10: =SUM(Master!F17) -> 101 | G10: =SUM(Master!G17) -> 0 | H10: =SUM(Master!H17) -> 0 | I10: =SUM(Master!I17) -> 0 | J10: =SUM(Master!J17) -> 0 | K10: =SUM(Master!K17) -> 0 | L10: =(D10*10)+(E10*10)+(F10*2)+(H10*5)+(I10*25)+(J10*20)+(K10*20)-(G10*5) -> 252
A11: Ryan | B11: Knight | C11: 12.4 | D11: =SUM(Master!D18) -> 9 | E11: =SUM(Master!E18) -> 0 | F11: =SUM(Master!F18) -> 153 | G11: =SUM(Master!G18) -> 2 | H11: =SUM(Master!H18) -> 0 | I11: =SUM(Master!I18) -> 0 | J11: =SUM(Master!J18) -> 7 | K11: =SUM(Master!K18) -> 1 | L11: =(D11*10)+(E11*10)+(F11*2)+(H11*5)+(I11*25)+(J11*20)+(K11*20)-(G11*5) -> 546
A12: Dan | B12: McLaughlin | C12: 13.48 | D12: =SUM(Master!D23) -> 9 | E12: =SUM(Master!E23) -> 2 | F12: =SUM(Master!F23) -> 250 | G12: =SUM(Master!G23) -> 1 | H12: =SUM(Master!H23) -> 1 | I12: =SUM(Master!I23) -> 13 | J12: =SUM(Master!J23) -> 10 | K12: =SUM(Master!K23) -> 0 | L12: =(D12*10)+(E12*10)+(F12*2)+(H12*5)+(I12*25)+(J12*20)+(K12*20)-(G12*5) -> 1135
A13: Matt | B13: Morrissey | C13: 7.2 | D13: =SUM(Master!D24) -> 8 | E13: =SUM(Master!E24) -> 0 | F13: =SUM(Master!F24) -> 106 | G13: =SUM(Master!G24) -> 1 | H13: =SUM(Master!H24) -> 0 | I13: =SUM(Master!I24) -> 0 | J13: =SUM(Master!J24) -> 2 | K13: =SUM(Master!K24) -> 0 | L13: =(D13*10)+(E13*10)+(F13*2)+(H13*5)+(I13*25)+(J13*20)+(K13*20)-(G13*5) -> 327
L38: =SUM(L3:L37) -> 6632

Sheet TB
A1: First Name | B1: Second Name | C1: Price | D1: Games | E1: Batting Points | H1: Bowling Points | J1: Fielding Points | L1: Points | M1: NFR
E2: Not Out | F2: Runs | G2: Ducks | H2: Maidens | I2: Wickets | J2: Catches | K2: Run Outs
A3: Mark | B3: Bird | C3: 7.23 | D3: =SUM(Master!D4) -> 8 | E3: =SUM(Master!E4) -> 1 | F3: =SUM(Master!F4) -> 143 | G3: =SUM(Master!G4) -> 1 | H3: =SUM(Master!H4) -> 1 | I3: =SUM(Master!I4) -> 5 | J3: =SUM(Master!J4) -> 3 | K3: =SUM(Master!K4) -> 0 | L3: =(D3*10)+(E3*10)+(F3*2)+(H3*5)+(I3*25)+(J3*20)+(K3*20)-(G3*5) -> 561 | M3: Tony Bird
A4: Tony | B4: Bird | C4: 15.32 | D4: =SUM(Master!D5) -> 9 | E4: =SUM(Master!E5) -> 2 | F4: =SUM(Master!F5) -> 6 | G4: =SUM(Master!G5) -> 2 | H4: =SUM(Master!H5) -> 25 | I4: =SUM(Master!I5) -> 27 | J4: =SUM(Master!J5) -> 2 | K4: =SUM(Master!K5) -> 0 | L4: =((D4*10)+(E4*10)+(F4*2)+(H4*5)+(I4*25)+(J4*20)+(K4*20)-(G4*5))*2 -> 1904
A5: Will | B5: Hodgson | C5: 6 | D5: =SUM(Master!D15) -> 6 | E5: =SUM(Master!E15) -> 1 | F5: =SUM(Master!F15) -> 118 | G5: =SUM(Master!G15) -> 2 | H5: =SUM(Master!H15) -> 0 | I5: =SUM(Master!I15) -> 1 | J5: =SUM(Master!J15) -> 2 | K5: =SUM(Master!K15) -> 1 | L5: =(D5*10)+(E5*10)+(F5*2)+(H5*5)+(I5*25)+(J5*20)+(K5*20)-(G5*5) -> 381
A6: Matt | B6: Irons | C6: 8.85 | D6: =SUM(Master!D16) -> 5 | E6: =SUM(Master!E16) -> 0 | F6: =SUM(Master!F16) -> 31 | G6: =SUM(Master!G16) -> 0 | H6: =SUM(Master!H16) -> 2 | I6: =SUM(Master!I16) -> 4 | J6: =SUM(Master!J16) -> 3 | K6: =SUM(Master!K16) -> 0 | L6: =(D6*10)+(E6*10)+(F6*2)+(H6*5)+(I6*25)+(J6*20)+(K6*20)-(G6*5) -> 282
A7: Liam | B7: Knight | C7: 6 | D7: =SUM(Master!D17) -> 5 | E7: =SUM(Master!E17) -> 0 | F7: =SUM(Master!F17) -> 101 | G7: =SUM(Master!G17) -> 0 | H7: =SUM(Master!H17) -> 0 | I7: =SUM(Master!I17) -> 0 | J7: =SUM(Master!J17) -> 0 | K7: =SUM(Master!K17) -> 0 | L7: =(D7*10)+(E7*10)+(F7*2)+(H7*5)+(I7*25)+(J7*20)+(K7*20)-(G7*5) -> 252
A8: Ryan | B8: Knight | C8: 12.4 | D8: =SUM(Master!D18) -> 9 | E8: =SUM(Master!E18) -> 0 | F8: =SUM(Master!F18) -> 153 | G8: =SUM(Master!G18) -> 2 | H8: =SUM(Master!H18) -> 0 | I8: =SUM(Master!I18) -> 0 | J8: =SUM(Master!J18) -> 7 | K8: =SUM(Master!K18) -> 1 | L8: =(D8*10)+(E8*10)+(F8*2)+(H8*5)+(I8*25)+(J8*20)+(K8*20)-(G8*5) -> 546
A9: Jason | B9: Kruger | C9: 12.96 | D9: =SUM(Master!D19) -> 6 | E9: =SUM(Master!E19) -> 0 | F9: =SUM(Master!F19) -> 22 | G9: =SUM(Master!G19) -> 2 | H9: =SUM(Master!H19) -> 11 | I9: =SUM(Master!I19) -> 4 | J9: =SUM(Master!J19) -> 1 | K9: =SUM(Master!K19) -> 1 | L9: =(D9*10)+(E9*10)+(F9*2)+(H9*5)+(I9*25)+(J9*20)+(K9*20)-(G9*5) -> 289
A10: Nick | B10: Lester | C10: 10.34 | D10: =SUM(Master!D20) -> 9 | E10: =SUM(Master!E20) -> 2 | F10: =SUM(Master!F20) -> 13 | G10: =SUM(Master!G20) -> 0 | H10: =SUM(Master!H20) -> 10 | I10: =SUM(Master!I20) -> 18 | J10: =SUM(Master!J20) -> 4 | K10: =SUM(Master!K20) -> 0 | L10: =(D10*10)+(E10*10)+(F10*2)+(H10*5)+(I10*25)+(J10*20)+(K10*20)-(G10*5) -> 716
A11: Frankie | B11: Perkin | C11: 6 | D11: =SUM(Master!D26) -> 5 | E11: =SUM(Master!E26) -> 1 | F11: =SUM(Master!F26) -> 51 | G11: =SUM(Master!G26) -> 1 | H11: =SUM(Master!H26) -> 6 | I11: =SUM(Master!I26) -> 5 | J11: =SUM(Master!J26) -> 4 | K11: =SUM(Master!K26) -> 0 | L11: =(D11*10)+(E11*10)+(F11*2)+(H11*5)+(I11*25)+(J11*20)+(K11*20)-(G11*5) -> 392
A12: Jack | B12: Quennell | C12: 6 | D12: =SUM(Master!D28) -> 9 | E12: =SUM(Master!E28) -> 0 | F12: =SUM(Master!F28) -> 103 | G12: =SUM(Master!G28) -> 0 | H12: =SUM(Master!H28) -> 0 | I12: =SUM(Master!I28) -> 0 | J12: =SUM(Master!J28) -> 7 | K12: =SUM(Master!K28) -> 0 | L12: =(D12*10)+(E12*10)+(F12*2)+(H12*5)+(I12*25)+(J12*20)+(K12*20)-(G12*5) -> 436
A13: Tom | B13: Robinson | C13: 6 | D13: =SUM(Master!D31) -> 9 | E13: =SUM(Master!E31) -> 4 | F13: =SUM(Master!F31) -> 46 | G13: =SUM(Master!G31) -> 0 | H13: =SUM(Master!H31) -> 2 | I13: =SUM(Master!I31) -> 3 | J13: =SUM(Master!J31) -> 0 | K13: =SUM(Master!K31) -> 0 | L13: =(D13*10)+(E13*10)+(F13*2)+(H13*5)+(I13*25)+(J13*20)+(K13*20)-(G13*5) -> 307
L38: =SUM(L3:L37) -> 6066

Sheet EB
A1: First Name | B1: Second Name | C1: Price | D1: Games | E1: Batting Points | H1: Bowling Points | J1: Fielding Points | L1: Points | M1: Cogenhoe Catastrophes
E2: Not Out | F2: Runs | G2: Ducks | H2: Maidens | I2: Wickets | J2: Catches | K2: Run Outs
A3: Mark | B3: Bird | C3: 7.23 | D3: =SUM(Master!D4) -> 8 | E3: =SUM(Master!E4) -> 1 | F3: =SUM(Master!F4) -> 143 | G3: =SUM(Master!G4) -> 1 | H3: =SUM(Master!H4) -> 1 | I3: =SUM(Master!I4) -> 5 | J3: =SUM(Master!J4) -> 3 | K3: =SUM(Master!K4) -> 0 | L3: =(D3*10)+(E3*10)+(F3*2)+(H3*5)+(I3*25)+(J3*20)+(K3*20)-(G3*5) -> 561 | M3: Ellen Bird
A4: Tony | B4: Bird | C4: 15.32 | D4: =SUM(Master!D5) -> 9 | E4: =SUM(Master!E5) -> 2 | F4: =SUM(Master!F5) -> 6 | G4: =SUM(Master!G5) -> 2 | H4: =SUM(Master!H5) -> 25 | I4: =SUM(Master!I5) -> 27 | J4: =SUM(Master!J5) -> 2 | K4: =SUM(Master!K5) -> 0 | L4: =((D4*10)+(E4*10)+(F4*2)+(H4*5)+(I4*25)+(J4*20)+(K4*20)-(G4*5))*2 -> 1904
A5: Gareth | B5: Goddard | C5: 8.36 | D5: =SUM(Master!D10) -> 9 | E5: =SUM(Master!E10) -> 0 | F5: =SUM(Master!F10) -> 205 | G5: =SUM(Master!G10) -> 0 | H5: =SUM(Master!H10) -> 0 | I5: =SUM(Master!I10) -> 0 | J5: =SUM(Master!J10) -> 6 | K5: =SUM(Master!K10) -> 2 | L5: =(D5*10)+(E5*10)+(F5*2)+(H5*5)+(I5*25)+(J5*20)+(K5*20)-(G5*5) -> 660
A6: James | B6: Goodwin | C6: 6.23 | D6: =SUM(Master!D12) -> 3 | E6: =SUM(Master!E12) -> 0 | F6: =SUM(Master!F12) -> 34 | G6: =SUM(Master!G12) -> 0 | H6: =SUM(Master!H12) -> 0 | I6: =SUM(Master!I12) -> 0 | J6: =SUM(Master!J12) -> 0 | K6: =SUM(Master!K12) -> 0 | L6: =(D6*10)+(E6*10)+(F6*2)+(H6*5)+(I6*25)+(J6*20)+(K6*20)-(G6*5) -> 98
A7: Matt | B7: Irons | C7: 8.85 | D7: =SUM(Master!D16) -> 5 | E7: =SUM(Master!E16) -> 0 | F7: =SUM(Master!F16) -> 31 | G7: =SUM(Master!G16) -> 0 | H7: =SUM(Master!H16) -> 2 | I7: =SUM(Master!I16) -> 4 | J7: =SUM(Master!J16) -> 3 | K7: =SUM(Master!K16) -> 0 | L7: =(D7*10)+(E7*10)+(F7*2)+(H7*5)+(I7*25)+(J7*20)+(K7*20)-(G7*5) -> 282
A8: Liam | B8: Knight | C8: 6 | D8: =SUM(Master!D17) -> 5 | E8: =SUM(Master!E17) -> 0 | F8: =SUM(Master!F17) -> 101 | G8: =SUM(Master!G17) -> 0 | H8: =SUM(Master!H17) -> 0 | I8: =SUM(Master!I17) -> 0 | J8: =SUM(Master!J17) -> 0 | K8: =SUM(Master!K17) -> 0 | L8: =(D8*10)+(E8*10)+(F8*2)+(H8*5)+(I8*25)+(J8*20)+(K8*20)-(G8*5) -> 252
A9: Ryan | B9: Knight | C9: 12.4 | D9: =SUM(Master!D18) -> 9 | E9: =SUM(Master!E18) -> 0 | F9: =SUM(Master!F18) -> 153 | G9: =SUM(Master!G18) -> 2 | H9: =SUM(Master!H18) -> 0 | I9: =SUM(Master!I18) -> 0 | J9: =SUM(Master!J18) -> 7 | K9: =SUM(Master!K18) -> 1 | L9: =(D9*10)+(E9*10)+(F9*2)+(H9*5)+(I9*25)+(J9*20)+(K9*20)-(G9*5) -> 546
A10: Matt | B10: Morrissey | C10: 7.2 | D10: =SUM(Master!D24) -> 8 | E10: =SUM(Master!E24) -> 0 | F10: =SUM(Master!F24) -> 106 | G10: =SUM(Master!G24) -> 1 | H10: =SUM(Master!H24) -> 0 | I10: =SUM(Master!I24) -> 0 | J10: =SUM(Master!J24) -> 2 | K10: =SUM(Master!K24) -> 0 | L10: =(D10*10)+(E10*10)+(F10*2)+(H10*5)+(I10*25)+(J10*20)+(K10*20)-(G10*5) -> 327
A11: Jack | B11: Quennell | C11: 6 | D11: =SUM(Master!D28) -> 9 | E11: =SUM(Master!E28) -> 0 | F11: =SUM(Master!F28) -> 103 | G11: =SUM(Master!G28) -> 0 | H11: =SUM(Master!H28) -> 0 | I11: =SUM(Master!I28) -> 0 | J11: =SUM(Master!J28) -> 7 | K11: =SUM(Master!K28) -> 0 | L11: =(D11*10)+(E11*10)+(F11*2)+(H11*5)+(I11*25)+(J11*20)+(K11*20)-(G11*5) -> 436
A12: Tom | B12: Robinson | C12: 6 | D12: =SUM(Master!D31) -> 9 | E12: =SUM(Master!E31) -> 4 | F12: =SUM(Master!F31) -> 46 | G12: =SUM(Master!G31) -> 0 | H12: =SUM(Master!H31) -> 2 | I12: =SUM(Master!I31) -> 3 | J12: =SUM(Master!J31) -> 0 | K12: =SUM(Master!K31) -> 0 | L12: =(D12*10)+(E12*10)+(F12*2)+(H12*5)+(I12*25)+(J12*20)+(K12*20)-(G12*5) -> 307
A13: Tom | B13: Smyth | C13: 13.51 | D13: =SUM(Master!D32) -> 8 | E13: =SUM(Master!E32) -> 2 | F13: =SUM(Master!F32) -> 33 | G13: =SUM(Master!G32) -> 2 | H13: =SUM(Master!H32) -> 13 | I13: =SUM(Master!I32) -> 13 | J13: =SUM(Master!J32) -> 1 | K13: =SUM(Master!K32) -> 0 | L13: =(D13*10)+(E13*10)+(F13*2)+(H13*5)+(I13*25)+(J13*20)+(K13*20)-(G13*5) -> 566
L38: =SUM(L3:L37) -> 5939

Sheet TR
A1: First Name | B1: Second Name | C1: Price | D1: Games | E1: Batting Points | H1: Bowling Points | J1: Fielding Points | L1: Points | M1: Smokies XI
E2: Not Out | F2: Runs | G2: Ducks | H2: Maidens | I2: Wickets | J2: Catches | K2: Run Outs
A3: James | B3: Ashby | C3: 7 | D3: =SUM(Master!D3) -> 4 | E3: =SUM(Master!E3) -> 0 | F3: =SUM(Master!F3) -> 79 | G3: =SUM(Master!G3) -> 0 | H3: =SUM(Master!H3) -> 0 | I3: =SUM(Master!I3) -> 0 | J3: =SUM(Master!J3) -> 1 | K3: =SUM(Master!K3) -> 0 | L3: =(D3*10)+(E3*10)+(F3*2)+(H3*5)+(I3*25)+(J3*20)+(K3*20)-(G3*5) -> 218 | M3: Tom Robinson
A4: Mark | B4: Bird | C4: 7.23 | D4: =SUM(Master!D4) -> 8 | E4: =SUM(Master!E4) -> 1 | F4: =SUM(Master!F4) -> 143 | G4: =SUM(Master!G4) -> 1 | H4: =SUM(Master!H4) -> 1 | I4: =SUM(Master!I4) -> 5 | J4: =SUM(Master!J4) -> 3 | K4: =SUM(Master!K4) -> 0 | L4: =((D4*10)+(E4*10)+(F4*2)+(H4*5)+(I4*25)+(J4*20)+(K4*20)-(G4*5))*2 -> 1122
A5: Russ | B5: Coleman | C5: 6 | D5: =SUM(Master!D8) -> 9 | E5: =SUM(Master!E8) -> 0 | F5: =SUM(Master!F8) -> 95 | G5: =SUM(Master!G8) -> 3 | H5: =SUM(Master!H8) -> 0 | I5: =SUM(Master!I8) -> 0 | J5: =SUM(Master!J8) -> 0 | K5: =SUM(Master!K8) -> 1 | L5: =(D5*10)+(E5*10)+(F5*2)+(H5*5)+(I5*25)+(J5*20)+(K5*20)-(G5*5) -> 285
A6: James | B6: Goodwin | C6: 6.23 | D6: =SUM(Master!D12) -> 3 | E6: =SUM(Master!E12) -> 0 | F6: =SUM(Master!F12) -> 34 | G6: =SUM(Master!G12) -> 0 | H6: =SUM(Master!H12) -> 0 | I6: =SUM(Master!I12) -> 0 | J6: =SUM(Master!J12) -> 0 | K6: =SUM(Master!K12) -> 0 | L6: =(D6*10)+(E6*10)+(F6*2)+(H6*5)+(I6*25)+(J6*20)+(K6*20)-(G6*5) -> 98
A7: Alex | B7: Harvey-Jones | C7: 12.51 | D7: =SUM(Master!D14) -> 6 | E7: =SUM(Master!E14) -> 1 | F7: =SUM(Master!F14) -> 44 | G7: =SUM(Master!G14) -> 1 | H7: =SUM(Master!H14) -> 9 | I7: =SUM(Master!I14) -> 11 | J7: =SUM(Master!J14) -> 1 | K7: =SUM(Master!K14) -> 0 | L7: =(D7*10)+(E7*10)+(F7*2)+(H7*5)+(I7*25)+(J7*20)+(K7*20)-(G7*5) -> 493
A8: Will | B8: Hodgson | C8: 6 | D8: =SUM(Master!D15) -> 6 | E8: =SUM(Master!E15) -> 1 | F8: =SUM(Master!F15) -> 118 | G8: =SUM(Master!G15) -> 2 | H8: =SUM(Master!H15) -> 0 | I8: =SUM(Master!I15) -> 1 | J8: =SUM(Master!J15) -> 2 | K8: =SUM(Master!K15) -> 1 | L8: =(D8*10)+(E8*10)+(F8*2)+(H8*5)+(I8*25)+(J8*20)+(K8*20)-(G8*5) -> 381
A9: Matt | B9: Irons | C9: 8.85 | D9: =SUM(Master!D16) -> 5 | E9: =SUM(Master!E16) -> 0 | F9: =SUM(Master!F16) -> 31 | G9: =SUM(Master!G16) -> 0 | H9: =SUM(Master!H16) -> 2 | I9: =SUM(Master!I16) -> 4 | J9: =SUM(Master!J16) -> 3 | K9: =SUM(Master!K16) -> 0 | L9: =(D9*10)+(E9*10)+(F9*2)+(H9*5)+(I9*25)+(J9*20)+(K9*20)-(G9*5) -> 282
A10: Ryan | B10: Knight | C10: 12.4 | D10: =SUM(Master!D18) -> 9 | E10: =SUM(Master!E18) -> 0 | F10: =SUM(Master!F18) -> 153 | G10: =SUM(Master!G18) -> 2 | H10: =SUM(Master!H18) -> 0 | I10: =SUM(Master!I18) -> 0 | J10: =SUM(Master!J18) -> 7 | K10: =SUM(Master!K18) -> 1 | L10: =(D10*10)+(E10*10)+(F10*2)+(H10*5)+(I10*25)+(J10*20)+(K10*20)-(G10*5) -> 546
A11: Nick | B11: Lester | C11: 10.34 | D11: =SUM(Master!D20) -> 9 | E11: =SUM(Master!E20) -> 2 | F11: =SUM(Master!F20) -> 13 | G11: =SUM(Master!G20) -> 0 | H11: =SUM(Master!H20) -> 10 | I11: =SUM(Master!I20) -> 18 | J11: =SUM(Master!J20) -> 4 | K11: =SUM(Master!K20) -> 0 | L11: =(D11*10)+(E11*10)+(F11*2)+(H11*5)+(I11*25)+(J11*20)+(K11*20)-(G11*5) -> 716
A12: Tom | B12: Robinson | C12: 6 | D12: =SUM(Master!D31) -> 9 | E12: =SUM(Master!E31) -> 4 | F12: =SUM(Master!F31) -> 46 | G12: =SUM(Master!G31) -> 0 | H12: =SUM(Master!H31) -> 2 | I12: =SUM(Master!I31) -> 3 | J12: =SUM(Master!J31) -> 0 | K12: =SUM(Master!K31) -> 0 | L12: =(D12*10)+(E12*10)+(F12*2)+(H12*5)+(I12*25)+(J12*20)+(K12*20)-(G12*5) -> 307
A13: Tom | B13: Smyth | C13: 13.51 | D13: =SUM(Master!D32) -> 8 | E13: =SUM(Master!E32) -> 2 | F13: =SUM(Master!F32) -> 33 | G13: =SUM(Master!G32) -> 2 | H13: =SUM(Master!H32) -> 13 | I13: =SUM(Master!I32) -> 13 | J13: =SUM(Master!J32) -> 1 | K13: =SUM(Master!K32) -> 0 | L13: =(D13*10)+(E13*10)+(F13*2)+(H13*5)+(I13*25)+(J13*20)+(K13*20)-(G13*5) -> 566
L38: =SUM(L3:L37) -> 5014

Sheet JG
A1: First Name | B1: Second Name | C1: Price | D1: Games | E1: Batting Points | H1: Bowling Points | J1: Fielding Points | L1: Points | M1: Gooders Goodie Bags
E2: Not Out | F2: Runs | G2: Ducks | H2: Maidens | I2: Wickets | J2: Catches | K2: Run Outs
A3: James | B3: Ashby | C3: 7 | D3: =SUM(Master!D3) -> 4 | E3: =SUM(Master!E3) -> 0 | F3: =SUM(Master!F3) -> 79 | G3: =SUM(Master!G3) -> 0 | H3: =SUM(Master!H3) -> 0 | I3: =SUM(Master!I3) -> 0 | J3: =SUM(Master!J3) -> 1 | K3: =SUM(Master!K3) -> 0 | L3: =(D3*10)+(E3*10)+(F3*2)+(H3*5)+(I3*25)+(J3*20)+(K3*20)-(G3*5) -> 218 | M3: James Goodwin
A4: Mark | B4: Bird | C4: 7.23 | D4: =SUM(Master!D4) -> 8 | E4: =SUM(Master!E4) -> 1 | F4: =SUM(Master!F4) -> 143 | G4: =SUM(Master!G4) -> 1 | H4: =SUM(Master!H4) -> 1 | I4: =SUM(Master!I4) -> 5 | J4: =SUM(Master!J4) -> 3 | K4: =SUM(Master!K4) -> 0 | L4: =(D4*10)+(E4*10)+(F4*2)+(H4*5)+(I4*25)+(J4*20)+(K4*20)-(G4*5) -> 561
A5: Tony | B5: Bird | C5: 15.32 | D5: =SUM(Master!D5) -> 9 | E5: =SUM(Master!E5) -> 2 | F5: =SUM(Master!F5) -> 6 | G5: =SUM(Master!G5) -> 2 | H5: =SUM(Master!H5) -> 25 | I5: =SUM(Master!I5) -> 27 | J5: =SUM(Master!J5) -> 2 | K5: =SUM(Master!K5) -> 0 | L5: =((D5*10)+(E5*10)+(F5*2)+(H5*5)+(I5*25)+(J5*20)+(K5*20)-(G5*5))*2 -> 1904
A6: Paul | B6: Browning | C6: 6.81 | D6: =SUM(Master!D6) -> 9 | E6: =SUM(Master!E6) -> 1 | F6: =SUM(Master!F6) -> 58 | G6: =SUM(Master!G6) -> 2 | H6: =SUM(Master!H6) -> 0 | I6: =SUM(Master!I6) -> 0 | J6: =SUM(Master!J6) -> 4 | K6: =SUM(Master!K6) -> 4 | L6: =(D6*10)+(E6*10)+(F6*2)+(H6*5)+(I6*25)+(J6*20)+(K6*20)-(G6*5) -> 366
A7: Gareth | B7: Goddard | C7: 8.36 | D7: =SUM(Master!D10) -> 9 | E7: =SUM(Master!E10) -> 0 | F7: =SUM(Master!F10) -> 205 | G7: =SUM(Master!G10) -> 0 | H7: =SUM(Master!H10) -> 0 | I7: =SUM(Master!I10) -> 0 | J7: =SUM(Master!J10) -> 6 | K7: =SUM(Master!K10) -> 2 | L7: =(D7*10)+(E7*10)+(F7*2)+(H7*5)+(I7*25)+(J7*20)+(K7*20)-(G7*5) -> 660
A8: Liam | B8: Knight | C8: 6 | D8: =SUM(Master!D17) -> 5 | E8: =SUM(Master!E17) -> 0 | F8: =SUM(Master!F17) -> 101 | G8: =SUM(Master!G17) -> 0 | H8: =SUM(Master!H17) -> 0 | I8: =SUM(Master!I17) -> 0 | J8: =SUM(Master!J17) -> 0 | K8: =SUM(Master!K17) -> 0 | L8: =(D8*10)+(E8*10)+(F8*2)+(H8*5)+(I8*25)+(J8*20)+(K8*20)-(G8*5) -> 252
A9: Nick | B9: Lester | C9: 10.34 | D9: =SUM(Master!D20) -> 9 | E9: =SUM(Master!E20) -> 2 | F9: =SUM(Master!F20) -> 13 | G9: =SUM(Master!G20) -> 0 | H9: =SUM(Master!H20) -> 10 | I9: =SUM(Master!I20) -> 18 | J9: =SUM(Master!J20) -> 4 | K9: =SUM(Master!K20) -> 0 | L9: =(D9*10)+(E9*10)+(F9*2)+(H9*5)+(I9*25)+(J9*20)+(K9*20)-(G9*5) -> 716
A10: Dan | B10: McLaughlin | C10: 13.48 | D10: =SUM(Master!D23) -> 9 | E10: =SUM(Master!E23) -> 2 | F10: =SUM(Master!F23) -> 250 | G10: =SUM(Master!G23) -> 1 | H10: =SUM(Master!H23) -> 1 | I10: =SUM(Master!I23) -> 13 | J10: =SUM(Master!J23) -> 10 | K10: =SUM(Master!K23) -> 0 | L10: =(D10*10)+(E10*10)+(F10*2)+(H10*5)+(I10*25)+(J10*20)+(K10*20)-(G10*5) -> 1135
A11: Matt | B11: Morrissey | C11: 7.2 | D11: =SUM(Master!D24) -> 8 | E11: =SUM(Master!E24) -> 0 | F11: =SUM(Master!F24) -> 106 | G11: =SUM(Master!G24) -> 1 | H11: =SUM(Master!H24) -> 0 | I11: =SUM(Master!I24) -> 0 | J11: =SUM(Master!J24) -> 2 | K11: =SUM(Master!K24) -> 0 | L11: =(D11*10)+(E11*10)+(F11*2)+(H11*5)+(I11*25)+(J11*20)+(K11*20)-(G11*5) -> 327
A12: Frankie | B12: Perkin | C12: 6 | D12: =SUM(Master!D26) -> 5 | E12: =SUM(Master!E26) -> 1 | F12: =SUM(Master!F26) -> 51 | G12: =SUM(Master!G26) -> 1 | H12: =SUM(Master!H26) -> 6 | I12: =SUM(Master!I26) -> 5 | J12: =SUM(Master!J26) -> 4 | K12: =SUM(Master!K26) -> 0 | L12: =(D12*10)+(E12*10)+(F12*2)+(H12*5)+(I12*25)+(J12*20)+(K12*20)-(G12*5) -> 392
A13: Henry | B13: Swallow | C13: 8.35 | D13: =SUM(Master!D33) -> 6 | E13: =SUM(Master!E33) -> 1 | F13: =SUM(Master!F33) -> 211 | G13: =SUM(Master!G33) -> 0 | H13: =SUM(Master!H33) -> 0 | I13: =SUM(Master!I33) -> 0 | J13: =SUM(Master!J33) -> 1 | K13: =SUM(Master!K33) -> 0 | L13: =(D13*10)+(E13*10)+(F13*2)+(H13*5)+(I13*25)+(J13*20)+(K13*20)-(G13*5) -> 512
L38: =SUM(L3:L37) -> 7043

Sheet GG
A1: First Name | B1: Second Name | C1: Price | D1: Games | E1: Batting Points | H1: Bowling Points | J1: Fielding Points | L1: Points | M1: Strathcarnage XI
E2: Not Out | F2: Runs | G2: Ducks | H2: Maidens | I2: Wickets | J2: Catches | K2: Run Outs
A3: Mark | B3: Bird | C3: 7.23 | D3: =SUM(Master!D4) -> 8 | E3: =SUM(Master!E4) -> 1 | F3: =SUM(Master!F4) -> 143 | G3: =SUM(Master!G4) -> 1 | H3: =SUM(Master!H4) -> 1 | I3: =SUM(Master!I4) -> 5 | J3: =SUM(Master!J4) -> 3 | K3: =SUM(Master!K4) -> 0 | L3: =(D3*10)+(E3*10)+(F3*2)+(H3*5)+(I3*25)+(J3*20)+(K3*20)-(G3*5) -> 561 | M3: Gareth Goddard
A4: Tony | B4: Bird | C4: 15.32 | D4: =SUM(Master!D5) -> 9 | E4: =SUM(Master!E5) -> 2 | F4: =SUM(Master!F5) -> 6 | G4: =SUM(Master!G5) -> 2 | H4: =SUM(Master!H5) -> 25 | I4: =SUM(Master!I5) -> 27 | J4: =SUM(Master!J5) -> 2 | K4: =SUM(Master!K5) -> 0 | L4: =(D4*10)+(E4*10)+(F4*2)+(H4*5)+(I4*25)+(J4*20)+(K4*20)-(G4*5) -> 952
A5: Paul | B5: Browning | C5: 6.81 | D5: =SUM(Master!D6) -> 9 | E5: =SUM(Master!E6) -> 1 | F5: =SUM(Master!F6) -> 58 | G5: =SUM(Master!G6) -> 2 | H5: =SUM(Master!H6) -> 0 | I5: =SUM(Master!I6) -> 0 | J5: =SUM(Master!J6) -> 4 | K5: =SUM(Master!K6) -> 4 | L5: =(D5*10)+(E5*10)+(F5*2)+(H5*5)+(I5*25)+(J5*20)+(K5*20)-(G5*5) -> 366
A6: Gareth | B6: Goddard | C6: 8.36 | D6: =SUM(Master!D10) -> 9 | E6: =SUM(Master!E10) -> 0 | F6: =SUM(Master!F10) -> 205 | G6: =SUM(Master!G10) -> 0 | H6: =SUM(Master!H10) -> 0 | I6: =SUM(Master!I10) -> 0 | J6: =SUM(Master!J10) -> 6 | K6: =SUM(Master!K10) -> 2 | L6: =(D6*10)+(E6*10)+(F6*2)+(H6*5)+(I6*25)+(J6*20)+(K6*20)-(G6*5) -> 660
A7: James | B7: Goodwin | C7: 6.23 | D7: =SUM(Master!D12) -> 3 | E7: =SUM(Master!E12) -> 0 | F7: =SUM(Master!F12) -> 34 | G7: =SUM(Master!G12) -> 0 | H7: =SUM(Master!H12) -> 0 | I7: =SUM(Master!I12) -> 0 | J7: =SUM(Master!J12) -> 0 | K7: =SUM(Master!K12) -> 0 | L7: =(D7*10)+(E7*10)+(F7*2)+(H7*5)+(I7*25)+(J7*20)+(K7*20)-(G7*5) -> 98
A8: Matt | B8: Irons | C8: 8.85 | D8: =SUM(Master!D16) -> 5 | E8: =SUM(Master!E16) -> 0 | F8: =SUM(Master!F16) -> 31 | G8: =SUM(Master!G16) -> 0 | H8: =SUM(Master!H16) -> 2 | I8: =SUM(Master!I16) -> 4 | J8: =SUM(Master!J16) -> 3 | K8: =SUM(Master!K16) -> 0 | L8: =(D8*10)+(E8*10)+(F8*2)+(H8*5)+(I8*25)+(J8*20)+(K8*20)-(G8*5) -> 282
A9: Liam | B9: Knight | C9: 6 | D9: =SUM(Master!D17) -> 5 | E9: =SUM(Master!E17) -> 0 | F9: =SUM(Master!F17) -> 101 | G9: =SUM(Master!G17) -> 0 | H9: =SUM(Master!H17) -> 0 | I9: =SUM(Master!I17) -> 0 | J9: =SUM(Master!J17) -> 0 | K9: =SUM(Master!K17) -> 0 | L9: =(D9*10)+(E9*10)+(F9*2)+(H9*5)+(I9*25)+(J9*20)+(K9*20)-(G9*5) -> 252
A10: Ryan | B10: Knight | C10: 12.4 | D10: =SUM(Master!D18) -> 9 | E10: =SUM(Master!E18) -> 0 | F10: =SUM(Master!F18) -> 153 | G10: =SUM(Master!G18) -> 2 | H10: =SUM(Master!H18) -> 0 | I10: =SUM(Master!I18) -> 0 | J10: =SUM(Master!J18) -> 7 | K10: =SUM(Master!K18) -> 1 | L10: =(D10*10)+(E10*10)+(F10*2)+(H10*5)+(I10*25)+(J10*20)+(K10*20)-(G10*5) -> 546
A11: Dan | B11: McLaughlin | C11: 13.48 | D11: =SUM(Master!D23) -> 9 | E11: =SUM(Master!E23) -> 2 | F11: =SUM(Master!F23) -> 250 | G11: =SUM(Master!G23) -> 1 | H11: =SUM(Master!H23) -> 1 | I11: =SUM(Master!I23) -> 13 | J11: =SUM(Master!J23) -> 10 | K11: =SUM(Master!K23) -> 0 | L11: =((D11*10)+(E11*10)+(F11*2)+(H11*5)+(I11*25)+(J11*20)+(K11*20)-(G11*5))*2 -> 2270
A12: Tom | B12: Robinson | C12: 6 | D12: =SUM(Master!D31) -> 9 | E12: =SUM(Master!E31) -> 4 | F12: =SUM(Master!F31) -> 46 | G12: =SUM(Master!G31) -> 0 | H12: =SUM(Master!H31) -> 2 | I12: =SUM(Master!I31) -> 3 | J12: =SUM(Master!J31) -> 0 | K12: =SUM(Master!K31) -> 0 | L12: =(D12*10)+(E12*10)+(F12*2)+(H12*5)+(I12*25)+(J12*20)+(K12*20)-(G12*5) -> 307
A13: Henry | B13: Swallow | C13: 8.35 | D13: =SUM(Master!D33) -> 6 | E13: =SUM(Master!E33) -> 1 | F13: =SUM(Master!F33) -> 211 | G13: =SUM(Master!G33) -> 0 | H13: =SUM(Master!H33) -> 0 | I13: =SUM(Master!I33) -> 0 | J13: =SUM(Master!J33) -> 1 | K13: =SUM(Master!K33) -> 0 | L13: =(D13*10)+(E13*10)+(F13*2)+(H13*5)+(I13*25)+(J13*20)+(K13*20)-(G13*5) -> 512
L38: =SUM(L3:L37) -> 6806

Sheet NL
A1: First Name | B1: Second Name | C1: Price | D1: Games | E1: Batting Points | H1: Bowling Points | J1: Fielding Points | L1: Points | M1: Erics Eleven
E2: Not Out | F2: Runs | G2: Ducks | H2: Maidens | I2: Wickets | J2: Catches | K2: Run Outs
A3: James | B3: Ashby | C3: 7 | D3: =SUM(Master!D3) -> 4 | E3: =SUM(Master!E3) -> 0 | F3: =SUM(Master!F3) -> 79 | G3: =SUM(Master!G3) -> 0 | H3: =SUM(Master!H3) -> 0 | I3: =SUM(Master!I3) -> 0 | J3: =SUM(Master!J3) -> 1 | K3: =SUM(Master!K3) -> 0 | L3: =(D3*10)+(E3*10)+(F3*2)+(H3*5)+(I3*25)+(J3*20)+(K3*20)-(G3*5) -> 218 | M3: Nick Lester
A4: Mark | B4: Bird | C4: 7.23 | D4: =SUM(Master!D4) -> 8 | E4: =SUM(Master!E4) -> 1 | F4: =SUM(Master!F4) -> 143 | G4: =SUM(Master!G4) -> 1 | H4: =SUM(Master!H4) -> 1 | I4: =SUM(Master!I4) -> 5 | J4: =SUM(Master!J4) -> 3 | K4: =SUM(Master!K4) -> 0 | L4: =(D4*10)+(E4*10)+(F4*2)+(H4*5)+(I4*25)+(J4*20)+(K4*20)-(G4*5) -> 561
A5: Tony | B5: Bird | C5: 15.32 | D5: =SUM(Master!D5) -> 9 | E5: =SUM(Master!E5) -> 2 | F5: =SUM(Master!F5) -> 6 | G5: =SUM(Master!G5) -> 2 | H5: =SUM(Master!H5) -> 25 | I5: =SUM(Master!I5) -> 27 | J5: =SUM(Master!J5) -> 2 | K5: =SUM(Master!K5) -> 0 | L5: =(D5*10)+(E5*10)+(F5*2)+(H5*5)+(I5*25)+(J5*20)+(K5*20)-(G5*5) -> 952
A6: Paul | B6: Browning | C6: 6.81 | D6: =SUM(Master!D6) -> 9 | E6: =SUM(Master!E6) -> 1 | F6: =SUM(Master!F6) -> 58 | G6: =SUM(Master!G6) -> 2 | H6: =SUM(Master!H6) -> 0 | I6: =SUM(Master!I6) -> 0 | J6: =SUM(Master!J6) -> 4 | K6: =SUM(Master!K6) -> 4 | L6: =(D6*10)+(E6*10)+(F6*2)+(H6*5)+(I6*25)+(J6*20)+(K6*20)-(G6*5) -> 366
A7: Gareth | B7: Goddard | C7: 8.36 | D7: =SUM(Master!D10) -> 9 | E7: =SUM(Master!E10) -> 0 | F7: =SUM(Master!F10) -> 205 | G7: =SUM(Master!G10) -> 0 | H7: =SUM(Master!H10) -> 0 | I7: =SUM(Master!I10) -> 0 | J7: =SUM(Master!J10) -> 6 | K7: =SUM(Master!K10) -> 2 | L7: =(D7*10)+(E7*10)+(F7*2)+(H7*5)+(I7*25)+(J7*20)+(K7*20)-(G7*5) -> 660
A8: Alex | B8: Harvey-Jones | C8: 12.51 | D8: =SUM(Master!D14) -> 6 | E8: =SUM(Master!E14) -> 1 | F8: =SUM(Master!F14) -> 44 | G8: =SUM(Master!G14) -> 1 | H8: =SUM(Master!H14) -> 9 | I8: =SUM(Master!I14) -> 11 | J8: =SUM(Master!J14) -> 1 | K8: =SUM(Master!K14) -> 0 | L8: =(D8*10)+(E8*10)+(F8*2)+(H8*5)+(I8*25)+(J8*20)+(K8*20)-(G8*5) -> 493
A9: Liam | B9: Knight | C9: 6 | D9: =SUM(Master!D17) -> 5 | E9: =SUM(Master!E17) -> 0 | F9: =SUM(Master!F17) -> 101 | G9: =SUM(Master!G17) -> 0 | H9: =SUM(Master!H17) -> 0 | I9: =SUM(Master!I17) -> 0 | J9: =SUM(Master!J17) -> 0 | K9: =SUM(Master!K17) -> 0 | L9: =(D9*10)+(E9*10)+(F9*2)+(H9*5)+(I9*25)+(J9*20)+(K9*20)-(G9*5) -> 252
A10: Nick | B10: Lester | C10: 10.34 | D10: =SUM(Master!D20) -> 9 | E10: =SUM(Master!E20) -> 2 | F10: =SUM(Master!F20) -> 13 | G10: =SUM(Master!G20) -> 0 | H10: =SUM(Master!H20) -> 10 | I10: =SUM(Master!I20) -> 18 | J10: =SUM(Master!J20) -> 4 | K10: =SUM(Master!K20) -> 0 | L10: =(D10*10)+(E10*10)+(F10*2)+(H10*5)+(I10*25)+(J10*20)+(K10*20)-(G10*5) -> 716
A11: Dan | B11: McLaughlin | C11: 13.48 | D11: =SUM(Master!D23) -> 9 | E11: =SUM(Master!E23) -> 2 | F11: =SUM(Master!F23) -> 250 | G11: =SUM(Master!G23) -> 1 | H11: =SUM(Master!H23) -> 1 | I11: =SUM(Master!I23) -> 13 | J11: =SUM(Master!J23) -> 10 | K11: =SUM(Master!K23) -> 0 | L11: =((D11*10)+(E11*10)+(F11*2)+(H11*5)+(I11*25)+(J11*20)+(K11*20)-(G11*5))*2 -> 2270
A12: Frankie | B12: Perkin | C12: 6 | D12: =SUM(Master!D26) -> 5 | E12: =SUM(Master!E26) -> 1 | F12: =SUM(Master!F26) -> 51 | G12: =SUM(Master!G26) -> 1 | H12: =SUM(Master!H26) -> 6 | I12: =SUM(Master!I26) -> 5 | J12: =SUM(Master!J26) -> 4 | K12: =SUM(Master!K26) -> 0 | L12: =(D12*10)+(E12*10)+(F12*2)+(H12*5)+(I12*25)+(J12*20)+(K12*20)-(G12*5) -> 392
A13: Tom | B13: Robinson | C13: 6 | D13: =SUM(Master!D31) -> 9 | E13: =SUM(Master!E31) -> 4 | F13: =SUM(Master!F31) -> 46 | G13: =SUM(Master!G31) -> 0 | H13: =SUM(Master!H31) -> 2 | I13: =SUM(Master!I31) -> 3 | J13: =SUM(Master!J31) -> 0 | K13: =SUM(Master!K31) -> 0 | L13: =(D13*10)+(E13*10)+(F13*2)+(H13*5)+(I13*25)+(J13*20)+(K13*20)-(G13*5) -> 307
L38: =SUM(L3:L37) -> 7187

Sheet PW1
A1: First Name | B1: Second Name | C1: Price | D1: Games | E1: Batting Points | H1: Bowling Points | J1: Fielding Points | L1: Points | M1: Pints Make Prizes
E2: Not Out | F2: Runs | G2: Ducks | H2: Maidens | I2: Wickets | J2: Catches | K2: Run Outs
A3: Gareth | B3: Goddard | C3: 8.36 | D3: =SUM(Master!D10) -> 9 | E3: =SUM(Master!E10) -> 0 | F3: =SUM(Master!F10) -> 205 | G3: =SUM(Master!G10) -> 0 | H3: =SUM(Master!H10) -> 0 | I3: =SUM(Master!I10) -> 0 | J3: =SUM(Master!J10) -> 6 | K3: =SUM(Master!K10) -> 2 | L3: =(D3*10)+(E3*10)+(F3*2)+(H3*5)+(I3*25)+(J3*20)+(K3*20)-(G3*5) -> 660 | M3: Phil Whiteman #1
A4: Alex | B4: Harvey-Jones | C4: 12.51 | D4: =SUM(Master!D14) -> 6 | E4: =SUM(Master!E14) -> 1 | F4: =SUM(Master!F14) -> 44 | G4: =SUM(Master!G14) -> 1 | H4: =SUM(Master!H14) -> 9 | I4: =SUM(Master!I14) -> 11 | J4: =SUM(Master!J14) -> 1 | K4: =SUM(Master!K14) -> 0 | L4: =(D4*10)+(E4*10)+(F4*2)+(H4*5)+(I4*25)+(J4*20)+(K4*20)-(G4*5) -> 493
A5: Liam | B5: Knight | C5: 6 | D5: =SUM(Master!D17) -> 5 | E5: =SUM(Master!E17) -> 0 | F5: =SUM(Master!F17) -> 101 | G5: =SUM(Master!G17) -> 0 | H5: =SUM(Master!H17) -> 0 | I5: =SUM(Master!I17) -> 0 | J5: =SUM(Master!J17) -> 0 | K5: =SUM(Master!K17) -> 0 | L5: =(D5*10)+(E5*10)+(F5*2)+(H5*5)+(I5*25)+(J5*20)+(K5*20)-(G5*5) -> 252
A6: Ryan | B6: Knight | C6: 12.4 | D6: =SUM(Master!D18) -> 9 | E6: =SUM(Master!E18) -> 0 | F6: =SUM(Master!F18) -> 153 | G6: =SUM(Master!G18) -> 2 | H6: =SUM(Master!H18) -> 0 | I6: =SUM(Master!I18) -> 0 | J6: =SUM(Master!J18) -> 7 | K6: =SUM(Master!K18) -> 1 | L6: =(D6*10)+(E6*10)+(F6*2)+(H6*5)+(I6*25)+(J6*20)+(K6*20)-(G6*5) -> 546
A7: Nick | B7: Lester | C7: 10.34 | D7: =SUM(Master!D20) -> 9 | E7: =SUM(Master!E20) -> 2 | F7: =SUM(Master!F20) -> 13 | G7: =SUM(Master!G20) -> 0 | H7: =SUM(Master!H20) -> 10 | I7: =SUM(Master!I20) -> 18 | J7: =SUM(Master!J20) -> 4 | K7: =SUM(Master!K20) -> 0 | L7: =((D7*10)+(E7*10)+(F7*2)+(H7*5)+(I7*25)+(J7*20)+(K7*20)-(G7*5))*2 -> 1432
A8: Chris | B8: Mason | C8: 5 | D8: =SUM(Master!D22) -> 8 | E8: =SUM(Master!E22) -> 2 | F8: =SUM(Master!F22) -> 15 | G8: =SUM(Master!G22) -> 0 | H8: =SUM(Master!H22) -> 15 | I8: =SUM(Master!I22) -> 18 | J8: =SUM(Master!J22) -> 3 | K8: =SUM(Master!K22) -> 0 | L8: =(D8*10)+(E8*10)+(F8*2)+(H8*5)+(I8*25)+(J8*20)+(K8*20)-(G8*5) -> 715
A9: Dan | B9: McLaughlin | C9: 13.48 | D9: =SUM(Master!D23) -> 9 | E9: =SUM(Master!E23) -> 2 | F9: =SUM(Master!F23) -> 250 | G9: =SUM(Master!G23) -> 1 | H9: =SUM(Master!H23) -> 1 | I9: =SUM(Master!I23) -> 13 | J9: =SUM(Master!J23) -> 10 | K9: =SUM(Master!K23) -> 0 | L9: =(D9*10)+(E9*10)+(F9*2)+(H9*5)+(I9*25)+(J9*20)+(K9*20)-(G9*5) -> 1135
A10: Jack | B10: Quennell | C10: 6 | D10: =SUM(Master!D28) -> 9 | E10: =SUM(Master!E28) -> 0 | F10: =SUM(Master!F28) -> 103 | G10: =SUM(Master!G28) -> 0 | H10: =SUM(Master!H28) -> 0 | I10: =SUM(Master!I28) -> 0 | J10: =SUM(Master!J28) -> 7 | K10: =SUM(Master!K28) -> 0 | L10: =(D10*10)+(E10*10)+(F10*2)+(H10*5)+(I10*25)+(J10*20)+(K10*20)-(G10*5) -> 436
A11: Tom | B11: Robinson | C11: 6 | D11: =SUM(Master!D31) -> 9 | E11: =SUM(Master!E31) -> 4 | F11: =SUM(Master!F31) -> 46 | G11: =SUM(Master!G31) -> 0 | H11: =SUM(Master!H31) -> 2 | I11: =SUM(Master!I31) -> 3 | J11: =SUM(Master!J31) -> 0 | K11: =SUM(Master!K31) -> 0 | L11: =(D11*10)+(E11*10)+(F11*2)+(H11*5)+(I11*25)+(J11*20)+(K11*20)-(G11*5) -> 307
A12: Henry | B12: Swallow | C12: 8.35 | D12: =SUM(Master!D33) -> 6 | E12: =SUM(Master!E33) -> 1 | F12: =SUM(Master!F33) -> 211 | G12: =SUM(Master!G33) -> 0 | H12: =SUM(Master!H33) -> 0 | I12: =SUM(Master!I33) -> 0 | J12: =SUM(Master!J33) -> 1 | K12: =SUM(Master!K33) -> 0 | L12: =(D12*10)+(E12*10)+(F12*2)+(H12*5)+(I12*25)+(J12*20)+(K12*20)-(G12*5) -> 512
A13: Gareth | B13: Tompkins | C13: 11.02 | D13: =SUM(Master!D34) -> 0 | E13: =SUM(Master!E34) -> 0 | F13: =SUM(Master!F34) -> 0 | G13: =SUM(Master!G34) -> 0 | H13: =SUM(Master!H34) -> 0 | I13: =SUM(Master!I34) -> 0 | J13: =SUM(Master!J34) -> 0 | K13: =SUM(Master!K34) -> 0 | L13: =(D13*10)+(E13*10)+(F13*2)+(H13*5)+(I13*25)+(J13*20)+(K13*20)-(G13*5) -> 0
L38: =SUM(L3:L37) -> 6488

Sheet PW2
A1: First Name | B1: Second Name | C1: Price | D1: Games | E1: Batting Points | H1: Bowling Points | J1: Fielding Points | L1: Points | M1: Football Bingo
E2: Not Out | F2: Runs | G2: Ducks | H2: Maidens | I2: Wickets | J2: Catches | K2: Run Outs
A3: James | B3: Ashby | C3: 7 | D3: =SUM(Master!D3) -> 4 | E3: =SUM(Master!E3) -> 0 | F3: =SUM(Master!F3) -> 79 | G3: =SUM(Master!G3) -> 0 | H3: =SUM(Master!H3) -> 0 | I3: =SUM(Master!I3) -> 0 | J3: =SUM(Master!J3) -> 1 | K3: =SUM(Master!K3) -> 0 | L3: =(D3*10)+(E3*10)+(F3*2)+(H3*5)+(I3*25)+(J3*20)+(K3*20)-(G3*5) -> 218 | M3: Phil Whiteman #2
A4: Mark | B4: Bird | C4: 7.23 | D4: =SUM(Master!D4) -> 8 | E4: =SUM(Master!E4) -> 1 | F4: =SUM(Master!F4) -> 143 | G4: =SUM(Master!G4) -> 1 | H4: =SUM(Master!H4) -> 1 | I4: =SUM(Master!I4) -> 5 | J4: =SUM(Master!J4) -> 3 | K4: =SUM(Master!K4) -> 0 | L4: =(D4*10)+(E4*10)+(F4*2)+(H4*5)+(I4*25)+(J4*20)+(K4*20)-(G4*5) -> 561
A5: Tony | B5: Bird | C5: 15.32 | D5: =SUM(Master!D5) -> 9 | E5: =SUM(Master!E5) -> 2 | F5: =SUM(Master!F5) -> 6 | G5: =SUM(Master!G5) -> 2 | H5: =SUM(Master!H5) -> 25 | I5: =SUM(Master!I5) -> 27 | J5: =SUM(Master!J5) -> 2 | K5: =SUM(Master!K5) -> 0 | L5: =((D5*10)+(E5*10)+(F5*2)+(H5*5)+(I5*25)+(J5*20)+(K5*20)-(G5*5))*2 -> 1904
A6: Paul | B6: Browning | C6: 6.81 | D6: =SUM(Master!D6) -> 9 | E6: =SUM(Master!E6) -> 1 | F6: =SUM(Master!F6) -> 58 | G6: =SUM(Master!G6) -> 2 | H6: =SUM(Master!H6) -> 0 | I6: =SUM(Master!I6) -> 0 | J6: =SUM(Master!J6) -> 4 | K6: =SUM(Master!K6) -> 4 | L6: =(D6*10)+(E6*10)+(F6*2)+(H6*5)+(I6*25)+(J6*20)+(K6*20)-(G6*5) -> 366
A7: Russ | B7: Coleman | C7: 6 | D7: =SUM(Master!D8) -> 9 | E7: =SUM(Master!E8) -> 0 | F7: =SUM(Master!F8) -> 95 | G7: =SUM(Master!G8) -> 3 | H7: =SUM(Master!H8) -> 0 | I7: =SUM(Master!I8) -> 0 | J7: =SUM(Master!J8) -> 0 | K7: =SUM(Master!K8) -> 1 | L7: =(D7*10)+(E7*10)+(F7*2)+(H7*5)+(I7*25)+(J7*20)+(K7*20)-(G7*5) -> 285
A8: James | B8: Goodwin | C8: 6.23 | D8: =SUM(Master!D12) -> 3 | E8: =SUM(Master!E12) -> 0 | F8: =SUM(Master!F12) -> 34 | G8: =SUM(Master!G12) -> 0 | H8: =SUM(Master!H12) -> 0 | I8: =SUM(Master!I12) -> 0 | J8: =SUM(Master!J12) -> 0 | K8: =SUM(Master!K12) -> 0 | L8: =(D8*10)+(E8*10)+(F8*2)+(H8*5)+(I8*25)+(J8*20)+(K8*20)-(G8*5) -> 98
A9: Alex | B9: Harvey-Jones | C9: 12.51 | D9: =SUM(Master!D14) -> 6 | E9: =SUM(Master!E14) -> 1 | F9: =SUM(Master!F14) -> 44 | G9: =SUM(Master!G14) -> 1 | H9: =SUM(Master!H14) -> 9 | I9: =SUM(Master!I14) -> 11 | J9: =SUM(Master!J14) -> 1 | K9: =SUM(Master!K14) -> 0 | L9: =(D9*10)+(E9*10)+(F9*2)+(H9*5)+(I9*25)+(J9*20)+(K9*20)-(G9*5) -> 493
A10: Matt | B10: Irons | C10: 8.85 | D10: =SUM(Master!D16) -> 5 | E10: =SUM(Master!E16) -> 0 | F10: =SUM(Master!F16) -> 31 | G10: =SUM(Master!G16) -> 0 | H10: =SUM(Master!H16) -> 2 | I10: =SUM(Master!I16) -> 4 | J10: =SUM(Master!J16) -> 3 | K10: =SUM(Master!K16) -> 0 | L10: =(D10*10)+(E10*10)+(F10*2)+(H10*5)+(I10*25)+(J10*20)+(K10*20)-(G10*5) -> 282
A11: Adam | B11: Longley | C11: 6 | D11: =SUM(Master!D21) -> 9 | E11: =SUM(Master!E21) -> 0 | F11: =SUM(Master!F21) -> 51 | G11: =SUM(Master!G21) -> 4 | H11: =SUM(Master!H21) -> 0 | I11: =SUM(Master!I21) -> 0 | J11: =SUM(Master!J21) -> 3 | K11: =SUM(Master!K21) -> 0 | L11: =(D11*10)+(E11*10)+(F11*2)+(H11*5)+(I11*25)+(J11*20)+(K11*20)-(G11*5) -> 232
A12: Tom | B12: Smyth | C12: 13.51 | D12: =SUM(Master!D32) -> 8 | E12: =SUM(Master!E32) -> 2 | F12: =SUM(Master!F32) -> 33 | G12: =SUM(Master!G32) -> 2 | H12: =SUM(Master!H32) -> 13 | I12: =SUM(Master!I32) -> 13 | J12: =SUM(Master!J32) -> 1 | K12: =SUM(Master!K32) -> 0 | L12: =(D12*10)+(E12*10)+(F12*2)+(H12*5)+(I12*25)+(J12*20)+(K12*20)-(G12*5) -> 566
A13: Henry | B13: Swallow | C13: 8.35 | D13: =SUM(Master!D33) -> 6 | E13: =SUM(Master!E33) -> 1 | F13: =SUM(Master!F33) -> 211 | G13: =SUM(Master!G33) -> 0 | H13: =SUM(Master!H33) -> 0 | I13: =SUM(Master!I33) -> 0 | J13: =SUM(Master!J33) -> 1 | K13: =SUM(Master!K33) -> 0 | L13: =(D13*10)+(E13*10)+(F13*2)+(H13*5)+(I13*25)+(J13*20)+(K13*20)-(G13*5) -> 512
L38: =SUM(L3:L37) -> 5517

Sheet PB
A1: First Name | B1: Second Name | C1: Price | D1: Games | E1: Batting Points | H1: Bowling Points | J1: Fielding Points | L1: Points | M1: Carpe Globulum
E2: Not Out | F2: Runs | G2: Ducks | H2: Maidens | I2: Wickets | J2: Catches | K2: Run Outs
A3: Mark | B3: Bird | C3: 7.23 | D3: =SUM(Master!D4) -> 8 | E3: =SUM(Master!E4) -> 1 | F3: =SUM(Master!F4) -> 143 | G3: =SUM(Master!G4) -> 1 | H3: =SUM(Master!H4) -> 1 | I3: =SUM(Master!I4) -> 5 | J3: =SUM(Master!J4) -> 3 | K3: =SUM(Master!K4) -> 0 | L3: =(D3*10)+(E3*10)+(F3*2)+(H3*5)+(I3*25)+(J3*20)+(K3*20)-(G3*5) -> 561 | M3: Paul Browning
A4: Tony | B4: Bird | C4: 15.32 | D4: =SUM(Master!D5) -> 9 | E4: =SUM(Master!E5) -> 2 | F4: =SUM(Master!F5) -> 6 | G4: =SUM(Master!G5) -> 2 | H4: =SUM(Master!H5) -> 25 | I4: =SUM(Master!I5) -> 27 | J4: =SUM(Master!J5) -> 2 | K4: =SUM(Master!K5) -> 0 | L4: =((D4*10)+(E4*10)+(F4*2)+(H4*5)+(I4*25)+(J4*20)+(K4*20)-(G4*5))*2 -> 1904
A5: Paul | B5: Browning | C5: 6.81 | D5: =SUM(Master!D6) -> 9 | E5: =SUM(Master!E6) -> 1 | F5: =SUM(Master!F6) -> 58 | G5: =SUM(Master!G6) -> 2 | H5: =SUM(Master!H6) -> 0 | I5: =SUM(Master!I6) -> 0 | J5: =SUM(Master!J6) -> 4 | K5: =SUM(Master!K6) -> 4 | L5: =(D5*10)+(E5*10)+(F5*2)+(H5*5)+(I5*25)+(J5*20)+(K5*20)-(G5*5) -> 366
A6: Gareth | B6: Goddard | C6: 8.36 | D6: =SUM(Master!D10) -> 9 | E6: =SUM(Master!E10) -> 0 | F6: =SUM(Master!F10) -> 205 | G6: =SUM(Master!G10) -> 0 | H6: =SUM(Master!H10) -> 0 | I6: =SUM(Master!I10) -> 0 | J6: =SUM(Master!J10) -> 6 | K6: =SUM(Master!K10) -> 2 | L6: =(D6*10)+(E6*10)+(F6*2)+(H6*5)+(I6*25)+(J6*20)+(K6*20)-(G6*5) -> 660
A7: James | B7: Goodwin | C7: 6.23 | D7: =SUM(Master!D12) -> 3 | E7: =SUM(Master!E12) -> 0 | F7: =SUM(Master!F12) -> 34 | G7: =SUM(Master!G12) -> 0 | H7: =SUM(Master!H12) -> 0 | I7: =SUM(Master!I12) -> 0 | J7: =SUM(Master!J12) -> 0 | K7: =SUM(Master!K12) -> 0 | L7: =(D7*10)+(E7*10)+(F7*2)+(H7*5)+(I7*25)+(J7*20)+(K7*20)-(G7*5) -> 98
A8: Alex | B8: Harvey-Jones | C8: 12.51 | D8: =SUM(Master!D14) -> 6 | E8: =SUM(Master!E14) -> 1 | F8: =SUM(Master!F14) -> 44 | G8: =SUM(Master!G14) -> 1 | H8: =SUM(Master!H14) -> 9 | I8: =SUM(Master!I14) -> 11 | J8: =SUM(Master!J14) -> 1 | K8: =SUM(Master!K14) -> 0 | L8: =(D8*10)+(E8*10)+(F8*2)+(H8*5)+(I8*25)+(J8*20)+(K8*20)-(G8*5) -> 493
A9: Matt | B9: Irons | C9: 8.85 | D9: =SUM(Master!D16) -> 5 | E9: =SUM(Master!E16) -> 0 | F9: =SUM(Master!F16) -> 31 | G9: =SUM(Master!G16) -> 0 | H9: =SUM(Master!H16) -> 2 | I9: =SUM(Master!I16) -> 4 | J9: =SUM(Master!J16) -> 3 | K9: =SUM(Master!K16) -> 0 | L9: =(D9*10)+(E9*10)+(F9*2)+(H9*5)+(I9*25)+(J9*20)+(K9*20)-(G9*5) -> 282
A10: Chris | B10: Mason | C10: 5 | D10: =SUM(Master!D22) -> 8 | E10: =SUM(Master!E22) -> 2 | F10: =SUM(Master!F22) -> 15 | G10: =SUM(Master!G22) -> 0 | H10: =SUM(Master!H22) -> 15 | I10: =SUM(Master!I22) -> 18 | J10: =SUM(Master!J22) -> 3 | K10: =SUM(Master!K22) -> 0 | L10: =(D10*10)+(E10*10)+(F10*2)+(H10*5)+(I10*25)+(J10*20)+(K10*20)-(G10*5) -> 715
A11: Dan | B11: McLaughlin | C11: 13.48 | D11: =SUM(Master!D23) -> 9 | E11: =SUM(Master!E23) -> 2 | F11: =SUM(Master!F23) -> 250 | G11: =SUM(Master!G23) -> 1 | H11: =SUM(Master!H23) -> 1 | I11: =SUM(Master!I23) -> 13 | J11: =SUM(Master!J23) -> 10 | K11: =SUM(Master!K23) -> 0 | L11: =(D11*10)+(E11*10)+(F11*2)+(H11*5)+(I11*25)+(J11*20)+(K11*20)-(G11*5) -> 1135
A12: Matt | B12: Morrissey | C12: 7.2 | D12: =SUM(Master!D24) -> 8 | E12: =SUM(Master!E24) -> 0 | F12: =SUM(Master!F24) -> 106 | G12: =SUM(Master!G24) -> 1 | H12: =SUM(Master!H24) -> 0 | I12: =SUM(Master!I24) -> 0 | J12: =SUM(Master!J24) -> 2 | K12: =SUM(Master!K24) -> 0 | L12: =(D12*10)+(E12*10)+(F12*2)+(H12*5)+(I12*25)+(J12*20)+(K12*20)-(G12*5) -> 327
A13: Henry | B13: Swallow | C13: 8.35 | D13: =SUM(Master!D33) -> 6 | E13: =SUM(Master!E33) -> 1 | F13: =SUM(Master!F33) -> 211 | G13: =SUM(Master!G33) -> 0 | H13: =SUM(Master!H33) -> 0 | I13: =SUM(Master!I33) -> 0 | J13: =SUM(Master!J33) -> 1 | K13: =SUM(Master!K33) -> 0 | L13: =(D13*10)+(E13*10)+(F13*2)+(H13*5)+(I13*25)+(J13*20)+(K13*20)-(G13*5) -> 512
L38: =SUM(L3:L37) -> 7053
