Workbook

Sheet Total
C1: Price | D1: 1 | E1: 2 | F1: 3 | G1: 4 | H1: 5 | I1: 6 | J1: 7 | K1: 8 | L1: 9 | M1: 10 | N1: 11 | O1: 12 | P1: 13 | Q1: 14 | R1: 15 | S1: 16 | T1: 17 | U1: 18 | V1: Total
A2: Pete | B2: Arthur | C2: 4.5 | M2: 0 | V2: =SUM(D2:U2) -> 0
A3: James | B3: Ashby | C3: 11.8 | D3: 130 | E3: 108 | F3: 0 | G3: 0 | H3: 60 | I3: 5 | J3: 10 | K3: 0 | L3: 28 | M3: 0 | V3: =SUM(D3:U3) -> 341
A4: Mark | B4: Bird | C4: 18.62 | D4: 30 | E4: 69 | F4: 0 | G4: 22 | H4: 42 | I4: 34 | J4: 14 | K4: 0 | L4: 40 | M4: 14 | V4: =SUM(D4:U4) -> 265
A5: Tony | B5: Bird | C5: 16.49 | D5: 190 | E5: 77 | F5: 0 | G5: 170 | H5: 110 | I5: 40 | J5: 150 | K5: 0 | L5: 90 | M5: 190 | V5: =SUM(D5:U5) -> 1017
A6: Paul | B6: Browning | C6: 7.76 | D6: 10 | E6: 25 | F6: 0 | G6: 40 | H6: 74 | I6: 64 | J6: 88 | K6: 0 | L6: 0 | M6: 0 | V6: =SUM(D6:U6) -> 301
A7: Charlie | B7: Bryant | C7: 4.5 | D7: 0 | E7: 0 | F7: 0 | G7: 0 | H7: 10 | I7: 0 | J7: 0 | K7: 0 | L7: 0 | M7: 0 | V7: =SUM(D7:U7) -> 10
A8: Fletcher | B8: Callaghan | C8: 5.84 | M8: 0 | V8: =SUM(D8:U8) -> 0
A9: Russ | B9: Coleman | C9: 7.96 | D9: 42 | E9: 52 | F9: 0 | G9: 12 | H9: 16 | I9: 38 | J9: 94 | K9: 0 | L9: 10 | M9: 24 | V9: =SUM(D9:U9) -> 288
A10: Adam | B10: Findley | C10: 4.5 | D10: 10 | E10: 35 | F10: 0 | G10: 0 | H10: 12 | I10: 0 | J10: 10 | K10: 0 | L10: 60 | M10: 35 | V10: =SUM(D10:U10) -> 162
A11: Wayne | B11: Gardner | C11: 5 | M11: 0 | V11: =SUM(D11:U11) -> 0
A12: Gareth | B12: Goddard | C12: 12.96 | D12: 22 | E12: 0 | F12: 0 | G12: 128 | H12: 66 | I12: 52 | J12: 90 | K12: 0 | L12: 114 | M12: 54 | V12: =SUM(D12:U12) -> 526
A13: Matt | B13: Golby | C13: 11.71 | D13: 5 | E13: 32 | F13: 0 | G13: 30 | H13: 50 | I13: 78 | J13: 92 | K13: 0 | L13: 52 | M13: 74 | V13: =SUM(D13:U13) -> 413
A14: James | B14: Goodwin | C14: 6.5 | D14: 0 | E14: 70 | F14: 0 | G14: 0 | H14: 201 | I14: 0 | J14: 0 | K14: 0 | L14: 66 | M14: 16 | V14: =SUM(D14:U14) -> 353
A15: Dan | B15: Harris | C15: 5 | D15: 0 | E15: 20 | F15: 0 | G15: 26 | H15: 0 | I15: 0 | J15: 108 | K15: 0 | L15: 40 | M15: 25 | V15: =SUM(D15:U15) -> 219
A16: Alex | B16: Harvey-Jones | C16: 14.06 | D16: 50 | E16: 20 | F16: 0 | G16: 45 | H16: 105 | I16: 107 | J16: 90 | K16: 0 | L16: 64 | M16: 63 | V16: =SUM(D16:U16) -> 544
A17: Will | B17: Hodgson | C17: 5 | D17: 30 | E17: 0 | F17: 0 | G17: 0 | H17: 0 | I17: 0 | J17: 14 | K17: 0 | L17: 0 | M17: 73 | V17: =SUM(D17:U17) -> 117
A18: Matt | B18: Irons | C18: 6.46 | D18: 50 | E18: 0 | F18: 0 | G18: 50 | H18: 89 | I18: 35 | J18: 0 | K18: 0 | L18: 55 | M18: 30 | V18: =SUM(D18:U18) -> 309
A19: James | B19: Kemeq | C19: 4.5 | M19: 0 | V19: =SUM(D19:U19) -> 0
A20: Liam | B20: Knight | C20: 5 | M20: 0 | V20: =SUM(D20:U20) -> 0
A21: Ryan | B21: Knight | C21: 9.6 | D21: 96 | E21: 36 | F21: 0 | G21: 128 | H21: 67 | I21: 154 | J21: 72 | K21: 0 | L21: 130 | M21: 78 | V21: =SUM(D21:U21) -> 761
A22: Jason | B22: Kruger | C22: 16.24 | D22: 70 | E22: 120 | F22: 0 | G22: 178 | H22: 60 | I22: 48 | J22: 80 | K22: 0 | L22: 50 | M22: 114 | V22: =SUM(D22:U22) -> 720
A23: Adam | B23: Lee-Brown | C23: 6.55 | D23: 18 | E23: 62 | F23: 0 | G23: 0 | H23: 0 | I23: 0 | J23: 0 | K23: 0 | L23: 0 | M23: 0 | V23: =SUM(D23:U23) -> 80
A24: Nick | B24: Lester | C24: 9.54 | D24: 95 | E24: 120 | F24: 0 | G24: 15 | H24: 10 | I24: 50 | J24: 54 | K24: 0 | L24: 15 | M24: 92 | V24: =SUM(D24:U24) -> 451
A25: Adam | B25: Longley | C25: 6.5 | D25: 10 | E25: 65 | F25: 0 | G25: 35 | H25: 40 | I25: 35 | J25: 10 | K25: 0 | L25: 0 | M25: 34 | V25: =SUM(D25:U25) -> 229
A26: Chris | B26: Mason | C26: 10.03 | D26: 0 | E26: 0 | F26: 0 | G26: 85 | H26: 20 | I26: 10 | J26: 10 | K26: 0 | L26: 10 | M26: 0 | V26: =SUM(D26:U26) -> 135
A27: Dan | B27: McLaughlin | C27: 12.8 | D27: 90 | E27: 100 | F27: 0 | G27: 74 | H27: 124 | I27: 78 | J27: 106 | K27: 0 | L27: 64 | M27: 24 | V27: =SUM(D27:U27) -> 660
A28: Matt | B28: Morrissey | C28: 13.96 | D28: 38 | E28: 5 | F28: 0 | G28: 25 | H28: 54 | I28: 44 | J28: 0 | K28: 0 | L28: 40 | M28: 52 | V28: =SUM(D28:U28) -> 258
A29: Keith | B29: Parsons | C29: 5.16 | M29: 0 | V29: =SUM(D29:U29) -> 0
A30: Dave | B30: Patrick | C30: 5 | M30: 0 | V30: =SUM(D30:U30) -> 0
A31: Frankie | B31: Perkin | C31: 5 | D31: 0 | E31: 50 | F31: 20 | G31: 0 | H31: 0 | I31: 0 | J31: 0 | K31: 0 | L31: 5 | M31: 0 | V31: =SUM(D31:U31) -> 75
A32: Connor | B32: Price | C32: 4.5 | D32: 0 | E32: 0 | F32: 0 | G32: 10 | H32: 0 | I32: 0 | J32: 0 | K32: 0 | L32: 0 | M32: 0 | V32: =SUM(D32:U32) -> 10
A33: Jack | B33: Quennell | C33: 12.46 | D33: 5 | E33: 25 | F33: 0 | G33: 36 | H33: 30 | I33: 26 | J33: 0 | K33: 0 | L33: 18 | M33: 10 | V33: =SUM(D33:U33) -> 150
A34: Roy | B34: Quennell | C34: 5 | M34: 0 | V34: =SUM(D34:U34) -> 0
A35: Jason | B35: Roberts | C35: 5 | D35: 0 | E35: 0 | F35: 0 | G35: 10 | H35: 0 | I35: 78 | J35: 0 | K35: 0 | L35: 0 | M35: 0 | V35: =SUM(D35:U35) -> 88
A36: Tom | B36: Smyth | C36: 8.85 | D36: 125 | E36: 60 | F36: 0 | G36: 40 | H36: 0 | I36: 120 | J36: 180 | K36: 0 | L36: 95 | M36: 80 | V36: =SUM(D36:U36) -> 700
A37: Henry | B37: Swallow | C37: 10.2 | D37: 25 | E37: 18 | F37: 0 | G37: 0 | H37: 90 | I37: 62 | J37: 74 | K37: 0 | L37: 0 | M37: 34 | V37: =SUM(D37:U37) -> 303
A38: Gareth | B38: Tompkins | C38: 13.17 | D38: 20 | E38: 5 | F38: 0 | G38: 164 | H38: 148 | I38: 26 | J38: 46 | K38: 0 | L38: 96 | M38: 0 | V38: =SUM(D38:U38) -> 505
A39: Stuart | B39: Town | C39: 5 | M39: 0 | V39: =SUM(D39:U39) -> 0
A40: Phil | B40: Whiteman | C40: 5 | M40: 0 | V40: =SUM(D40:U40) -> 0
A41: Ash | B41: Davis | C41: 8 | M41: 10 | V41: =SUM(D41:U41) -> 10
A42: Tom | B42: Robinson | C42: 4.5 | M42: 60 | V42: =SUM(M42:U42) -> 60
D43: =SUM(D2:D42) -> 1161 | E43: =SUM(E2:E42) -> 1174 | F43: =SUM(F2:F42) -> 20 | G43: =SUM(G2:G42) -> 1323 | H43: =SUM(H2:H42) -> 1478 | I43: =SUM(I2:I42) -> 1184 | J43: =SUM(J2:J42) -> 1392 | K43: =SUM(K2:K42) -> 0 | ... V43: =SUM(V2:V42) -> 10060
A45: Scores per week, by player, with total per week at the bottom, and total per player on the far right New players Ash Davis 8.0m and Tom Robinson 4.5m

Sheet HS
A1: Loose Cannons!!!
A2: Sir Henry Swallow | E2: =SUM(C4:C14) -> 99.82 | F2: < What your squad is worth
A3: First Name | B3: Second Name | C3: Price
A4: Paul | B4: Browning | C4: =SUM([1]CENTRAL!C7) -> 7.76 | E4: =SUM(Total!M6) -> 0 | F4: < What your squad got in GW10
A5: Adam | B5: Findlay | C5: =SUM([1]CENTRAL!C11) -> 4.5 | E5: =SUM(Total!M10) -> 35
A6: Gareth | B6: Goddard | C6: =SUM([1]CENTRAL!C13) -> 12.96 | E6: =SUM(Total!M12) -> 54
A7: Matt | B7: Irons | C7: =SUM([1]CENTRAL!C19) -> 6.46 | E7: =SUM(Total!M18) -> 30
A8: Ryan | B8: Knight | C8: =SUM([1]CENTRAL!C22) -> 9.6 | E8: =SUM(Total!M21) -> 78
A9: Adam | B9: Lee-Brown | C9: =SUM([1]CENTRAL!C24) -> 6.55 | E9: =SUM(Total!M23) -> 0
A10: Chris | B10: Mason | C10: =SUM([1]CENTRAL!C27) -> 10.03 | E10: =SUM(Total!M26) -> 0
A11: Matt | B11: Morrissey | C11: =SUM([1]CENTRAL!C29) -> 13.96 | E11: =SUM(Total!M28) -> 52
A12: Frankie | B12: Perkin | C12: =SUM([1]CENTRAL!C32) -> 5 | E12: =SUM(Total!M31) -> 0
A13: Henry | B13: Swallow | C13: =SUM([1]CENTRAL!C38) -> 10.2 | D13: C | E13: =SUM(Total!M37)*2 -> 68
A14: Dan | B14: McLaughlin | C14: =SUM([1]CENTRAL!C28) -> 12.8 | E14: =SUM(Total!M27) -> 24
E15: =SUM(E4:E14) -> 341
A16: =SUM(C19:C36) -> 3873
A18: Game Week | B18: Date Open | C18: Total
A19: 1 | B19: 41769 | C19: 384
A20: 2 | B20: 41776 | C20: 349
A21: 3 | B21: 41783
A22: 4 | B22: 41790 | C22: 550
A23: 5 | B23: 41797 | C23: 686
A24: 6 | B24: 41804 | C24: 561
A25: 7 | B25: 41811 | C25: 524
A26: 8 | B26: 41818
A27: 9 | B27: 41825 | C27: 478
A28: 10 | B28: 41832 | C28: =SUM(E15) -> 341
A29: 11 | B29: 41839
A30: 12 | B30: 41846
A31: 13 | B31: 41853
A32: 14 | B32: 41860
A33: 15 | B33: 41867
A34: 16 | B34: 41874
A35: 17 | B35: 41881
A36: 18 | B36: 41888

Sheet WH
A1: Halfen Halfen!!!
A2: Will Hodgson | E2: =SUM(C4:C14) -> 98.85 | F2: < What your squad is worth
A3: First Name | B3: Second Name | C3: Price
A4: James | B4: Ashby | C4: =SUM([1]CENTRAL!C4) -> 11.8 | E4: =SUM(Total!M3) -> 0 | F4: < What your squad got in GW10
A5: Paul | B5: Browning | C5: =SUM([1]CENTRAL!C7) -> 7.76 | E5: =SUM(Total!M6) -> 0
A6: Fletcher | B6: Callaghan | C6: =SUM([1]CENTRAL!C9) -> 5.84 | E6: =SUM(Total!M8) -> 0
A7: Adam | B7: Findlay | C7: =SUM([1]CENTRAL!C11) -> 4.5 | E7: =SUM(Total!M10) -> 35
A8: Alex | B8: Harvey-Jones | C8: =SUM([1]CENTRAL!C17) -> 14.06 | E8: =SUM(Total!M16) -> 63
A9: Will | B9: Hodgson | C9: =SUM([1]CENTRAL!C18) -> 5 | D9: C | E9: =SUM(Total!M17)*2 -> 146
A10: Matt | B10: Irons | C10: =SUM([1]CENTRAL!C19) -> 6.46 | E10: =SUM(Total!M18) -> 30
A11: Dan | B11: McLaughlin | C11: =SUM([1]CENTRAL!C28) -> 12.8 | E11: =SUM(Total!M27) -> 24
A12: Frankie | B12: Perkin | C12: =SUM([1]CENTRAL!C32) -> 5 | E12: =SUM(Total!M31) -> 0
A13: Jack | B13: Quennell | C13: =SUM([1]CENTRAL!C34) -> 12.46 | E13: =SUM(Total!M33) -> 10
A14: Gareth | B14: Tompkins | C14: =SUM([1]CENTRAL!C39) -> 13.17 | E14: =SUM(Total!M38) -> 0
E15: =SUM(E4:E14) -> 308
A16: =SUM(C19:C36) -> 3281
A18: Game Week | B18: Date Open | C18: Total
A19: 1 | B19: 41769 | C19: 425
A20: 2 | B20: 41776 | C20: 368
A21: 3 | B21: 41783
A22: 4 | B22: 41790 | C22: 429
A23: 5 | B23: 41797 | C23: 642
A24: 6 | B24: 41804 | C24: 341
A25: 7 | B25: 41811 | C25: 378
A26: 8 | B26: 41818
A27: 9 | B27: 41825 | C27: 390
A28: 10 | B28: 41832 | C28: =SUM(E15) -> 308
A29: 11 | B29: 41839
A30: 12 | B30: 41846
A31: 13 | B31: 41853
A32: 14 | B32: 41860
A33: 15 | B33: 41867
A34: 16 | B34: 41874
A35: 17 | B35: 41881
A36: 18 | B36: 41888

Sheet JG
A1: Rattle That Timber
A2: James Goodwin | E2: =SUM(C4:C14) -> 87.57 | F2: < What your squad is worth
A3: First Name | B3: Second Name | C3: Price
A4: Paul | B4: Browning | C4: =SUM([1]CENTRAL!C7) -> 7.76 | E4: =SUM(Total!M6) -> 0 | F4: < What your squad got in GW10
A5: James | B5: Goodwin | C5: =SUM([1]CENTRAL!C15) -> 6.5 | E5: =SUM(Total!M14) -> 16
A6: Dan | B6: McLaughlin | C6: 12.8 | D6: C | E6: =SUM(Total!M27)*2 -> 48
A7: Matt | B7: Irons | C7: =SUM([1]CENTRAL!C19) -> 6.46 | E7: =SUM(Total!M18) -> 30
A8: Ryan | B8: Knight | C8: =SUM([1]CENTRAL!C21) -> 0 | E8: =SUM(Total!M21) -> 78
A9: Nick | B9: Lester | C9: =SUM([1]CENTRAL!C25) -> 9.54 | E9: =SUM(Total!M24) -> 92
A10: Adam | B10: Longley | C10: =SUM([1]CENTRAL!C26) -> 6.5 | E10: =SUM(Total!M25) -> 34
A11: Matt | B11: Morrissey | C11: =SUM([1]CENTRAL!C29) -> 13.96 | E11: =SUM(Total!M28) -> 52
A12: Frankie | B12: Perkin | C12: =SUM([1]CENTRAL!C32) -> 5 | E12: =SUM(Total!M31) -> 0
A13: Tom | B13: Smyth | C13: =SUM([1]CENTRAL!C37) -> 8.85 | E13: =SUM(Total!M36) -> 80
A14: Henry | B14: Swallow | C14: =SUM([1]CENTRAL!C38) -> 10.2 | E14: =SUM(Total!M37) -> 34
E15: =SUM(E4:E14) -> 464
A16: =SUM(C19:C36) -> 4770
A18: Game Week | B18: Date Open | C18: Total
A19: 1 | B19: 41769 | C19: 549
A20: 2 | B20: 41776 | C20: 489
A21: 3 | B21: 41783
A22: 4 | B22: 41790 | C22: 443
A23: 5 | B23: 41797 | C23: 835
A24: 6 | B24: 41804 | C24: 778
A25: 7 | B25: 41811 | C25: 658
A26: 8 | B26: 41818
A27: 9 | B27: 41825 | C27: 554
A28: 10 | B28: 41832 | C28: =SUM(E15) -> 464
A29: 11 | B29: 41839
A30: 12 | B30: 41846
A31: 13 | B31: 41853
A32: 14 | B32: 41860
A33: 15 | B33: 41867
A34: 16 | B34: 41874
A35: 17 | B35: 41881
A36: 18 | B36: 41888

Sheet DM
A1: Alistair's Army
A2: Daniel McLaughlin | E2: =SUM(C4:C14) -> 99.74 | F2: < What your squad is worth
A3: First Name | B3: Second Name | C3: Price
A4: James | B4: Ashby | C4: =SUM([1]CENTRAL!C4) -> 11.8 | E4: =SUM(Total!M3) -> 0 | F4: < What your squad got in GW10
A5: Tom | B5: Smyth | C5: =SUM([1]CENTRAL!C37) -> 8.85 | E5: =SUM(Total!M36) -> 80
A6: James | B6: Goodwin | C6: =SUM([1]CENTRAL!C15) -> 6.5 | E6: =SUM(Total!M14) -> 16
A7: Alex | B7: Harvey-Jones | C7: =SUM([1]CENTRAL!C17) -> 14.06 | E7: =SUM(Total!M16) -> 63
A8: Will | B8: Hodgson | C8: =SUM([1]CENTRAL!C18) -> 5 | E8: =SUM(Total!M17) -> 73
A9: Matt | B9: Irons | C9: =SUM([1]CENTRAL!C19) -> 6.46 | E9: =SUM(Total!M18) -> 30
A10: Adam | B10: Longley | C10: =SUM([1]CENTRAL!C26) -> 6.5 | E10: =SUM(Total!M25) -> 34
A11: Dan | B11: McLaughlin | C11: =SUM([1]CENTRAL!C28) -> 12.8 | D11: C | E11: =SUM(Total!M27)*2 -> 48
A12: Frankie | B12: Perkin | C12: =SUM([1]CENTRAL!C32) -> 5 | E12: =SUM(Total!M31) -> 0
A13: Gareth | B13: Tompkins | C13: =SUM([1]CENTRAL!C39) -> 13.17 | E13: =SUM(Total!M38) -> 0
A14: Ryan | B14: Knight | C14: =SUM([1]CENTRAL!C22) -> 9.6 | E14: =SUM(Total!M21) -> 78
E15: =SUM(E4:E14) -> 422
A16: =SUM(C19:C36) -> 4661
A18: Game Week | B18: Date Open | C18: Total
A19: 1 | B19: 41769 | C19: 505
A20: 2 | B20: 41776 | C20: 561
A21: 3 | B21: 41783
A22: 4 | B22: 41790 | C22: 502
A23: 5 | B23: 41797 | C23: 1055
A24: 6 | B24: 41804 | C24: 490
A25: 7 | B25: 41811 | C25: 544
A26: 8 | B26: 41818
A27: 9 | B27: 41825 | C27: 582
A28: 10 | B28: 41832 | C28: =SUM(E15) -> 422
A29: 11 | B29: 41839
A30: 12 | B30: 41846
A31: 13 | B31: 41853
A32: 14 | B32: 41860
A33: 15 | B33: 41867
A34: 16 | B34: 41874
A35: 17 | B35: 41881
A36: 18 | B36: 41888

Sheet MI
A1: The Rusty Donkey
A2: Matt Irons | E2: =SUM(C4:C14) -> 89.78 | F2: < What your squad is worth
A3: First Name | B3: Second Name | C3: Price
A4: Paul | B4: Browning | C4: =SUM([1]CENTRAL!C7) -> 7.76 | E4: =SUM(Total!M6) -> 0 | F4: < What your squad got in GW10
A5: Alex | B5: Harvey-Jones | C5: =SUM([1]CENTRAL!C17) -> 14.06 | E5: =SUM(Total!M16) -> 63
A6: Will | B6: Hodgson | C6: =SUM([1]CENTRAL!C18) -> 5 | E6: =SUM(Total!M17) -> 73
A7: Matt | B7: Irons | C7: =SUM([1]CENTRAL!C19) -> 6.46 | D7: C | E7: =SUM(Total!M18)*2 -> 60
A8: Adam | B8: Longley | C8: =SUM([1]CENTRAL!C26) -> 6.5 | E8: =SUM(Total!M25) -> 34
A9: Dan | B9: McLaughlin | C9: =SUM([1]CENTRAL!C28) -> 12.8 | E9: =SUM(Total!M27) -> 24
A10: Henry | B10: Swallow | C10: =SUM([1]CENTRAL!C38) -> 10.2 | E10: =SUM(Total!M37) -> 34
A11: Adam | B11: Findlay | C11: =SUM([1]CENTRAL!C11) -> 4.5 | E11: =SUM(Total!M10) -> 35
A12: Gareth | B12: Goddard | C12: =SUM([1]CENTRAL!C13) -> 12.96 | E12: =SUM(Total!M12) -> 54
A13: Ryan | B13: Knight | C13: =SUM([1]CENTRAL!C21) -> 0 | E13: =SUM(Total!M21) -> 78
A14: Nick | B14: Lester | C14: =SUM([1]CENTRAL!C25) -> 9.54 | E14: =SUM(Total!M24) -> 92
E15: =SUM(E4:E14) -> 547
A16: =SUM(C19:C36) -> 4682
A18: Game Week | B18: Date Open | C18: Total
A19: 1 | B19: 41769 | C19: 538
A20: 2 | B20: 41776 | C20: 419
A21: 3 | B21: 41783
A22: 4 | B22: 41790 | C22: 565
A23: 5 | B23: 41797 | C23: 766
A24: 6 | B24: 41804 | C24: 672
A25: 7 | B25: 41811 | C25: 608
A26: 8 | B26: 41818
A27: 9 | B27: 41825 | C27: 567
A28: 10 | B28: 41832 | C28: =SUM(E15) -> 547
A29: 11 | B29: 41839
A30: 12 | B30: 41846
A31: 13 | B31: 41853
A32: 14 | B32: 41860
A33: 15 | B33: 41867
A34: 16 | B34: 41874
A35: 17 | B35: 41881
A36: 18 | B36: 41888

Sheet AHJ
A1: Bat & Ball in Different Postcodes
A2: Alex Harvey-Jones | E2: =SUM(C4:C14) -> 99.73 | F2: < What your squad is worth
A3: First Name | B3: Second Name | C3: Price
A4: Will | B4: Hodgson | C4: =SUM([1]CENTRAL!C18) -> 5 | E4: =SUM(Total!M17) -> 73 | F4: < What your squad got in GW10
A5: Adam | B5: Longley | C5: =SUM([1]CENTRAL!C26) -> 6.5 | E5: =SUM(Total!M25) -> 34
A6: Dan | B6: McLaughlin | C6: =SUM([1]CENTRAL!C28) -> 12.8 | D6: C | E6: =SUM(Total!M27)*2 -> 48
A7: Henry | B7: Swallow | C7: =SUM([1]CENTRAL!C38) -> 10.2 | E7: =SUM(Total!M37) -> 34
A8: Adam | B8: Findlay | C8: =SUM([1]CENTRAL!C11) -> 4.5 | E8: =SUM(Total!M10) -> 35
A9: Ryan | B9: Knight | C9: =SUM([1]CENTRAL!C22) -> 9.6 | E9: =SUM(Total!M21) -> 78
A10: Nick | B10: Lester | C10: =SUM([1]CENTRAL!C25) -> 9.54 | E10: =SUM(Total!M24) -> 92
A11: James | B11: Goodwin | C11: =SUM([1]CENTRAL!C15) -> 6.5 | E11: =SUM(Total!M14) -> 16
A12: Gareth | B12: Tompkins | C12: =SUM([1]CENTRAL!C39) -> 13.17 | E12: =SUM(Total!M38) -> 0
A13: Russ | B13: Coleman | C13: =SUM([1]CENTRAL!C10) -> 7.96 | E13: =SUM(Total!M9) -> 24
A14: Matt | B14: Morrissey | C14: =SUM([1]CENTRAL!C29) -> 13.96 | E14: =SUM(Total!M28) -> 52
E15: =SUM(E4:E14) -> 486
A16: =SUM(C19:C36) -> 4747
A18: Game Week | B18: Date Open | C18: Total
A19: 1 | B19: 41769 | C19: 546
A20: 2 | B20: 41776 | C20: 606
A21: 3 | B21: 41783
A22: 4 | B22: 41790 | C22: 527
A23: 5 | B23: 41797 | C23: 886
A24: 6 | B24: 41804 | C24: 565
A25: 7 | B25: 41811 | C25: 586
A26: 8 | B26: 41818
A27: 9 | B27: 41825 | C27: 545
A28: 10 | B28: 41832 | C28: =SUM(E15) -> 486
A29: 11 | B29: 41839
A30: 12 | B30: 41846
A31: 13 | B31: 41853
A32: 14 | B32: 41860
A33: 15 | B33: 41867
A34: 16 | B34: 41874
A35: 17 | B35: 41881
A36: 18 | B36: 41888

Sheet MG
A1: There's No F in Hope
A2: Matt Golby | E2: =SUM(C4:C14) -> 98.97 | F2: < What your squad is worth
A3: First Name | B3: Second Name | C3: Price
A4: Adam | B4: Longley | C4: =SUM([1]CENTRAL!C26) -> 6.5 | E4: =SUM(Total!M25) -> 34 | F4: < What your squad got in GW10
A5: Dan | B5: McLaughlin | C5: =SUM([1]CENTRAL!C28) -> 12.8 | E5: =SUM(Total!M27) -> 24
A6: Adam | B6: Findlay | C6: =SUM([1]CENTRAL!C11) -> 4.5 | E6: =SUM(Total!M10) -> 35
A7: Paul | B7: Browning | C7: =SUM([1]CENTRAL!C7) -> 7.76 | E7: =SUM(Total!M6) -> 0
A8: Frankie | B8: Perkin | C8: =SUM([1]CENTRAL!C32) -> 5 | E8: =SUM(Total!M31) -> 0
A9: Mark | B9: Bird | C9: =SUM([1]CENTRAL!C5) -> 18.62 | D9: C | E9: =SUM(Total!M4)*2 -> 28
A10: Fletcher | B10: Callaghan | C10: =SUM([1]CENTRAL!C9) -> 5.84 | E10: =SUM(Total!M8) -> 0
A11: Matt | B11: Golby | C11: =SUM([1]CENTRAL!C14) -> 11.71 | E11: =SUM(Total!M13) -> 74
A12: Dan | B12: Harris | C12: =SUM([1]CENTRAL!C16) -> 5 | E12: =SUM(Total!M15) -> 25
A13: Jason | B13: Kruger | C13: =SUM([1]CENTRAL!C23) -> 16.24 | E13: =SUM(Total!M22) -> 114
A14: Jason | B14: Roberts | C14: =SUM([1]CENTRAL!C36) -> 5 | E14: =SUM(Total!M35) -> 0
E15: =SUM(E4:E14) -> 334
A16: =SUM(C19:C36) -> 3397
A18: Game Week | B18: Date Open | C18: Total
A19: 1 | B19: 41769 | C19: 255
A20: 2 | B20: 41776 | C20: 585
A21: 3 | B21: 41783
A22: 4 | B22: 41790 | C22: 457
A23: 5 | B23: 41797 | C23: 444
A24: 6 | B24: 41804 | C24: 449
A25: 7 | B25: 41811 | C25: 522
A26: 8 | B26: 41818
A27: 9 | B27: 41825 | C27: 351
A28: 10 | B28: 41832 | C28: =SUM(E15) -> 334
A29: 11 | B29: 41839
A30: 12 | B30: 41846
A31: 13 | B31: 41853
A32: 14 | B32: 41860
A33: 15 | B33: 41867
A34: 16 | B34: 41874
A35: 17 | B35: 41881
A36: 18 | B36: 41888

Sheet NL
A1: Eric's Eleven
A2: Nick Lester | E2: =SUM(C4:C14) -> 99.3 | F2: < What your squad is worth
A3: First Name | B3: Second Name | C3: Price
A4: Adam | B4: Longley | C4: =SUM([1]CENTRAL!C26) -> 6.5 | E4: =SUM(Total!M25) -> 34 | F4: < What your squad got in GW10
A5: Dan | B5: McLaughlin | C5: =SUM([1]CENTRAL!C28) -> 12.8 | D5: C | E5: =SUM(Total!M27)*2 -> 48
A6: Paul | B6: Browning | C6: =SUM([1]CENTRAL!C7) -> 7.76 | E6: =SUM(Total!M6) -> 0
A7: Frankie | B7: Perkin | C7: =SUM([1]CENTRAL!C32) -> 5 | E7: =SUM(Total!M31) -> 0
A8: Will | B8: Hodgson | C8: =SUM([1]CENTRAL!C18) -> 5 | E8: =SUM(Total!M17) -> 73
A9: Henry | B9: Swallow | C9: =SUM([1]CENTRAL!C38) -> 10.2 | E9: =SUM(Total!M37) -> 34
A10: Nick | B10: Lester | C10: =SUM([1]CENTRAL!C25) -> 9.54 | E10: =SUM(Total!M24) -> 92
A11: James | B11: Goodwin | C11: =SUM([1]CENTRAL!C15) -> 6.5 | E11: =SUM(Total!M14) -> 16
A12: Gareth | B12: Goddard | C12: =SUM([1]CENTRAL!C13) -> 12.96 | E12: =SUM(Total!M12) -> 54
A13: Tony | B13: Bird | C13: =SUM([1]CENTRAL!C6) -> 16.49 | E13: =SUM(Total!M5) -> 190
A14: Adam | B14: Lee-Brown | C14: =SUM([1]CENTRAL!C24) -> 6.55 | E14: =SUM(Total!M23) -> 0
E15: =SUM(E4:E14) -> 541
A16: =SUM(C19:C36) -> 4136
A18: Game Week | B18: Date Open | C18: Total
A19: 1 | B19: 41769 | C19: 490
A20: 2 | B20: 41776 | C20: 587
A21: 3 | B21: 41783
A22: 4 | B22: 41790 | C22: 482
A23: 5 | B23: 41797 | C23: 715
A24: 6 | B24: 41804 | C24: 381
A25: 7 | B25: 41811 | C25: 586
A26: 8 | B26: 41818
A27: 9 | B27: 41825 | C27: 354
A28: 10 | B28: 41832 | C28: =SUM(E15) -> 541
A29: 11 | B29: 41839
A30: 12 | B30: 41846
A31: 13 | B31: 41853
A32: 14 | B32: 41860
A33: 15 | B33: 41867
A34: 16 | B34: 41874
A35: 17 | B35: 41881
A36: 18 | B36: 41888

Sheet DH
A1: The Harris Hard Hitters Part 3
A2: Dan Harris | E2: =SUM(C4:C14) -> 94.83 | F2: < What your squad is worth
A3: First Name | B3: Second Name | C3: Price
A4: Adam | B4: Longley | C4: =SUM([1]CENTRAL!C26) -> 6.5 | E4: =SUM(Total!M25) -> 34 | F4: < What your squad got in GW10
A5: Dan | B5: McLaughlin | C5: =SUM([1]CENTRAL!C28) -> 12.8 | D5: C | E5: =SUM(Total!M27)*2 -> 48
A6: James | B6: Goodwin | C6: =SUM([1]CENTRAL!C15) -> 6.5 | E6: =SUM(Total!M14) -> 16
A7: Adam | B7: Lee-Brown | C7: =SUM([1]CENTRAL!C24) -> 6.55 | E7: =SUM(Total!M23) -> 0
A8: Mark | B8: Bird | C8: =SUM([1]CENTRAL!C5) -> 18.62 | E8: =SUM(Total!M4) -> 14
A9: Fletcher | B9: Callaghan | C9: =SUM([1]CENTRAL!C9) -> 5.84 | E9: =SUM(Total!M8) -> 0
A10: Dan | B10: Harris | C10: =SUM([1]CENTRAL!C16) -> 5 | E10: =SUM(Total!M15) -> 25
A11: Matt | B11: Morrissey | C11: =SUM([1]CENTRAL!C29) -> 13.96 | E11: =SUM(Total!M28) -> 52
A12: Alex | B12: Harvey-Jones | C12: =SUM([1]CENTRAL!C17) -> 14.06 | E12: =SUM(Total!M16) -> 63
A13: Liam | B13: Knight | C13: =SUM([1]CENTRAL!C21) -> 0 | E13: =SUM(Total!M20) -> 0
A14: Frankie | B14: Perkin | C14: =SUM([1]CENTRAL!C32) -> 5 | E14: =SUM(Total!M31) -> 0
E15: =SUM(E4:E14) -> 252
A16: =SUM(C19:C36) -> 3353
A18: Game Week | B18: Date Open | C18: Total
A19: 1 | B19: 41769 | C19: 336
A20: 2 | B20: 41776 | C20: 683
A21: 3 | B21: 41783
A22: 4 | B22: 41790 | C22: 189
A23: 5 | B23: 41797 | C23: 690
A24: 6 | B24: 41804 | C24: 376
A25: 7 | B25: 41811 | C25: 434
A26: 8 | B26: 41818
A27: 9 | B27: 41825 | C27: 393
A28: 10 | B28: 41832 | C28: =SUM(E15) -> 252
A29: 11 | B29: 41839
A30: 12 | B30: 41846
A31: 13 | B31: 41853
A32: 14 | B32: 41860
A33: 15 | B33: 41867
A34: 16 | B34: 41874
A35: 17 | B35: 41881
A36: 18 | B36: 41888

Sheet JA
A1: Not Bowler of the Year
A2: James Ashby | E2: =SUM(C4:C14) -> 90.19 | F2: < What your squad is worth
A3: First Name | B3: Second Name | C3: Price
A4: Dan | B4: McLaughlin | C4: =SUM([1]CENTRAL!C28) -> 12.8 | D4: C | E4: =SUM(Total!M27)*2 -> 48 | F4: < What your squad got in GW10
A5: Dan | B5: Harris | C5: =SUM([1]CENTRAL!C16) -> 5 | E5: =SUM(Total!M15) -> 25
A6: Matt | B6: Morrissey | C6: =SUM([1]CENTRAL!C29) -> 13.96 | E6: =SUM(Total!M28) -> 52
A7: Nick | B7: Lester | C7: =SUM([1]CENTRAL!C25) -> 9.54 | E7: =SUM(Total!M24) -> 92
A8: Ryan | B8: Knight | C8: =SUM([1]CENTRAL!C21) -> 0 | E8: =SUM(Total!M21) -> 78
A9: Gareth | B9: Tompkins | C9: =SUM([1]CENTRAL!C39) -> 13.17 | E9: =SUM(Total!M38) -> 0
A10: Russ | B10: Coleman | C10: =SUM([1]CENTRAL!C10) -> 7.96 | E10: =SUM(Total!M9) -> 24
A11: Matt | B11: Irons | C11: =SUM([1]CENTRAL!C19) -> 6.46 | E11: =SUM(Total!M18) -> 30
A12: James | B12: Ashby | C12: =SUM([1]CENTRAL!C4) -> 11.8 | E12: =SUM(Total!M3) -> 0
A13: Adam | B13: Findlay | C13: =SUM([1]CENTRAL!C11) -> 4.5 | E13: =SUM(Total!M10) -> 35
A14: Dave | B14: Patrick | C14: =SUM([1]CENTRAL!C31) -> 5 | E14: =SUM(Total!M30) -> 0
E15: =SUM(E4:E14) -> 384
A16: =SUM(C19:C36) -> 4614
A18: Game Week | B18: Date Open | C18: Total
A19: 1 | B19: 41769 | C19: 661
A20: 2 | B20: 41776 | C20: 581
A21: 3 | B21: 41783
A22: 4 | B22: 41790 | C22: 568
A23: 5 | B23: 41797 | C23: 704
A24: 6 | B24: 41804 | C24: 508
A25: 7 | B25: 41811 | C25: 606
A26: 8 | B26: 41818
A27: 9 | B27: 41825 | C27: 602
A28: 10 | B28: 41832 | C28: =SUM(E15) -> 384
A29: 11 | B29: 41839
A30: 12 | B30: 41846
A31: 13 | B31: 41853
A32: 14 | B32: 41860
A33: 15 | B33: 41867
A34: 16 | B34: 41874
A35: 17 | B35: 41881
A36: 18 | B36: 41888

Sheet MM
A1: Batty Boys
A2: Matt Morrissey | E2: =SUM(C4:C14) -> 99.71 | F2: < What your squad is worth
A3: First Name | B3: Second Name | C3: Price
A4: Dan | B4: McLaughlin | C4: =SUM([1]CENTRAL!C28) -> 12.8 | D4: C | E4: =SUM(Total!M27)*2 -> 48 | F4: < What your squad got in GW10
A5: Matt | B5: Morrissey | C5: =SUM([1]CENTRAL!C29) -> 13.96 | E5: =SUM(Total!M28) -> 52
A6: Nick | B6: Lester | C6: =SUM([1]CENTRAL!C25) -> 9.54 | E6: =SUM(Total!M24) -> 92
A7: Matt | B7: Irons | C7: =SUM([1]CENTRAL!C19) -> 6.46 | E7: =SUM(Total!M18) -> 30
A8: Adam | B8: Longley | C8: =SUM([1]CENTRAL!C26) -> 6.5 | E8: =SUM(Total!M25) -> 34
A9: James | B9: Goodwin | C9: =SUM([1]CENTRAL!C15) -> 6.5 | E9: =SUM(Total!M14) -> 16
A10: Paul | B10: Browning | C10: =SUM([1]CENTRAL!C7) -> 7.76 | E10: =SUM(Total!M6) -> 0
A11: Frankie | B11: Perkin | C11: =SUM([1]CENTRAL!C32) -> 5 | E11: =SUM(Total!M31) -> 0
A12: Henry | B12: Swallow | C12: =SUM([1]CENTRAL!C38) -> 10.2 | E12: =SUM(Total!M37) -> 34
A13: Tony | B13: Bird | C13: =SUM([1]CENTRAL!C6) -> 16.49 | E13: =SUM(Total!M5) -> 190
A14: Adam | B14: Findlay | C14: =SUM([1]CENTRAL!C11) -> 4.5 | E14: =SUM(Total!M10) -> 35
E15: =SUM(E4:E14) -> 531
A16: =SUM(C19:C36) -> 4778
A18: Game Week | B18: Date Open | C18: Total
A19: 1 | B19: 41769 | C19: 608
A20: 2 | B20: 41776 | C20: 665
A21: 3 | B21: 41783
A22: 4 | B22: 41790 | C22: 503
A23: 5 | B23: 41797 | C23: 928
A24: 6 | B24: 41804 | C24: 486
A25: 7 | B25: 41811 | C25: 598
A26: 8 | B26: 41818
A27: 9 | B27: 41825 | C27: 459
A28: 10 | B28: 41832 | C28: =SUM(E15) -> 531
A29: 11 | B29: 41839
A30: 12 | B30: 41846
A31: 13 | B31: 41853
A32: 14 | B32: 41860
A33: 15 | B33: 41867
A34: 16 | B34: 41874
A35: 17 | B35: 41881
A36: 18 | B36: 41888

Sheet PW1
A1: Phil's Fantasy Cricket Team
A2: Phil Whiteman | E2: =SUM(C4:C14) -> 88.78 | F2: < What your squad is worth
A3: First Name | B3: Second Name | C3: Price
A4: Dan | B4: McLaughlin | C4: =SUM([1]CENTRAL!C28) -> 12.8 | E4: =SUM(Total!M27) -> 24 | F4: < What your squad got in GW10
A5: Nick | B5: Lester | C5: =SUM([1]CENTRAL!C25) -> 9.54 | E5: =SUM(Total!M24) -> 92
A6: Paul | B6: Browning | C6: =SUM([1]CENTRAL!C7) -> 7.76 | E6: =SUM(Total!M6) -> 0
A7: Henry | B7: Swallow | C7: =SUM([1]CENTRAL!C38) -> 10.2 | E7: =SUM(Total!M37) -> 34
A8: Tony | B8: Bird | C8: =SUM([1]CENTRAL!C6) -> 16.49 | E8: =SUM(Total!M5) -> 190
A9: Ryan | B9: Knight | C9: =SUM([1]CENTRAL!C21) -> 0 | E9: =SUM(Total!M21) -> 78
A10: Russ | B10: Coleman | C10: =SUM([1]CENTRAL!C10) -> 7.96 | E10: =SUM(Total!M9) -> 24
A11: Connor | B11: Price | C11: =SUM([1]CENTRAL!C33) -> 4.5 | E11: =SUM(Total!M32) -> 0
A12: Jason | B12: Roberts | C12: =SUM([1]CENTRAL!C36) -> 5 | E12: =SUM(Total!M35) -> 0
A13: Chris | B13: Mason | C13: =SUM([1]CENTRAL!C27) -> 10.03 | D13: C | E13: =SUM(Total!M26)*2 -> 0
A14: George | B14: Thompson | C14: 4.5
E15: =SUM(E4:E14) -> 442
A16: =SUM(C19:C36) -> 4149
A18: Game Week | B18: Date Open | C18: Total
A19: 1 | B19: 41769 | C19: 548
A20: 2 | B20: 41776 | C20: 428
A21: 3 | B21: 41783
A22: 4 | B22: 41790 | C22: 629
A23: 5 | B23: 41797 | C23: 531
A24: 6 | B24: 41804 | C24: 584
A25: 7 | B25: 41811 | C25: 658
A26: 8 | B26: 41818
A27: 9 | B27: 41825 | C27: 329
A28: 10 | B28: 41832 | C28: =SUM(E15) -> 442
A29: 11 | B29: 41839
A30: 12 | B30: 41846
A31: 13 | B31: 41853
A32: 14 | B32: 41860
A33: 15 | B33: 41867
A34: 16 | B34: 41874
A35: 17 | B35: 41881
A36: 18 | B36: 41888

Sheet PW2
A1: Phil's Other Fantasy Cricket Team
A2: Phil Whiteman | E2: =SUM(C4:C14) -> 100.08 | F2: < What your squad is worth
A3: First Name | B3: Second Name | C3: Price
A4: Chris | B4: Mason | C4: =SUM([1]CENTRAL!C27) -> 10.03 | E4: =SUM(Total!M26) -> 0 | F4: < What your squad got in GW10
A5: Matt | B5: Morrissey | C5: =SUM([1]CENTRAL!C29) -> 13.96 | E5: =SUM(Total!M28) -> 52
A6: Matt | B6: Irons | C6: =SUM([1]CENTRAL!C19) -> 6.46 | E6: =SUM(Total!M18) -> 30
A7: James | B7: Goodwin | C7: =SUM([1]CENTRAL!C15) -> 6.5 | E7: =SUM(Total!M14) -> 16
A8: Adam | B8: Findlay | C8: =SUM([1]CENTRAL!C11) -> 4.5 | E8: =SUM(Total!M10) -> 35
A9: Adam | B9: Lee-Brown | C9: =SUM([1]CENTRAL!C24) -> 6.55 | E9: =SUM(Total!M23) -> 0
A10: Alex | B10: Harvey-Jones | C10: =SUM([1]CENTRAL!C17) -> 14.06 | D10: C | E10: =SUM(Total!M16)*2 -> 126
A11: Matt | B11: Golby | C11: =SUM([1]CENTRAL!C14) -> 11.71 | E11: =SUM(Total!M13) -> 74
A12: Jack | B12: Quennell | C12: =SUM([1]CENTRAL!C34) -> 12.46 | E12: =SUM(Total!M33) -> 10
A13: Tom | B13: Smyth | C13: =SUM([1]CENTRAL!C37) -> 8.85 | E13: =SUM(Total!M36) -> 80
A14: Stuart | B14: Town | C14: =SUM([1]CENTRAL!C40) -> 5 | E14: =SUM(Total!M39) -> 0
E15: =SUM(E4:E14) -> 423
A16: =SUM(C19:C36) -> 3668
A18: Game Week | B18: Date Open | C18: Total
A19: 1 | B19: 41769 | C19: 351
A20: 2 | B20: 41776 | C20: 329
A21: 3 | B21: 41783
A22: 4 | B22: 41790 | C22: 356
A23: 5 | B23: 41797 | C23: 666
A24: 6 | B24: 41804 | C24: 527
A25: 7 | B25: 41811 | C25: 472
A26: 8 | B26: 41818
A27: 9 | B27: 41825 | C27: 544
A28: 10 | B28: 41832 | C28: =SUM(E15) -> 423
A29: 11 | B29: 41839
A30: 12 | B30: 41846
A31: 13 | B31: 41853
A32: 14 | B32: 41860
A33: 15 | B33: 41867
A34: 16 | B34: 41874
A35: 17 | B35: 41881
A36: 18 | B36: 41888

Sheet RK
A1: Rhino's Rebels
A2: Ryan Knight | E2: =SUM(C4:C14) -> 99.69 | F2: < What your squad is worth
A3: First Name | B3: Second Name | C3: Price
A4: Adam | B4: Findlay | C4: =SUM([1]CENTRAL!C11) -> 4.5 | E4: =SUM(Total!M10) -> 35 | F4: < What your squad got in GW10
A5: Alex | B5: Harvey-Jones | C5: =SUM([1]CENTRAL!C17) -> 14.06 | E5: =SUM(Total!M16) -> 63
A6: Jack | B6: Quennell | C6: =SUM([1]CENTRAL!C34) -> 12.46 | E6: =SUM(Total!M33) -> 10
A7: Tom | B7: Smyth | C7: =SUM([1]CENTRAL!C37) -> 8.85 | E7: =SUM(Total!M36) -> 80
A8: Dan | B8: McLaughlin | C8: =SUM([1]CENTRAL!C28) -> 12.8 | E8: =SUM(Total!M27) -> 24
A9: Paul | B9: Browning | C9: =SUM([1]CENTRAL!C7) -> 7.76 | E9: =SUM(Total!M6) -> 0
A10: Henry | B10: Swallow | C10: =SUM([1]CENTRAL!C38) -> 10.2 | E10: =SUM(Total!M37) -> 34
A11: Ryan | B11: Knight | C11: =SUM([1]CENTRAL!C22) -> 9.6 | E11: =SUM(Total!M21) -> 78
A12: Russ | B12: Coleman | C12: =SUM([1]CENTRAL!C10) -> 7.96 | E12: =SUM(Total!M9) -> 24
A13: Adam | B13: Longley | C13: =SUM([1]CENTRAL!C26) -> 6.5 | E13: =SUM(Total!M25) -> 34
A14: Frankie | B14: Perkin | C14: =SUM([1]CENTRAL!C32) -> 5 | D14: C | E14: =SUM(Total!M31)*2 -> 0
E15: =SUM(E4:E14) -> 382
A16: =SUM(C19:C36) -> 4258
A18: Game Week | B18: Date Open | C18: Total
A19: 1 | B19: 41769 | C19: 463
A20: 2 | B20: 41776 | C20: 536
A21: 3 | B21: 41783
A22: 4 | B22: 41790 | C22: 450
A23: 5 | B23: 41797 | C23: 558
A24: 6 | B24: 41804 | C24: 684
A25: 7 | B25: 41811 | C25: 724
A26: 8 | B26: 41818
A27: 9 | B27: 41825 | C27: 461
A28: 10 | B28: 41832 | C28: =SUM(E15) -> 382
A29: 11 | B29: 41839
A30: 12 | B30: 41846
A31: 13 | B31: 41853
A32: 14 | B32: 41860
A33: 15 | B33: 41867
A34: 16 | B34: 41874
A35: 17 | B35: 41881
A36: 18 | B36: 41888

Sheet AL
A1: Victorious Secrets
A2: Adam Longley | E2: =SUM(C4:C14) -> 97.27 | F2: < What your squad is worth
A3: First Name | B3: Second Name | C3: Price
A4: Alex | B4: Harvey-Jones | C4: =SUM([1]CENTRAL!C17) -> 14.06 | E4: =SUM(Total!M16) -> 63 | F4: < What your squad got in GW10
A5: Tom | B5: Smyth | C5: =SUM([1]CENTRAL!C37) -> 8.85 | E5: =SUM(Total!M36) -> 80
A6: Dan | B6: McLaughlin | C6: =SUM([1]CENTRAL!C28) -> 12.8 | E6: =SUM(Total!M27) -> 24
A7: Paul | B7: Browning | C7: =SUM([1]CENTRAL!C7) -> 7.76 | E7: =SUM(Total!M6) -> 0
A8: Henry | B8: Swallow | C8: =SUM([1]CENTRAL!C38) -> 10.2 | E8: =SUM(Total!M37) -> 34
A9: Ryan | B9: Knight | C9: =SUM([1]CENTRAL!C22) -> 9.6 | E9: =SUM(Total!M21) -> 78
A10: Adam | B10: Longley | C10: =SUM([1]CENTRAL!C26) -> 6.5 | E10: =SUM(Total!M25) -> 34
A11: Frankie | B11: Perkin | C11: =SUM([1]CENTRAL!C32) -> 5 | E11: =SUM(Total!M31) -> 0
A12: Matt | B12: Irons | C12: =SUM([1]CENTRAL!C19) -> 6.46 | E12: =SUM(Total!M18) -> 30
A13: James | B13: Goodwin | C13: =SUM([1]CENTRAL!C15) -> 6.5 | E13: =SUM(Total!M14) -> 16
A14: Nick | B14: Lester | C14: =SUM([1]CENTRAL!C25) -> 9.54 | D14: C | E14: =SUM(Total!M24)*2 -> 184
E15: =SUM(E4:E14) -> 543
A16: =SUM(C19:C36) -> 5147
A18: Game Week | B18: Date Open | C18: Total
A19: 1 | B19: 41769 | C19: 646
A20: 2 | B20: 41776 | C20: 684
A21: 3 | B21: 41783
A22: 4 | B22: 41790 | C22: 462
A23: 5 | B23: 41797 | C23: 810
A24: 6 | B24: 41804 | C24: 755
A25: 7 | B25: 41811 | C25: 728
A26: 8 | B26: 41818
A27: 9 | B27: 41825 | C27: 519
A28: 10 | B28: 41832 | C28: =SUM(E15) -> 543
A29: 11 | B29: 41839
A30: 12 | B30: 41846
A31: 13 | B31: 41853
A32: 14 | B32: 41860
A33: 15 | B33: 41867
A34: 16 | B34: 41874
A35: 17 | B35: 41881
A36: 18 | B36: 41888

Sheet PB
A1: Nil Desperandum
A2: Paul Browning | E2: =SUM(C4:C14) -> 98.15 | F2: < What your squad is worth
A3: First Name | B3: Second Name | C3: Price
A4: Dan | B4: McLaughlin | C4: =SUM([1]CENTRAL!C28) -> 12.8 | D4: C | E4: =SUM(Total!M27)*2 -> 48 | F4: < What your squad got in GW10
A5: Paul | B5: Browning | C5: =SUM([1]CENTRAL!C7) -> 7.76 | E5: =SUM(Total!M6) -> 0
A6: Henry | B6: Swallow | C6: =SUM([1]CENTRAL!C38) -> 10.2 | E6: =SUM(Total!M37) -> 34
A7: Frankie | B7: Perkin | C7: =SUM([1]CENTRAL!C32) -> 5 | E7: =SUM(Total!M31) -> 0
A8: Matt | B8: Irons | C8: =SUM([1]CENTRAL!C19) -> 6.46 | E8: =SUM(Total!M18) -> 30
A9: Matt | B9: Morrissey | C9: =SUM([1]CENTRAL!C29) -> 13.96 | E9: =SUM(Total!M28) -> 52
A10: Jason | B10: Roberts | C10: =SUM([1]CENTRAL!C36) -> 5 | E10: =SUM(Total!M35) -> 0
A11: Gareth | B11: Tompkins | C11: =SUM([1]CENTRAL!C39) -> 13.17 | E11: =SUM(Total!M38) -> 0
A12: Fletcher | B12: Callaghan | C12: =SUM([1]CENTRAL!C9) -> 5.84 | E12: =SUM(Total!M8) -> 0
A13: Will | B13: Hodgson | C13: =SUM([1]CENTRAL!C18) -> 5 | E13: =SUM(Total!M17) -> 73
A14: Gareth | B14: Goddard | C14: =SUM([1]CENTRAL!C13) -> 12.96 | E14: =SUM(Total!M12) -> 54
E15: =SUM(E4:E14) -> 291
A16: =SUM(C19:C36) -> 3802
A18: Game Week | B18: Date Open | C18: Total
A19: 1 | B19: 41769 | C19: 375
A20: 2 | B20: 41776 | C20: 303
A21: 3 | B21: 41783
A22: 4 | B22: 41790 | C22: 585
A23: 5 | B23: 41797 | C23: 769
A24: 6 | B24: 41804 | C24: 517
A25: 7 | B25: 41811 | C25: 524
A26: 8 | B26: 41818
A27: 9 | B27: 41825 | C27: 438
A28: 10 | B28: 41832 | C28: =SUM(E15) -> 291
A29: 11 | B29: 41839
A30: 12 | B30: 41846
A31: 13 | B31: 41853
A32: 14 | B32: 41860
A33: 15 | B33: 41867
A34: 16 | B34: 41874
A35: 17 | B35: 41881
A36: 18 | B36: 41888

Sheet PK
A1: Dentonian
A2: Paul Knight | E2: =SUM(C4:C14) -> 99.59 | F2: < What your squad is worth
A3: First Name | B3: Second Name | C3: Price
A4: Dan | B4: McLaughlin | C4: =SUM([1]CENTRAL!C28) -> 12.8 | E4: =SUM(Total!M27) -> 24 | F4: < What your squad got in GW10
A5: Henry | B5: Swallow | C5: =SUM([1]CENTRAL!C38) -> 10.2 | D5: C | E5: =SUM(Total!M37)*2 -> 68
A6: Frankie | B6: Perkin | C6: =SUM([1]CENTRAL!C32) -> 5 | E6: =SUM(Total!M31) -> 0
A7: Matt | B7: Irons | C7: =SUM([1]CENTRAL!C19) -> 6.46 | E7: =SUM(Total!M18) -> 30
A8: Gareth | B8: Goddard | C8: =SUM([1]CENTRAL!C13) -> 12.96 | E8: =SUM(Total!M12) -> 54
A9: Alex | B9: Harvey-Jones | C9: =SUM([1]CENTRAL!C17) -> 14.06 | E9: =SUM(Total!M16) -> 63
A10: Tom | B10: Smyth | C10: =SUM([1]CENTRAL!C37) -> 8.85 | E10: =SUM(Total!M36) -> 80
A11: Adam | B11: Longley | C11: =SUM([1]CENTRAL!C26) -> 6.5 | E11: =SUM(Total!M25) -> 34
A12: Adam | B12: Findlay | C12: =SUM([1]CENTRAL!C11) -> 4.5 | E12: =SUM(Total!M10) -> 35
A13: Adam | B13: Lee-Brown | C13: =SUM([1]CENTRAL!C24) -> 6.55 | E13: =SUM(Total!M23) -> 0
A14: Matt | B14: Golby | C14: =SUM([1]CENTRAL!C14) -> 11.71 | E14: =SUM(Total!M13) -> 74
E15: =SUM(E4:E14) -> 462
A16: =SUM(C19:C36) -> 4314
A18: Game Week | B18: Date Open | C18: Total
A19: 1 | B19: 41769 | C19: 430
A20: 2 | B20: 41776 | C20: 460
A21: 3 | B21: 41783
A22: 4 | B22: 41790 | C22: 422
A23: 5 | B23: 41797 | C23: 666
A24: 6 | B24: 41804 | C24: 629
A25: 7 | B25: 41811 | C25: 726
A26: 8 | B26: 41818
A27: 9 | B27: 41825 | C27: 519
A28: 10 | B28: 41832 | C28: =SUM(E15) -> 462
A29: 11 | B29: 41839
A30: 12 | B30: 41846
A31: 13 | B31: 41853
A32: 14 | B32: 41860
A33: 15 | B33: 41867
A34: 16 | B34: 41874
A35: 17 | B35: 41881
A36: 18 | B36: 41888

Sheet NS
A1: Crazy Diamonds!
A2: Nicky Smith | E2: =SUM(C4:C14) -> 99.27 | F2: < What your squad is worth
A3: First Name | B3: Second Name | C3: Price
A4: Dan | B4: McLaughlin | C4: =SUM([1]CENTRAL!C28) -> 12.8 | E4: =SUM(Total!M27) -> 24 | F4: < What your squad got in GW10
A5: Henry | B5: Swallow | C5: =SUM([1]CENTRAL!C38) -> 10.2 | D5: C | E5: =SUM(Total!M37)*2 -> 68
A6: Frankie | B6: Perkin | C6: =SUM([1]CENTRAL!C32) -> 5 | E6: =SUM(Total!M31) -> 0
A7: Gareth | B7: Goddard | C7: =SUM([1]CENTRAL!C13) -> 12.96 | E7: =SUM(Total!M12) -> 54
A8: Adam | B8: Lee-Brown | C8: =SUM([1]CENTRAL!C24) -> 6.55 | E8: =SUM(Total!M23) -> 0
A9: Paul | B9: Browning | C9: =SUM([1]CENTRAL!C7) -> 7.76 | E9: =SUM(Total!M6) -> 0
A10: Fletcher | B10: Callaghan | C10: =SUM([1]CENTRAL!C9) -> 5.84 | E10: =SUM(Total!M8) -> 0
A11: Will | B11: Hodgson | C11: =SUM([1]CENTRAL!C18) -> 5 | E11: =SUM(Total!M17) -> 73
A12: Nick | B12: Lester | C12: =SUM([1]CENTRAL!C25) -> 9.54 | E12: =SUM(Total!M24) -> 92
A13: Dan | B13: Harris | C13: =SUM([1]CENTRAL!C16) -> 5 | E13: =SUM(Total!M15) -> 25
A14: Mark | B14: Bird | C14: =SUM([1]CENTRAL!C5) -> 18.62 | E14: =SUM(Total!M4) -> 14
E15: =SUM(E4:E14) -> 350
A16: =SUM(C19:C36) -> 3300
A18: Game Week | B18: Date Open | C18: Total
A19: 1 | B19: 41769 | C19: 345
A20: 2 | B20: 41776 | C20: 482
A21: 3 | B21: 41783
A22: 4 | B22: 41790 | C22: 325
A23: 5 | B23: 41797 | C23: 496
A24: 6 | B24: 41804 | C24: 402
A25: 7 | B25: 41811 | C25: 622
A26: 8 | B26: 41818
A27: 9 | B27: 41825 | C27: 278
A28: 10 | B28: 41832 | C28: =SUM(E15) -> 350
A29: 11 | B29: 41839
A30: 12 | B30: 41846
A31: 13 | B31: 41853
A32: 14 | B32: 41860
A33: 15 | B33: 41867
A34: 16 | B34: 41874
A35: 17 | B35: 41881
A36: 18 | B36: 41888

Sheet EB
A1: Cogenhoe Catastrophes
A2: Ellen Bird | E2: =SUM(C4:C14) -> 99.65 | F2: < What your squad is worth
A3: First Name | B3: Second Name | C3: Price
A4: Frankie | B4: Perkin | C4: =SUM([1]CENTRAL!C32) -> 5 | E4: =SUM(Total!M31) -> 0 | F4: < What your squad got in GW10
A5: Gareth | B5: Goddard | C5: =SUM([1]CENTRAL!C13) -> 12.96 | E5: =SUM(Total!M12) -> 54
A6: Adam | B6: Lee-Brown | C6: =SUM([1]CENTRAL!C24) -> 6.55 | E6: =SUM(Total!M23) -> 0
A7: Dan | B7: Harris | C7: =SUM([1]CENTRAL!C16) -> 5 | E7: =SUM(Total!M15) -> 25
A8: Mark | B8: Bird | C8: =SUM([1]CENTRAL!C5) -> 18.62 | D8: C | E8: =SUM(Total!M4)*2 -> 28
A9: Adam | B9: Findlay | C9: =SUM([1]CENTRAL!C11) -> 4.5 | E9: =SUM(Total!M10) -> 35
A10: Matt | B10: Morrissey | C10: =SUM([1]CENTRAL!C29) -> 13.96 | E10: =SUM(Total!M28) -> 52
A11: Ryan | B11: Knight | C11: =SUM([1]CENTRAL!C22) -> 9.6 | E11: =SUM(Total!M21) -> 78
A12: James | B12: Goodwin | C12: =SUM([1]CENTRAL!C15) -> 6.5 | E12: =SUM(Total!M14) -> 16
A13: Jack | B13: Quennell | C13: =SUM([1]CENTRAL!C34) -> 12.46 | E13: =SUM(Total!M33) -> 10
A14: Connor | B14: Price | C14: =SUM([1]CENTRAL!C33) -> 4.5 | E14: =SUM(Total!M32) -> 0
E15: =SUM(E4:E14) -> 298
A16: =SUM(C19:C36) -> 3124
A18: Game Week | B18: Date Open | C18: Total
A19: 1 | B19: 41769 | C19: 249
A20: 2 | B20: 41776 | C20: 441
A21: 3 | B21: 41783
A22: 4 | B22: 41790 | C22: 417
A23: 5 | B23: 41797 | C23: 514
A24: 6 | B24: 41804 | C24: 344
A25: 7 | B25: 41811 | C25: 308
A26: 8 | B26: 41818
A27: 9 | B27: 41825 | C27: 553
A28: 10 | B28: 41832 | C28: =SUM(E15) -> 298
A29: 11 | B29: 41839
A30: 12 | B30: 41846
A31: 13 | B31: 41853
A32: 14 | B32: 41860
A33: 15 | B33: 41867
A34: 16 | B34: 41874
A35: 17 | B35: 41881
A36: 18 | B36: 41888

Sheet RQ1
A1: Save Us Massimo
A2: Roy Quennell | E2: =SUM(C4:C14) -> 99.56 | F2: < What your squad is worth
A3: First Name | B3: Second Name | C3: Price
A4: Frankie | B4: Perkin | C4: =SUM([1]CENTRAL!C32) -> 5 | E4: =SUM(Total!M31) -> 0 | F4: < What your squad got in GW10
A5: Matt | B5: Morrissey | C5: =SUM([1]CENTRAL!C29) -> 13.96 | D5: C | E5: =SUM(Total!M28)*2 -> 104
A6: James | B6: Goodwin | C6: =SUM([1]CENTRAL!C15) -> 6.5 | E6: =SUM(Total!M14) -> 16
A7: Jack | B7: Quennell | C7: =SUM([1]CENTRAL!C34) -> 12.46 | E7: =SUM(Total!M33) -> 10
A8: Paul | B8: Browning | C8: =SUM([1]CENTRAL!C7) -> 7.76 | E8: =SUM(Total!M6) -> 0
A9: Will | B9: Hodgson | C9: =SUM([1]CENTRAL!C18) -> 5 | E9: =SUM(Total!M17) -> 73
A10: Nick | B10: Lester | C10: =SUM([1]CENTRAL!C25) -> 9.54 | E10: =SUM(Total!M24) -> 92
A11: Adam | B11: Longley | C11: =SUM([1]CENTRAL!C26) -> 6.5 | E11: =SUM(Total!M25) -> 34
A12: Matt | B12: Golby | C12: =SUM([1]CENTRAL!C14) -> 11.71 | E12: =SUM(Total!M13) -> 74
A13: Gareth | B13: Tompkins | C13: =SUM([1]CENTRAL!C39) -> 13.17 | E13: =SUM(Total!M38) -> 0
A14: Russ | B14: Coleman | C14: =SUM([1]CENTRAL!C10) -> 7.96 | E14: =SUM(Total!M9) -> 24
E15: =SUM(E4:E14) -> 427
A16: =SUM(C19:C36) -> 3398
A18: Game Week | B18: Date Open | C18: Total
A19: 1 | B19: 41769 | C19: 293
A20: 2 | B20: 41776 | C20: 454
A21: 3 | B21: 41783
A22: 4 | B22: 41790 | C22: 402
A23: 5 | B23: 41797 | C23: 677
A24: 6 | B24: 41804 | C24: 405
A25: 7 | B25: 41811 | C25: 398
A26: 8 | B26: 41818
A27: 9 | B27: 41825 | C27: 342
A28: 10 | B28: 41832 | C28: =SUM(E15) -> 427
A29: 11 | B29: 41839
A30: 12 | B30: 41846
A31: 13 | B31: 41853
A32: 14 | B32: 41860
A33: 15 | B33: 41867
A34: 16 | B34: 41874
A35: 17 | B35: 41881
A36: 18 | B36: 41888

Sheet RQ2
A1: Kicking Edgar Allen Poe
A2: Roy Quennell | E2: =SUM(C4:C14) -> 97.82 | F2: < What your squad is worth
A3: First Name | B3: Second Name | C3: Price
A4: James | B4: Goodwin | C4: =SUM([1]CENTRAL!C15) -> 6.5 | E4: =SUM(Total!M14) -> 16 | F4: < What your squad got in GW10
A5: Adam | B5: Longley | C5: =SUM([1]CENTRAL!C26) -> 6.5 | E5: =SUM(Total!M25) -> 34
A6: Adam | B6: Lee-Brown | C6: =SUM([1]CENTRAL!C24) -> 6.55 | E6: =SUM(Total!M23) -> 0
A7: Adam | B7: Findlay | C7: =SUM([1]CENTRAL!C11) -> 4.5 | E7: =SUM(Total!M10) -> 35
A8: Ryan | B8: Knight | C8: =SUM([1]CENTRAL!C22) -> 9.6 | E8: =SUM(Total!M21) -> 78
A9: Dan | B9: McLaughlin | C9: =SUM([1]CENTRAL!C28) -> 12.8 | D9: C | E9: =SUM(Total!M27)*2 -> 48
A10: Henry | B10: Swallow | C10: =SUM([1]CENTRAL!C38) -> 10.2 | E10: =SUM(Total!M37) -> 34
A11: Matt | B11: Irons | C11: =SUM([1]CENTRAL!C19) -> 6.46 | E11: =SUM(Total!M18) -> 30
A12: Alex | B12: Harvey-Jones | C12: =SUM([1]CENTRAL!C17) -> 14.06 | E12: =SUM(Total!M16) -> 63
A13: Tom | B13: Smyth | C13: =SUM([1]CENTRAL!C37) -> 8.85 | E13: =SUM(Total!M36) -> 80
A14: James | B14: Ashby | C14: =SUM([1]CENTRAL!C4) -> 11.8 | E14: =SUM(Total!M3) -> 0
E15: =SUM(E4:E14) -> 418
A16: =SUM(C19:C36) -> 5112
A18: Game Week | B18: Date Open | C18: Total
A19: 1 | B19: 41769 | C19: 694
A20: 2 | B20: 41776 | C20: 674
A21: 3 | B21: 41783
A22: 4 | B22: 41790 | C22: 446
A23: 5 | B23: 41797 | C23: 912
A24: 6 | B24: 41804 | C24: 674
A25: 7 | B25: 41811 | C25: 658
A26: 8 | B26: 41818
A27: 9 | B27: 41825 | C27: 636
A28: 10 | B28: 41832 | C28: =SUM(E15) -> 418
A29: 11 | B29: 41839
A30: 12 | B30: 41846
A31: 13 | B31: 41853
A32: 14 | B32: 41860
A33: 15 | B33: 41867
A34: 16 | B34: 41874
A35: 17 | B35: 41881
A36: 18 | B36: 41888

Sheet TB
A1: Cogenhoe Chargers
A2: Tony Bird | E2: =SUM(C4:C14) -> 99.52 | F2: < What your squad is worth
A3: First Name | B3: Second Name | C3: Price
A4: James | B4: Goodwin | C4: =SUM([1]CENTRAL!C15) -> 6.5 | E4: =SUM(Total!M14) -> 16 | F4: < What your squad got in GW10
A5: Adam | B5: Longley | C5: =SUM([1]CENTRAL!C26) -> 6.5 | E5: =SUM(Total!M25) -> 34
A6: Adam | B6: Lee-Brown | C6: =SUM([1]CENTRAL!C24) -> 6.55 | E6: =SUM(Total!M23) -> 0
A7: Adam | B7: Findlay | C7: =SUM([1]CENTRAL!C11) -> 4.5 | E7: =SUM(Total!M10) -> 35
A8: Ryan | B8: Knight | C8: =SUM([1]CENTRAL!C22) -> 9.6 | E8: =SUM(Total!M21) -> 78
A9: Henry | B9: Swallow | C9: =SUM([1]CENTRAL!C38) -> 10.2 | E9: =SUM(Total!M37) -> 34
A10: Frankie | B10: Perkin | C10: =SUM([1]CENTRAL!C32) -> 5 | E10: =SUM(Total!M31) -> 0
A11: Matt | B11: Morrissey | C11: =SUM([1]CENTRAL!C29) -> 13.96 | E11: =SUM(Total!M28) -> 52
A12: Jack | B12: Quennell | C12: =SUM([1]CENTRAL!C34) -> 12.46 | E12: =SUM(Total!M33) -> 10
A13: Paul | B13: Browning | C13: =SUM([1]CENTRAL!C7) -> 7.76 | E13: =SUM(Total!M6) -> 0
A14: Tony | B14: Bird | C14: =SUM([1]CENTRAL!C6) -> 16.49 | D14: C | E14: =SUM(Total!M5)*2 -> 380
E15: =SUM(E4:E14) -> 639
A16: =SUM(C19:C36) -> 4706
A18: Game Week | B18: Date Open | C18: Total
A19: 1 | B19: 41769 | C19: 592
A20: 2 | B20: 41776 | C20: 545
A21: 3 | B21: 41783
A22: 4 | B22: 41790 | C22: 624
A23: 5 | B23: 41797 | C23: 788
A24: 6 | B24: 41804 | C24: 465
A25: 7 | B25: 41811 | C25: 554
A26: 8 | B26: 41818
A27: 9 | B27: 41825 | C27: 499
A28: 10 | B28: 41832 | C28: =SUM(E15) -> 639
A29: 11 | B29: 41839
A30: 12 | B30: 41846
A31: 13 | B31: 41853
A32: 14 | B32: 41860
A33: 15 | B33: 41867
A34: 16 | B34: 41874
A35: 17 | B35: 41881
A36: 18 | B36: 41888

Sheet RC
A1: Norfolk 'N' Chance
A2: Russ Coleman | E2: =SUM(C4:C14) -> 99.52 | F2: < What your squad is worth
A3: First Name | B3: Second Name | C3: Price
A4: James | B4: Goodwin | C4: =SUM([1]CENTRAL!C15) -> 6.5 | E4: =SUM(Total!M14) -> 16 | F4: < What your squad got in GW10
A5: Adam | B5: Longley | C5: =SUM([1]CENTRAL!C26) -> 6.5 | E5: =SUM(Total!M25) -> 34
A6: Adam | B6: Findlay | C6: =SUM([1]CENTRAL!C11) -> 4.5 | E6: =SUM(Total!M10) -> 35
A7: Ryan | B7: Knight | C7: =SUM([1]CENTRAL!C22) -> 9.6 | E7: =SUM(Total!M21) -> 78
A8: Frankie | B8: Perkin | C8: =SUM([1]CENTRAL!C32) -> 5 | E8: =SUM(Total!M31) -> 0
A9: Matt | B9: Morrissey | C9: =SUM([1]CENTRAL!C29) -> 13.96 | D9: C | E9: =SUM(Total!M28)*2 -> 104
A10: Dan | B10: McLaughlin | C10: =SUM([1]CENTRAL!C28) -> 12.8 | E10: =SUM(Total!M27) -> 24
A11: Matt | B11: Irons | C11: =SUM([1]CENTRAL!C19) -> 6.46 | E11: =SUM(Total!M18) -> 30
A12: Will | B12: Hodgson | C12: =SUM([1]CENTRAL!C18) -> 5 | E12: =SUM(Total!M17) -> 73
A13: Gareth | B13: Goddard | C13: =SUM([1]CENTRAL!C13) -> 12.96 | E13: =SUM(Total!M12) -> 54
A14: Jason | B14: Kruger | C14: =SUM([1]CENTRAL!C23) -> 16.24 | E14: =SUM(Total!M22) -> 114
E15: =SUM(E4:E14) -> 562
A16: =SUM(C19:C36) -> 4428
A18: Game Week | B18: Date Open | C18: Total
A19: 1 | B19: 41769 | C19: 454
A20: 2 | B20: 41776 | C20: 486
A21: 3 | B21: 41783
A22: 4 | B22: 41790 | C22: 663
A23: 5 | B23: 41797 | C23: 767
A24: 6 | B24: 41804 | C24: 490
A25: 7 | B25: 41811 | C25: 382
A26: 8 | B26: 41818
A27: 9 | B27: 41825 | C27: 624
A28: 10 | B28: 41832 | C28: =SUM(E15) -> 562
A29: 11 | B29: 41839
A30: 12 | B30: 41846
A31: 13 | B31: 41853
A32: 14 | B32: 41860
A33: 15 | B33: 41867
A34: 16 | B34: 41874
A35: 17 | B35: 41881
A36: 18 | B36: 41888

Sheet GG
A1: Strathcarnage Return
A2: Gareth Goddard | E2: =SUM(C4:C14) -> 99.58 | F2: < What your squad is worth
A3: First Name | B3: Second Name | C3: Price
A4: James | B4: Goodwin | C4: =SUM([1]CENTRAL!C15) -> 6.5 | E4: =SUM(Total!M14) -> 16 | F4: < What your squad got in GW10
A5: Adam | B5: Longley | C5: =SUM([1]CENTRAL!C26) -> 6.5 | E5: =SUM(Total!M25) -> 34
A6: Adam | B6: Findlay | C6: =SUM([1]CENTRAL!C11) -> 4.5 | E6: =SUM(Total!M10) -> 35
A7: Frankie | B7: Perkin | C7: =SUM([1]CENTRAL!C32) -> 5 | E7: =SUM(Total!M31) -> 0
A8: Dan | B8: McLaughlin | C8: =SUM([1]CENTRAL!C28) -> 12.8 | D8: C | E8: =SUM(Total!M27)*2 -> 48
A9: Matt | B9: Irons | C9: =SUM([1]CENTRAL!C19) -> 6.46 | E9: =SUM(Total!M18) -> 30
A10: Will | B10: Hodgson | C10: =SUM([1]CENTRAL!C18) -> 5 | E10: =SUM(Total!M17) -> 73
A11: Gareth | B11: Goddard | C11: =SUM([1]CENTRAL!C13) -> 12.96 | E11: =SUM(Total!M12) -> 54
A12: Henry | B12: Swallow | C12: =SUM([1]CENTRAL!C38) -> 10.2 | E12: =SUM(Total!M37) -> 34
A13: Tony | B13: Bird | C13: =SUM([1]CENTRAL!C6) -> 16.49 | E13: =SUM(Total!M5) -> 190
A14: Gareth | B14: Tompkins | C14: =SUM([1]CENTRAL!C39) -> 13.17 | E14: =SUM(Total!M38) -> 0
E15: =SUM(E4:E14) -> 514
A16: =SUM(C19:C36) -> 4916
A18: Game Week | B18: Date Open | C18: Total
A19: 1 | B19: 41769 | C19: 537
A20: 2 | B20: 41776 | C20: 520
A21: 3 | B21: 41783
A22: 4 | B22: 41790 | C22: 715
A23: 5 | B23: 41797 | C23: 1004
A24: 6 | B24: 41804 | C24: 406
A25: 7 | B25: 41811 | C25: 606
A26: 8 | B26: 41818
A27: 9 | B27: 41825 | C27: 614
A28: 10 | B28: 41832 | C28: =SUM(E15) -> 514
A29: 11 | B29: 41839
A30: 12 | B30: 41846
A31: 13 | B31: 41853
A32: 14 | B32: 41860
A33: 15 | B33: 41867
A34: 16 | B34: 41874
A35: 17 | B35: 41881
A36: 18 | B36: 41888

Sheet MB
A1: Flock In Hell
A2: Mark Bird | E2: =SUM(C4:C14) -> 98.68 | F2: < What your squad is worth
A3: First Name | B3: Second Name | C3: Price
A4: Adam | B4: Findlay | C4: =SUM([1]CENTRAL!C11) -> 4.5 | E4: =SUM(Total!M10) -> 35 | F4: < What your squad got in GW10
A5: Dan | B5: McLaughlin | C5: =SUM([1]CENTRAL!C28) -> 12.8 | D5: C | E5: =SUM(Total!M27) -> 24
A6: Tony | B6: Bird | C6: =SUM([1]CENTRAL!C6) -> 16.49 | E6: =SUM(Total!M5)*2 -> 380
A7: Tom | B7: Smyth | C7: =SUM([1]CENTRAL!C37) -> 8.85 | E7: =SUM(Total!M36) -> 80
A8: Nick | B8: Lester | C8: =SUM([1]CENTRAL!C25) -> 9.54 | E8: =SUM(Total!M24) -> 92
A9: Tom | B9: Robinson | C9: 4.5 | E9: =SUM(Total!M42) -> 60
A10: Paul | B10: Browning | C10: =SUM([1]CENTRAL!C7) -> 7.76 | E10: =SUM(Total!M6) -> 0
A11: James | B11: Goodwin | C11: =SUM([1]CENTRAL!C15) -> 6.5 | E11: =SUM(Total!M14) -> 16
A12: Adam | B12: Longley | C12: =SUM([1]CENTRAL!C26) -> 6.5 | E12: =SUM(Total!M25) -> 34
A13: Will | B13: Hodgson | C13: =SUM([1]CENTRAL!C18) -> 5 | E13: =SUM(Total!M17) -> 73
A14: Jason | B14: Kruger | C14: =SUM([1]CENTRAL!C23) -> 16.24 | E14: =SUM(Total!M22) -> 114
E15: =SUM(E4:E14) -> 908
A16: =SUM(C19:C36) -> 5862
A18: Game Week | B18: Date Open | C18: Total
A19: 1 | B19: 41769 | C19: 820
A20: 2 | B20: 41776 | C20: 799
A21: 3 | B21: 41783
A22: 4 | B22: 41790 | C22: 742
A23: 5 | B23: 41797 | C23: 741
A24: 6 | B24: 41804 | C24: 475
A25: 7 | B25: 41811 | C25: 842
A26: 8 | B26: 41818
A27: 9 | B27: 41825 | C27: 535
A28: 10 | B28: 41832 | C28: =SUM(E15) -> 908
A29: 11 | B29: 41839
A30: 12 | B30: 41846
A31: 13 | B31: 41853
A32: 14 | B32: 41860
A33: 15 | B33: 41867
A34: 16 | B34: 41874
A35: 17 | B35: 41881
A36: 18 | B36: 41888
